BEGIN:VCALENDAR
VERSION:2.0
PRODID:-//CARE of Southeastern Michigan - ECPv6.15.20//NONSGML v1.0//EN
CALSCALE:GREGORIAN
METHOD:PUBLISH
X-ORIGINAL-URL:https://www.careofsem.com
X-WR-CALDESC:Events for CARE of Southeastern Michigan
REFRESH-INTERVAL;VALUE=DURATION:PT1H
X-Robots-Tag:noindex
X-PUBLISHED-TTL:PT1H
BEGIN:VTIMEZONE
TZID:America/Detroit
BEGIN:DAYLIGHT
TZOFFSETFROM:-0500
TZOFFSETTO:-0400
TZNAME:EDT
DTSTART:20250309T070000
END:DAYLIGHT
BEGIN:STANDARD
TZOFFSETFROM:-0400
TZOFFSETTO:-0500
TZNAME:EST
DTSTART:20251102T060000
END:STANDARD
BEGIN:DAYLIGHT
TZOFFSETFROM:-0500
TZOFFSETTO:-0400
TZNAME:EDT
DTSTART:20260308T070000
END:DAYLIGHT
BEGIN:STANDARD
TZOFFSETFROM:-0400
TZOFFSETTO:-0500
TZNAME:EST
DTSTART:20261101T060000
END:STANDARD
BEGIN:DAYLIGHT
TZOFFSETFROM:-0500
TZOFFSETTO:-0400
TZNAME:EDT
DTSTART:20270314T070000
END:DAYLIGHT
BEGIN:STANDARD
TZOFFSETFROM:-0400
TZOFFSETTO:-0500
TZNAME:EST
DTSTART:20271107T060000
END:STANDARD
END:VTIMEZONE
BEGIN:VEVENT
DTSTART;TZID=America/Detroit:20260709T173000
DTEND;TZID=America/Detroit:20260709T193000
DTSTAMP:20260420T192903
CREATED:20260303T183837Z
LAST-MODIFIED:20260303T183837Z
UID:10039834-1783618200-1783625400@www.careofsem.com
SUMMARY:Active Parenting - First Five Years Class 7/9/26 - 8/6/26
DESCRIPTION:This class does not meet court requirements \nThis five-week discussion group is designed for parents of children birth to 4 years of age to provide an exciting outlook on child-rearing in today’s world. Development\, understanding behavior\, communication\, building self-esteem\, and discipline that works are explored. This class is offered at the Warren Civic Center Library and runs every Thursday from 7/9/26 – 8/6/26\, 5:30 pm-7:30 pm. This is a FREE class with a book included. Register on this site and call CARE 586-541-2273 to make arrangements to pick up the book.
URL:https://www.careofsem.com/event/active-parenting-first-five-years-class-7-9-26-8-6-26/2026-07-09/
LOCATION:Warren Civic Center Library\, One City Square\, Suite 100\, Warren\, 48093\, United States
CATEGORIES:Classes & Groups,Parenting,Parenting Classes
END:VEVENT
BEGIN:VEVENT
DTSTART;TZID=America/Detroit:20260716T173000
DTEND;TZID=America/Detroit:20260716T193000
DTSTAMP:20260420T192903
CREATED:20260303T183837Z
LAST-MODIFIED:20260303T183837Z
UID:10039835-1784223000-1784230200@www.careofsem.com
SUMMARY:Active Parenting - First Five Years Class 7/9/26 - 8/6/26
DESCRIPTION:This class does not meet court requirements \nThis five-week discussion group is designed for parents of children birth to 4 years of age to provide an exciting outlook on child-rearing in today’s world. Development\, understanding behavior\, communication\, building self-esteem\, and discipline that works are explored. This class is offered at the Warren Civic Center Library and runs every Thursday from 7/9/26 – 8/6/26\, 5:30 pm-7:30 pm. This is a FREE class with a book included. Register on this site and call CARE 586-541-2273 to make arrangements to pick up the book.
URL:https://www.careofsem.com/event/active-parenting-first-five-years-class-7-9-26-8-6-26/2026-07-16/
LOCATION:Warren Civic Center Library\, One City Square\, Suite 100\, Warren\, 48093\, United States
CATEGORIES:Classes & Groups,Parenting,Parenting Classes
END:VEVENT
BEGIN:VEVENT
DTSTART;TZID=America/Detroit:20260723T173000
DTEND;TZID=America/Detroit:20260723T193000
DTSTAMP:20260420T192903
CREATED:20260303T183837Z
LAST-MODIFIED:20260303T183837Z
UID:10039836-1784827800-1784835000@www.careofsem.com
SUMMARY:Active Parenting - First Five Years Class 7/9/26 - 8/6/26
DESCRIPTION:This class does not meet court requirements \nThis five-week discussion group is designed for parents of children birth to 4 years of age to provide an exciting outlook on child-rearing in today’s world. Development\, understanding behavior\, communication\, building self-esteem\, and discipline that works are explored. This class is offered at the Warren Civic Center Library and runs every Thursday from 7/9/26 – 8/6/26\, 5:30 pm-7:30 pm. This is a FREE class with a book included. Register on this site and call CARE 586-541-2273 to make arrangements to pick up the book.
URL:https://www.careofsem.com/event/active-parenting-first-five-years-class-7-9-26-8-6-26/2026-07-23/
LOCATION:Warren Civic Center Library\, One City Square\, Suite 100\, Warren\, 48093\, United States
CATEGORIES:Classes & Groups,Parenting,Parenting Classes
END:VEVENT
BEGIN:VEVENT
DTSTART;TZID=America/Detroit:20260730T173000
DTEND;TZID=America/Detroit:20260730T193000
DTSTAMP:20260420T192903
CREATED:20260303T183837Z
LAST-MODIFIED:20260303T183837Z
UID:10039837-1785432600-1785439800@www.careofsem.com
SUMMARY:Active Parenting - First Five Years Class 7/9/26 - 8/6/26
DESCRIPTION:This class does not meet court requirements \nThis five-week discussion group is designed for parents of children birth to 4 years of age to provide an exciting outlook on child-rearing in today’s world. Development\, understanding behavior\, communication\, building self-esteem\, and discipline that works are explored. This class is offered at the Warren Civic Center Library and runs every Thursday from 7/9/26 – 8/6/26\, 5:30 pm-7:30 pm. This is a FREE class with a book included. Register on this site and call CARE 586-541-2273 to make arrangements to pick up the book.
URL:https://www.careofsem.com/event/active-parenting-first-five-years-class-7-9-26-8-6-26/2026-07-30/
LOCATION:Warren Civic Center Library\, One City Square\, Suite 100\, Warren\, 48093\, United States
CATEGORIES:Classes & Groups,Parenting,Parenting Classes
END:VEVENT
BEGIN:VEVENT
DTSTART;TZID=America/Detroit:20260806T173000
DTEND;TZID=America/Detroit:20260806T193000
DTSTAMP:20260420T192903
CREATED:20260303T183837Z
LAST-MODIFIED:20260303T183837Z
UID:10039838-1786037400-1786044600@www.careofsem.com
SUMMARY:Active Parenting - First Five Years Class 7/9/26 - 8/6/26
DESCRIPTION:This class does not meet court requirements \nThis five-week discussion group is designed for parents of children birth to 4 years of age to provide an exciting outlook on child-rearing in today’s world. Development\, understanding behavior\, communication\, building self-esteem\, and discipline that works are explored. This class is offered at the Warren Civic Center Library and runs every Thursday from 7/9/26 – 8/6/26\, 5:30 pm-7:30 pm. This is a FREE class with a book included. Register on this site and call CARE 586-541-2273 to make arrangements to pick up the book.
URL:https://www.careofsem.com/event/active-parenting-first-five-years-class-7-9-26-8-6-26/2026-08-06/
LOCATION:Warren Civic Center Library\, One City Square\, Suite 100\, Warren\, 48093\, United States
CATEGORIES:Classes & Groups,Parenting,Parenting Classes
END:VEVENT
END:VCALENDAR