BEGIN:VCALENDAR
VERSION:2.0
PRODID:-//CARE of Southeastern Michigan - ECPv6.15.20//NONSGML v1.0//EN
CALSCALE:GREGORIAN
METHOD:PUBLISH
X-WR-CALNAME:CARE of Southeastern Michigan
X-ORIGINAL-URL:https://www.careofsem.com
X-WR-CALDESC:Events for CARE of Southeastern Michigan
REFRESH-INTERVAL;VALUE=DURATION:PT1H
X-Robots-Tag:noindex
X-PUBLISHED-TTL:PT1H
BEGIN:VTIMEZONE
TZID:America/Detroit
BEGIN:DAYLIGHT
TZOFFSETFROM:-0500
TZOFFSETTO:-0400
TZNAME:EDT
DTSTART:20240310T070000
END:DAYLIGHT
BEGIN:STANDARD
TZOFFSETFROM:-0400
TZOFFSETTO:-0500
TZNAME:EST
DTSTART:20241103T060000
END:STANDARD
BEGIN:DAYLIGHT
TZOFFSETFROM:-0500
TZOFFSETTO:-0400
TZNAME:EDT
DTSTART:20250309T070000
END:DAYLIGHT
BEGIN:STANDARD
TZOFFSETFROM:-0400
TZOFFSETTO:-0500
TZNAME:EST
DTSTART:20251102T060000
END:STANDARD
BEGIN:DAYLIGHT
TZOFFSETFROM:-0500
TZOFFSETTO:-0400
TZNAME:EDT
DTSTART:20260308T070000
END:DAYLIGHT
BEGIN:STANDARD
TZOFFSETFROM:-0400
TZOFFSETTO:-0500
TZNAME:EST
DTSTART:20261101T060000
END:STANDARD
BEGIN:DAYLIGHT
TZOFFSETFROM:-0500
TZOFFSETTO:-0400
TZNAME:EDT
DTSTART:20270314T070000
END:DAYLIGHT
BEGIN:STANDARD
TZOFFSETFROM:-0400
TZOFFSETTO:-0500
TZNAME:EST
DTSTART:20271107T060000
END:STANDARD
END:VTIMEZONE
BEGIN:VEVENT
DTSTART;TZID=America/Detroit:20260420T100000
DTEND;TZID=America/Detroit:20260420T120000
DTSTAMP:20260420T164747
CREATED:20260303T190734Z
LAST-MODIFIED:20260303T190734Z
UID:10039882-1776679200-1776686400@www.careofsem.com
SUMMARY:Active Parenting - School Age Class 4/6/26 - 5/11/26
DESCRIPTION:This class does not meet court requirements. Join other parents of elementary-age children at this\, six-week discussion group for ideas\, support\, laughter\, and encouragement. Discuss ways to understand behavior\, build self-esteem\, increase cooperation\, and provide discipline that teaches personal responsibility\, emphasizing the hot topics of School Success and Alcohol\, Tobacco\, and other drugs. This class runs every Monday from 4/6/26 – 5/11/26\, 10:00am – Noon\, held at the Mt. Clemens Public Library. This is a free class with the book included. Register on this site and call CARE 586-541-2273 to arrange to pick up the book. \n 
URL:https://www.careofsem.com/event/active-parenting-school-age-class-4-6-26-5-11-26/2026-04-20/
LOCATION:Mt. Clemens Public Library\, 150 Cass Avenue\, Mt. Clemens\, MI\, 48043\, United States
CATEGORIES:Classes & Groups,Parenting,Parenting Classes
END:VEVENT
BEGIN:VEVENT
DTSTART;TZID=America/Detroit:20260416T100000
DTEND;TZID=America/Detroit:20260416T120000
DTSTAMP:20260420T164747
CREATED:20260303T190108Z
LAST-MODIFIED:20260303T190108Z
UID:10039869-1776333600-1776340800@www.careofsem.com
SUMMARY:Active Parenting - First Five Years Class 4/9/26 - 5/7/26
DESCRIPTION:This class does not meet court requirements \nThis five-week discussion group is designed for parents of children birth to 4 years of age to provide an exciting outlook on child-rearing in today’s world. Development\, understanding behavior\, communication\, building self-esteem\, and discipline that works are explored. This class is offered at the Mt. Clemens Public Library and runs every Thursday from 4/9/26 – 5/7/26\, 10:00 am-Noon. This is a FREE class with a book included. Register on this site and call CARE 586-541-2273 to make arrangements to pick up the book.
URL:https://www.careofsem.com/event/active-parenting-first-five-years-class-4-9-26-5-7-26/2026-04-16/
LOCATION:Mt. Clemens Public Library\, 150 Cass Avenue\, Mt. Clemens\, MI\, 48043\, United States
CATEGORIES:Classes & Groups,Parenting,Parenting Classes
END:VEVENT
BEGIN:VEVENT
DTSTART;TZID=America/Detroit:20260413T100000
DTEND;TZID=America/Detroit:20260413T120000
DTSTAMP:20260420T164747
CREATED:20260303T190734Z
LAST-MODIFIED:20260303T190734Z
UID:10039881-1776074400-1776081600@www.careofsem.com
SUMMARY:Active Parenting - School Age Class 4/6/26 - 5/11/26
DESCRIPTION:This class does not meet court requirements. Join other parents of elementary-age children at this\, six-week discussion group for ideas\, support\, laughter\, and encouragement. Discuss ways to understand behavior\, build self-esteem\, increase cooperation\, and provide discipline that teaches personal responsibility\, emphasizing the hot topics of School Success and Alcohol\, Tobacco\, and other drugs. This class runs every Monday from 4/6/26 – 5/11/26\, 10:00am – Noon\, held at the Mt. Clemens Public Library. This is a free class with the book included. Register on this site and call CARE 586-541-2273 to arrange to pick up the book. \n 
URL:https://www.careofsem.com/event/active-parenting-school-age-class-4-6-26-5-11-26/2026-04-13/
LOCATION:Mt. Clemens Public Library\, 150 Cass Avenue\, Mt. Clemens\, MI\, 48043\, United States
CATEGORIES:Classes & Groups,Parenting,Parenting Classes
END:VEVENT
BEGIN:VEVENT
DTSTART;TZID=America/Detroit:20260409T100000
DTEND;TZID=America/Detroit:20260409T120000
DTSTAMP:20260420T164747
CREATED:20260303T190108Z
LAST-MODIFIED:20260303T190108Z
UID:10039868-1775728800-1775736000@www.careofsem.com
SUMMARY:Active Parenting - First Five Years Class 4/9/26 - 5/7/26
DESCRIPTION:This class does not meet court requirements \nThis five-week discussion group is designed for parents of children birth to 4 years of age to provide an exciting outlook on child-rearing in today’s world. Development\, understanding behavior\, communication\, building self-esteem\, and discipline that works are explored. This class is offered at the Mt. Clemens Public Library and runs every Thursday from 4/9/26 – 5/7/26\, 10:00 am-Noon. This is a FREE class with a book included. Register on this site and call CARE 586-541-2273 to make arrangements to pick up the book.
URL:https://www.careofsem.com/event/active-parenting-first-five-years-class-4-9-26-5-7-26/2026-04-09/
LOCATION:Mt. Clemens Public Library\, 150 Cass Avenue\, Mt. Clemens\, MI\, 48043\, United States
CATEGORIES:Classes & Groups,Parenting,Parenting Classes
END:VEVENT
BEGIN:VEVENT
DTSTART;TZID=America/Detroit:20260406T100000
DTEND;TZID=America/Detroit:20260406T120000
DTSTAMP:20260420T164747
CREATED:20260303T190734Z
LAST-MODIFIED:20260303T190734Z
UID:10039880-1775469600-1775476800@www.careofsem.com
SUMMARY:Active Parenting - School Age Class 4/6/26 - 5/11/26
DESCRIPTION:This class does not meet court requirements. Join other parents of elementary-age children at this\, six-week discussion group for ideas\, support\, laughter\, and encouragement. Discuss ways to understand behavior\, build self-esteem\, increase cooperation\, and provide discipline that teaches personal responsibility\, emphasizing the hot topics of School Success and Alcohol\, Tobacco\, and other drugs. This class runs every Monday from 4/6/26 – 5/11/26\, 10:00am – Noon\, held at the Mt. Clemens Public Library. This is a free class with the book included. Register on this site and call CARE 586-541-2273 to arrange to pick up the book. \n 
URL:https://www.careofsem.com/event/active-parenting-school-age-class-4-6-26-5-11-26/2026-04-06/
LOCATION:Mt. Clemens Public Library\, 150 Cass Avenue\, Mt. Clemens\, MI\, 48043\, United States
CATEGORIES:Classes & Groups,Parenting,Parenting Classes
END:VEVENT
BEGIN:VEVENT
DTSTART;TZID=America/Detroit:20251218T103000
DTEND;TZID=America/Detroit:20251218T123000
DTSTAMP:20260420T164747
CREATED:20250818T170936Z
LAST-MODIFIED:20251103T154333Z
UID:10038897-1766053800-1766061000@www.careofsem.com
SUMMARY:First Five Years parenting class 11/13/25 - 12/18/25
DESCRIPTION:This class does not meet court requirements \nThis five-week discussion group is designed for parents of children birth to 4 years of age to provide an exciting outlook on child-rearing in today’s world. Development\, understanding behavior\, communication\, building self-esteem\, and discipline that works are explored. This class runs every Thursday from November 13th – December 18th\, 10:30am-12:30 pm. This is a FREE class with a book included. Register on this site and call CARE 586-541-2273 to make arrangements to pick up the book.
URL:https://www.careofsem.com/event/first-five-years-parenting-class-11-13-12-18-2025/2025-12-18/
LOCATION:Mt. Clemens Public Library\, 150 Cass Avenue\, Mt. Clemens\, MI\, 48043\, United States
CATEGORIES:Classes & Groups,Parenting,Parenting Classes
END:VEVENT
BEGIN:VEVENT
DTSTART;TZID=America/Detroit:20251211T103000
DTEND;TZID=America/Detroit:20251211T123000
DTSTAMP:20260420T164747
CREATED:20250818T170936Z
LAST-MODIFIED:20251103T154333Z
UID:10035613-1765449000-1765456200@www.careofsem.com
SUMMARY:First Five Years parenting class 11/13/25 - 12/18/25
DESCRIPTION:This class does not meet court requirements \nThis five-week discussion group is designed for parents of children birth to 4 years of age to provide an exciting outlook on child-rearing in today’s world. Development\, understanding behavior\, communication\, building self-esteem\, and discipline that works are explored. This class runs every Thursday from November 13th – December 18th\, 10:30am-12:30 pm. This is a FREE class with a book included. Register on this site and call CARE 586-541-2273 to make arrangements to pick up the book.
URL:https://www.careofsem.com/event/first-five-years-parenting-class-11-13-12-18-2025/2025-12-11/
LOCATION:Mt. Clemens Public Library\, 150 Cass Avenue\, Mt. Clemens\, MI\, 48043\, United States
CATEGORIES:Classes & Groups,Parenting,Parenting Classes
END:VEVENT
BEGIN:VEVENT
DTSTART;TZID=America/Detroit:20251204T103000
DTEND;TZID=America/Detroit:20251204T123000
DTSTAMP:20260420T164747
CREATED:20250818T170936Z
LAST-MODIFIED:20251103T154333Z
UID:10035612-1764844200-1764851400@www.careofsem.com
SUMMARY:First Five Years parenting class 11/13/25 - 12/18/25
DESCRIPTION:This class does not meet court requirements \nThis five-week discussion group is designed for parents of children birth to 4 years of age to provide an exciting outlook on child-rearing in today’s world. Development\, understanding behavior\, communication\, building self-esteem\, and discipline that works are explored. This class runs every Thursday from November 13th – December 18th\, 10:30am-12:30 pm. This is a FREE class with a book included. Register on this site and call CARE 586-541-2273 to make arrangements to pick up the book.
URL:https://www.careofsem.com/event/first-five-years-parenting-class-11-13-12-18-2025/2025-12-04/
LOCATION:Mt. Clemens Public Library\, 150 Cass Avenue\, Mt. Clemens\, MI\, 48043\, United States
CATEGORIES:Classes & Groups,Parenting,Parenting Classes
END:VEVENT
BEGIN:VEVENT
DTSTART;TZID=America/Detroit:20251127T103000
DTEND;TZID=America/Detroit:20251127T123000
DTSTAMP:20260420T164747
CREATED:20250818T170936Z
LAST-MODIFIED:20251103T154333Z
UID:10035611-1764239400-1764246600@www.careofsem.com
SUMMARY:First Five Years parenting class 11/13/25 - 12/18/25
DESCRIPTION:This class does not meet court requirements \nThis five-week discussion group is designed for parents of children birth to 4 years of age to provide an exciting outlook on child-rearing in today’s world. Development\, understanding behavior\, communication\, building self-esteem\, and discipline that works are explored. This class runs every Thursday from November 13th – December 18th\, 10:30am-12:30 pm. This is a FREE class with a book included. Register on this site and call CARE 586-541-2273 to make arrangements to pick up the book.
URL:https://www.careofsem.com/event/first-five-years-parenting-class-11-13-12-18-2025/2025-11-27/
LOCATION:Mt. Clemens Public Library\, 150 Cass Avenue\, Mt. Clemens\, MI\, 48043\, United States
CATEGORIES:Classes & Groups,Parenting,Parenting Classes
END:VEVENT
BEGIN:VEVENT
DTSTART;TZID=America/Detroit:20251120T103000
DTEND;TZID=America/Detroit:20251120T123000
DTSTAMP:20260420T164747
CREATED:20250818T170936Z
LAST-MODIFIED:20251103T154333Z
UID:10035610-1763634600-1763641800@www.careofsem.com
SUMMARY:First Five Years parenting class 11/13/25 - 12/18/25
DESCRIPTION:This class does not meet court requirements \nThis five-week discussion group is designed for parents of children birth to 4 years of age to provide an exciting outlook on child-rearing in today’s world. Development\, understanding behavior\, communication\, building self-esteem\, and discipline that works are explored. This class runs every Thursday from November 13th – December 18th\, 10:30am-12:30 pm. This is a FREE class with a book included. Register on this site and call CARE 586-541-2273 to make arrangements to pick up the book.
URL:https://www.careofsem.com/event/first-five-years-parenting-class-11-13-12-18-2025/2025-11-20/
LOCATION:Mt. Clemens Public Library\, 150 Cass Avenue\, Mt. Clemens\, MI\, 48043\, United States
CATEGORIES:Classes & Groups,Parenting,Parenting Classes
END:VEVENT
BEGIN:VEVENT
DTSTART;TZID=America/Detroit:20251113T103000
DTEND;TZID=America/Detroit:20251113T123000
DTSTAMP:20260420T164747
CREATED:20250818T170936Z
LAST-MODIFIED:20251103T154333Z
UID:10035276-1763029800-1763037000@www.careofsem.com
SUMMARY:First Five Years parenting class 11/13/25 - 12/18/25
DESCRIPTION:This class does not meet court requirements \nThis five-week discussion group is designed for parents of children birth to 4 years of age to provide an exciting outlook on child-rearing in today’s world. Development\, understanding behavior\, communication\, building self-esteem\, and discipline that works are explored. This class runs every Thursday from November 13th – December 18th\, 10:30am-12:30 pm. This is a FREE class with a book included. Register on this site and call CARE 586-541-2273 to make arrangements to pick up the book.
URL:https://www.careofsem.com/event/first-five-years-parenting-class-11-13-12-18-2025/2025-11-13/
LOCATION:Mt. Clemens Public Library\, 150 Cass Avenue\, Mt. Clemens\, MI\, 48043\, United States
CATEGORIES:Classes & Groups,Parenting,Parenting Classes
END:VEVENT
BEGIN:VEVENT
DTSTART;TZID=America/Detroit:20251002T103000
DTEND;TZID=America/Detroit:20251030T123000
DTSTAMP:20260420T164747
CREATED:20250818T165835Z
LAST-MODIFIED:20250910T123643Z
UID:10035275-1759401000-1761827400@www.careofsem.com
SUMMARY:First Five Years parenting class 10/2/25 - 10/30/25
DESCRIPTION:This class does not meet court requirements \nThis\, five-week discussion group is designed for parents of children birth to 4 years of age to provide an exciting outlook on child-rearing in today’s world. Development\, understanding behavior\, communication\, building self-esteem\, and discipline that works are explored. This class runs every Thursday from October  2nd – October 30th\, 10:30am – 12:30 pm. This is a FREE class with a book included. Register on this site and call CARE 586-541-2273 to make arrangements to pick up the book.
URL:https://www.careofsem.com/event/first-five-years-parenting-class-10-2-10-30-25/
LOCATION:Mt. Clemens Public Library\, 150 Cass Avenue\, Mt. Clemens\, MI\, 48043\, United States
CATEGORIES:Classes & Groups,Parenting,Parenting Classes
END:VEVENT
END:VCALENDAR