BEGIN:VCALENDAR
VERSION:2.0
PRODID:-//CARE of Southeastern Michigan - ECPv6.15.20//NONSGML v1.0//EN
CALSCALE:GREGORIAN
METHOD:PUBLISH
X-WR-CALNAME:CARE of Southeastern Michigan
X-ORIGINAL-URL:https://www.careofsem.com
X-WR-CALDESC:Events for CARE of Southeastern Michigan
REFRESH-INTERVAL;VALUE=DURATION:PT1H
X-Robots-Tag:noindex
X-PUBLISHED-TTL:PT1H
BEGIN:VTIMEZONE
TZID:UTC
BEGIN:STANDARD
TZOFFSETFROM:+0000
TZOFFSETTO:+0000
TZNAME:UTC
DTSTART:20180101T000000
END:STANDARD
END:VTIMEZONE
BEGIN:VEVENT
DTSTART;TZID=UTC:20191206T090000
DTEND;TZID=UTC:20200105T170000
DTSTAMP:20260422T051237
CREATED:20191126T020226Z
LAST-MODIFIED:20191126T021914Z
UID:10014193-1575622800-1578243600@www.careofsem.com
SUMMARY:11th Annual Community Group Art Exhibition
DESCRIPTION:Featuring works from CARE of Southeastern Michigan\, Grace Centers of Hope\, Hannan Center\, Mariners Inn\, Oakland Livingston Human Service Agency (OLHSA)\, Piquette Square for Veterans\, The John D. Dingell VA Medical Center\, Tri-County Veterans. \nThe DIA art studio has proudly partnered with social service agencies throughout southeast Michigan for more than 20 years\, providing a  safe\, nurturing environment for creative expression and socialization while building positive relationships within their group and the wider community. \n  \nOpening Receptions for the Artists\nThursday\, December 5: Noon-2pm \n  \nFree with  Museum Admission\nGeneral Museum Admission is always FREE for residents of Macomb\, Oakland and Wayne counties. \n  \nMuseum Hours\nTuesday-Thursday: 9am-4pm\nFriday: 9am-10pm\nSaturday-Sunday: 10am-5pm\nMonday: CLOSED \n  \nParking\nThere is a lighted\, secure parking lot behind the museum between Brush St and John R. Cost is $7. \n  \nView Event Flyer
URL:https://www.careofsem.com/event/11th-annual-community-group-art-exhibition/
LOCATION:DIA\, 5200 Woodward Ave\, Detroit\, MI\, 48202\, United States
CATEGORIES:Events
GEO:42.3594422;-83.0643655
X-APPLE-STRUCTURED-LOCATION;VALUE=URI;X-ADDRESS=DIA 5200 Woodward Ave Detroit MI 48202 United States;X-APPLE-RADIUS=500;X-TITLE=5200 Woodward Ave:geo:-83.0643655,42.3594422
END:VEVENT
END:VCALENDAR