BEGIN:VCALENDAR
VERSION:2.0
PRODID:-//CARE of Southeastern Michigan - ECPv6.15.20//NONSGML v1.0//EN
CALSCALE:GREGORIAN
METHOD:PUBLISH
X-ORIGINAL-URL:https://www.careofsem.com
X-WR-CALDESC:Events for CARE of Southeastern Michigan
REFRESH-INTERVAL;VALUE=DURATION:PT1H
X-Robots-Tag:noindex
X-PUBLISHED-TTL:PT1H
BEGIN:VTIMEZONE
TZID:UTC
BEGIN:STANDARD
TZOFFSETFROM:+0000
TZOFFSETTO:+0000
TZNAME:UTC
DTSTART:20250101T000000
END:STANDARD
END:VTIMEZONE
BEGIN:VEVENT
DTSTART;TZID=UTC:20260427T130000
DTEND;TZID=UTC:20260427T140000
DTSTAMP:20260420T190720
CREATED:20191127T001158Z
LAST-MODIFIED:20231110T193427Z
UID:10027371-1777294800-1777298400@www.careofsem.com
SUMMARY:Warren Center Line Prevention Coalition
DESCRIPTION:Warren-Center Line Prevention Coalition\nMeeting: Virtually- 4th Monday of month\, 1:00 PM\nChair: Irene Salem\, Judson Center\nContact: wcpc4change@gmail.com and Jade Cruz\, Preventionist at CARE of Southeastern Michigan\, 586-765-2654 or Jcruz@careofsem.com\nWebsite: www.facebook.com/WCPC4CHANGE
URL:https://www.careofsem.com/event/warren-center-line-prevention-coalition-2020-03-23/2026-04-27/
CATEGORIES:Advocacy,Classes & Groups
ORGANIZER;CN="Jade Cruz":MAILTO:jcruz@careofsem.com
END:VEVENT
BEGIN:VEVENT
DTSTART;TZID=UTC:20260525T130000
DTEND;TZID=UTC:20260525T140000
DTSTAMP:20260420T190720
CREATED:20191127T001158Z
LAST-MODIFIED:20231110T193427Z
UID:10027372-1779714000-1779717600@www.careofsem.com
SUMMARY:Warren Center Line Prevention Coalition
DESCRIPTION:Warren-Center Line Prevention Coalition\nMeeting: Virtually- 4th Monday of month\, 1:00 PM\nChair: Irene Salem\, Judson Center\nContact: wcpc4change@gmail.com and Jade Cruz\, Preventionist at CARE of Southeastern Michigan\, 586-765-2654 or Jcruz@careofsem.com\nWebsite: www.facebook.com/WCPC4CHANGE
URL:https://www.careofsem.com/event/warren-center-line-prevention-coalition-2020-03-23/2026-05-25/
CATEGORIES:Advocacy,Classes & Groups
ORGANIZER;CN="Jade Cruz":MAILTO:jcruz@careofsem.com
END:VEVENT
BEGIN:VEVENT
DTSTART;TZID=UTC:20260622T130000
DTEND;TZID=UTC:20260622T140000
DTSTAMP:20260420T190720
CREATED:20191127T001158Z
LAST-MODIFIED:20231110T193427Z
UID:10027373-1782133200-1782136800@www.careofsem.com
SUMMARY:Warren Center Line Prevention Coalition
DESCRIPTION:Warren-Center Line Prevention Coalition\nMeeting: Virtually- 4th Monday of month\, 1:00 PM\nChair: Irene Salem\, Judson Center\nContact: wcpc4change@gmail.com and Jade Cruz\, Preventionist at CARE of Southeastern Michigan\, 586-765-2654 or Jcruz@careofsem.com\nWebsite: www.facebook.com/WCPC4CHANGE
URL:https://www.careofsem.com/event/warren-center-line-prevention-coalition-2020-03-23/2026-06-22/
CATEGORIES:Advocacy,Classes & Groups
ORGANIZER;CN="Jade Cruz":MAILTO:jcruz@careofsem.com
END:VEVENT
BEGIN:VEVENT
DTSTART;TZID=UTC:20260727T130000
DTEND;TZID=UTC:20260727T140000
DTSTAMP:20260420T190720
CREATED:20191127T001158Z
LAST-MODIFIED:20231110T193427Z
UID:10027374-1785157200-1785160800@www.careofsem.com
SUMMARY:Warren Center Line Prevention Coalition
DESCRIPTION:Warren-Center Line Prevention Coalition\nMeeting: Virtually- 4th Monday of month\, 1:00 PM\nChair: Irene Salem\, Judson Center\nContact: wcpc4change@gmail.com and Jade Cruz\, Preventionist at CARE of Southeastern Michigan\, 586-765-2654 or Jcruz@careofsem.com\nWebsite: www.facebook.com/WCPC4CHANGE
URL:https://www.careofsem.com/event/warren-center-line-prevention-coalition-2020-03-23/2026-07-27/
CATEGORIES:Advocacy,Classes & Groups
ORGANIZER;CN="Jade Cruz":MAILTO:jcruz@careofsem.com
END:VEVENT
BEGIN:VEVENT
DTSTART;TZID=UTC:20260824T130000
DTEND;TZID=UTC:20260824T140000
DTSTAMP:20260420T190720
CREATED:20191127T001158Z
LAST-MODIFIED:20231110T193427Z
UID:10027375-1787576400-1787580000@www.careofsem.com
SUMMARY:Warren Center Line Prevention Coalition
DESCRIPTION:Warren-Center Line Prevention Coalition\nMeeting: Virtually- 4th Monday of month\, 1:00 PM\nChair: Irene Salem\, Judson Center\nContact: wcpc4change@gmail.com and Jade Cruz\, Preventionist at CARE of Southeastern Michigan\, 586-765-2654 or Jcruz@careofsem.com\nWebsite: www.facebook.com/WCPC4CHANGE
URL:https://www.careofsem.com/event/warren-center-line-prevention-coalition-2020-03-23/2026-08-24/
CATEGORIES:Advocacy,Classes & Groups
ORGANIZER;CN="Jade Cruz":MAILTO:jcruz@careofsem.com
END:VEVENT
BEGIN:VEVENT
DTSTART;TZID=UTC:20260928T130000
DTEND;TZID=UTC:20260928T140000
DTSTAMP:20260420T190720
CREATED:20191127T001158Z
LAST-MODIFIED:20231110T193427Z
UID:10027376-1790600400-1790604000@www.careofsem.com
SUMMARY:Warren Center Line Prevention Coalition
DESCRIPTION:Warren-Center Line Prevention Coalition\nMeeting: Virtually- 4th Monday of month\, 1:00 PM\nChair: Irene Salem\, Judson Center\nContact: wcpc4change@gmail.com and Jade Cruz\, Preventionist at CARE of Southeastern Michigan\, 586-765-2654 or Jcruz@careofsem.com\nWebsite: www.facebook.com/WCPC4CHANGE
URL:https://www.careofsem.com/event/warren-center-line-prevention-coalition-2020-03-23/2026-09-28/
CATEGORIES:Advocacy,Classes & Groups
ORGANIZER;CN="Jade Cruz":MAILTO:jcruz@careofsem.com
END:VEVENT
BEGIN:VEVENT
DTSTART;TZID=UTC:20261026T130000
DTEND;TZID=UTC:20261026T140000
DTSTAMP:20260420T190720
CREATED:20191127T001158Z
LAST-MODIFIED:20231110T193427Z
UID:10027377-1793019600-1793023200@www.careofsem.com
SUMMARY:Warren Center Line Prevention Coalition
DESCRIPTION:Warren-Center Line Prevention Coalition\nMeeting: Virtually- 4th Monday of month\, 1:00 PM\nChair: Irene Salem\, Judson Center\nContact: wcpc4change@gmail.com and Jade Cruz\, Preventionist at CARE of Southeastern Michigan\, 586-765-2654 or Jcruz@careofsem.com\nWebsite: www.facebook.com/WCPC4CHANGE
URL:https://www.careofsem.com/event/warren-center-line-prevention-coalition-2020-03-23/2026-10-26/
CATEGORIES:Advocacy,Classes & Groups
ORGANIZER;CN="Jade Cruz":MAILTO:jcruz@careofsem.com
END:VEVENT
BEGIN:VEVENT
DTSTART;TZID=UTC:20261123T130000
DTEND;TZID=UTC:20261123T140000
DTSTAMP:20260420T190720
CREATED:20191127T001158Z
LAST-MODIFIED:20231110T193427Z
UID:10027378-1795438800-1795442400@www.careofsem.com
SUMMARY:Warren Center Line Prevention Coalition
DESCRIPTION:Warren-Center Line Prevention Coalition\nMeeting: Virtually- 4th Monday of month\, 1:00 PM\nChair: Irene Salem\, Judson Center\nContact: wcpc4change@gmail.com and Jade Cruz\, Preventionist at CARE of Southeastern Michigan\, 586-765-2654 or Jcruz@careofsem.com\nWebsite: www.facebook.com/WCPC4CHANGE
URL:https://www.careofsem.com/event/warren-center-line-prevention-coalition-2020-03-23/2026-11-23/
CATEGORIES:Advocacy,Classes & Groups
ORGANIZER;CN="Jade Cruz":MAILTO:jcruz@careofsem.com
END:VEVENT
BEGIN:VEVENT
DTSTART;TZID=UTC:20261228T130000
DTEND;TZID=UTC:20261228T140000
DTSTAMP:20260420T190720
CREATED:20191127T001158Z
LAST-MODIFIED:20231110T193427Z
UID:10027379-1798462800-1798466400@www.careofsem.com
SUMMARY:Warren Center Line Prevention Coalition
DESCRIPTION:Warren-Center Line Prevention Coalition\nMeeting: Virtually- 4th Monday of month\, 1:00 PM\nChair: Irene Salem\, Judson Center\nContact: wcpc4change@gmail.com and Jade Cruz\, Preventionist at CARE of Southeastern Michigan\, 586-765-2654 or Jcruz@careofsem.com\nWebsite: www.facebook.com/WCPC4CHANGE
URL:https://www.careofsem.com/event/warren-center-line-prevention-coalition-2020-03-23/2026-12-28/
CATEGORIES:Advocacy,Classes & Groups
ORGANIZER;CN="Jade Cruz":MAILTO:jcruz@careofsem.com
END:VEVENT
BEGIN:VEVENT
DTSTART;TZID=UTC:20270125T130000
DTEND;TZID=UTC:20270125T140000
DTSTAMP:20260420T190720
CREATED:20191127T001158Z
LAST-MODIFIED:20231110T193427Z
UID:10027380-1800882000-1800885600@www.careofsem.com
SUMMARY:Warren Center Line Prevention Coalition
DESCRIPTION:Warren-Center Line Prevention Coalition\nMeeting: Virtually- 4th Monday of month\, 1:00 PM\nChair: Irene Salem\, Judson Center\nContact: wcpc4change@gmail.com and Jade Cruz\, Preventionist at CARE of Southeastern Michigan\, 586-765-2654 or Jcruz@careofsem.com\nWebsite: www.facebook.com/WCPC4CHANGE
URL:https://www.careofsem.com/event/warren-center-line-prevention-coalition-2020-03-23/2027-01-25/
CATEGORIES:Advocacy,Classes & Groups
ORGANIZER;CN="Jade Cruz":MAILTO:jcruz@careofsem.com
END:VEVENT
BEGIN:VEVENT
DTSTART;TZID=UTC:20270222T130000
DTEND;TZID=UTC:20270222T140000
DTSTAMP:20260420T190720
CREATED:20191127T001158Z
LAST-MODIFIED:20231110T193427Z
UID:10027381-1803301200-1803304800@www.careofsem.com
SUMMARY:Warren Center Line Prevention Coalition
DESCRIPTION:Warren-Center Line Prevention Coalition\nMeeting: Virtually- 4th Monday of month\, 1:00 PM\nChair: Irene Salem\, Judson Center\nContact: wcpc4change@gmail.com and Jade Cruz\, Preventionist at CARE of Southeastern Michigan\, 586-765-2654 or Jcruz@careofsem.com\nWebsite: www.facebook.com/WCPC4CHANGE
URL:https://www.careofsem.com/event/warren-center-line-prevention-coalition-2020-03-23/2027-02-22/
CATEGORIES:Advocacy,Classes & Groups
ORGANIZER;CN="Jade Cruz":MAILTO:jcruz@careofsem.com
END:VEVENT
BEGIN:VEVENT
DTSTART;TZID=UTC:20270322T130000
DTEND;TZID=UTC:20270322T140000
DTSTAMP:20260420T190720
CREATED:20191127T001158Z
LAST-MODIFIED:20231110T193427Z
UID:10027382-1805720400-1805724000@www.careofsem.com
SUMMARY:Warren Center Line Prevention Coalition
DESCRIPTION:Warren-Center Line Prevention Coalition\nMeeting: Virtually- 4th Monday of month\, 1:00 PM\nChair: Irene Salem\, Judson Center\nContact: wcpc4change@gmail.com and Jade Cruz\, Preventionist at CARE of Southeastern Michigan\, 586-765-2654 or Jcruz@careofsem.com\nWebsite: www.facebook.com/WCPC4CHANGE
URL:https://www.careofsem.com/event/warren-center-line-prevention-coalition-2020-03-23/2027-03-22/
CATEGORIES:Advocacy,Classes & Groups
ORGANIZER;CN="Jade Cruz":MAILTO:jcruz@careofsem.com
END:VEVENT
BEGIN:VEVENT
DTSTART;TZID=UTC:20270426T130000
DTEND;TZID=UTC:20270426T140000
DTSTAMP:20260420T190720
CREATED:20191127T001158Z
LAST-MODIFIED:20231110T193427Z
UID:10027383-1808744400-1808748000@www.careofsem.com
SUMMARY:Warren Center Line Prevention Coalition
DESCRIPTION:Warren-Center Line Prevention Coalition\nMeeting: Virtually- 4th Monday of month\, 1:00 PM\nChair: Irene Salem\, Judson Center\nContact: wcpc4change@gmail.com and Jade Cruz\, Preventionist at CARE of Southeastern Michigan\, 586-765-2654 or Jcruz@careofsem.com\nWebsite: www.facebook.com/WCPC4CHANGE
URL:https://www.careofsem.com/event/warren-center-line-prevention-coalition-2020-03-23/2027-04-26/
CATEGORIES:Advocacy,Classes & Groups
ORGANIZER;CN="Jade Cruz":MAILTO:jcruz@careofsem.com
END:VEVENT
BEGIN:VEVENT
DTSTART;TZID=UTC:20270524T130000
DTEND;TZID=UTC:20270524T140000
DTSTAMP:20260420T190720
CREATED:20191127T001158Z
LAST-MODIFIED:20231110T193427Z
UID:10027384-1811163600-1811167200@www.careofsem.com
SUMMARY:Warren Center Line Prevention Coalition
DESCRIPTION:Warren-Center Line Prevention Coalition\nMeeting: Virtually- 4th Monday of month\, 1:00 PM\nChair: Irene Salem\, Judson Center\nContact: wcpc4change@gmail.com and Jade Cruz\, Preventionist at CARE of Southeastern Michigan\, 586-765-2654 or Jcruz@careofsem.com\nWebsite: www.facebook.com/WCPC4CHANGE
URL:https://www.careofsem.com/event/warren-center-line-prevention-coalition-2020-03-23/2027-05-24/
CATEGORIES:Advocacy,Classes & Groups
ORGANIZER;CN="Jade Cruz":MAILTO:jcruz@careofsem.com
END:VEVENT
BEGIN:VEVENT
DTSTART;TZID=UTC:20270628T130000
DTEND;TZID=UTC:20270628T140000
DTSTAMP:20260420T190720
CREATED:20191127T001158Z
LAST-MODIFIED:20231110T193427Z
UID:10027385-1814187600-1814191200@www.careofsem.com
SUMMARY:Warren Center Line Prevention Coalition
DESCRIPTION:Warren-Center Line Prevention Coalition\nMeeting: Virtually- 4th Monday of month\, 1:00 PM\nChair: Irene Salem\, Judson Center\nContact: wcpc4change@gmail.com and Jade Cruz\, Preventionist at CARE of Southeastern Michigan\, 586-765-2654 or Jcruz@careofsem.com\nWebsite: www.facebook.com/WCPC4CHANGE
URL:https://www.careofsem.com/event/warren-center-line-prevention-coalition-2020-03-23/2027-06-28/
CATEGORIES:Advocacy,Classes & Groups
ORGANIZER;CN="Jade Cruz":MAILTO:jcruz@careofsem.com
END:VEVENT
BEGIN:VEVENT
DTSTART;TZID=UTC:20270726T130000
DTEND;TZID=UTC:20270726T140000
DTSTAMP:20260420T190720
CREATED:20191127T001158Z
LAST-MODIFIED:20231110T193427Z
UID:10027386-1816606800-1816610400@www.careofsem.com
SUMMARY:Warren Center Line Prevention Coalition
DESCRIPTION:Warren-Center Line Prevention Coalition\nMeeting: Virtually- 4th Monday of month\, 1:00 PM\nChair: Irene Salem\, Judson Center\nContact: wcpc4change@gmail.com and Jade Cruz\, Preventionist at CARE of Southeastern Michigan\, 586-765-2654 or Jcruz@careofsem.com\nWebsite: www.facebook.com/WCPC4CHANGE
URL:https://www.careofsem.com/event/warren-center-line-prevention-coalition-2020-03-23/2027-07-26/
CATEGORIES:Advocacy,Classes & Groups
ORGANIZER;CN="Jade Cruz":MAILTO:jcruz@careofsem.com
END:VEVENT
BEGIN:VEVENT
DTSTART;TZID=UTC:20270823T130000
DTEND;TZID=UTC:20270823T140000
DTSTAMP:20260420T190720
CREATED:20191127T001158Z
LAST-MODIFIED:20231110T193427Z
UID:10027387-1819026000-1819029600@www.careofsem.com
SUMMARY:Warren Center Line Prevention Coalition
DESCRIPTION:Warren-Center Line Prevention Coalition\nMeeting: Virtually- 4th Monday of month\, 1:00 PM\nChair: Irene Salem\, Judson Center\nContact: wcpc4change@gmail.com and Jade Cruz\, Preventionist at CARE of Southeastern Michigan\, 586-765-2654 or Jcruz@careofsem.com\nWebsite: www.facebook.com/WCPC4CHANGE
URL:https://www.careofsem.com/event/warren-center-line-prevention-coalition-2020-03-23/2027-08-23/
CATEGORIES:Advocacy,Classes & Groups
ORGANIZER;CN="Jade Cruz":MAILTO:jcruz@careofsem.com
END:VEVENT
BEGIN:VEVENT
DTSTART;TZID=UTC:20270927T130000
DTEND;TZID=UTC:20270927T140000
DTSTAMP:20260420T190720
CREATED:20191127T001158Z
LAST-MODIFIED:20231110T193427Z
UID:10027388-1822050000-1822053600@www.careofsem.com
SUMMARY:Warren Center Line Prevention Coalition
DESCRIPTION:Warren-Center Line Prevention Coalition\nMeeting: Virtually- 4th Monday of month\, 1:00 PM\nChair: Irene Salem\, Judson Center\nContact: wcpc4change@gmail.com and Jade Cruz\, Preventionist at CARE of Southeastern Michigan\, 586-765-2654 or Jcruz@careofsem.com\nWebsite: www.facebook.com/WCPC4CHANGE
URL:https://www.careofsem.com/event/warren-center-line-prevention-coalition-2020-03-23/2027-09-27/
CATEGORIES:Advocacy,Classes & Groups
ORGANIZER;CN="Jade Cruz":MAILTO:jcruz@careofsem.com
END:VEVENT
BEGIN:VEVENT
DTSTART;TZID=UTC:20271025T130000
DTEND;TZID=UTC:20271025T140000
DTSTAMP:20260420T190720
CREATED:20191127T001158Z
LAST-MODIFIED:20231110T193427Z
UID:10027389-1824469200-1824472800@www.careofsem.com
SUMMARY:Warren Center Line Prevention Coalition
DESCRIPTION:Warren-Center Line Prevention Coalition\nMeeting: Virtually- 4th Monday of month\, 1:00 PM\nChair: Irene Salem\, Judson Center\nContact: wcpc4change@gmail.com and Jade Cruz\, Preventionist at CARE of Southeastern Michigan\, 586-765-2654 or Jcruz@careofsem.com\nWebsite: www.facebook.com/WCPC4CHANGE
URL:https://www.careofsem.com/event/warren-center-line-prevention-coalition-2020-03-23/2027-10-25/
CATEGORIES:Advocacy,Classes & Groups
ORGANIZER;CN="Jade Cruz":MAILTO:jcruz@careofsem.com
END:VEVENT
BEGIN:VEVENT
DTSTART;TZID=UTC:20271122T130000
DTEND;TZID=UTC:20271122T140000
DTSTAMP:20260420T190720
CREATED:20191127T001158Z
LAST-MODIFIED:20231110T193427Z
UID:10027390-1826888400-1826892000@www.careofsem.com
SUMMARY:Warren Center Line Prevention Coalition
DESCRIPTION:Warren-Center Line Prevention Coalition\nMeeting: Virtually- 4th Monday of month\, 1:00 PM\nChair: Irene Salem\, Judson Center\nContact: wcpc4change@gmail.com and Jade Cruz\, Preventionist at CARE of Southeastern Michigan\, 586-765-2654 or Jcruz@careofsem.com\nWebsite: www.facebook.com/WCPC4CHANGE
URL:https://www.careofsem.com/event/warren-center-line-prevention-coalition-2020-03-23/2027-11-22/
CATEGORIES:Advocacy,Classes & Groups
ORGANIZER;CN="Jade Cruz":MAILTO:jcruz@careofsem.com
END:VEVENT
BEGIN:VEVENT
DTSTART;TZID=UTC:20271227T130000
DTEND;TZID=UTC:20271227T140000
DTSTAMP:20260420T190720
CREATED:20191127T001158Z
LAST-MODIFIED:20231110T193427Z
UID:10027391-1829912400-1829916000@www.careofsem.com
SUMMARY:Warren Center Line Prevention Coalition
DESCRIPTION:Warren-Center Line Prevention Coalition\nMeeting: Virtually- 4th Monday of month\, 1:00 PM\nChair: Irene Salem\, Judson Center\nContact: wcpc4change@gmail.com and Jade Cruz\, Preventionist at CARE of Southeastern Michigan\, 586-765-2654 or Jcruz@careofsem.com\nWebsite: www.facebook.com/WCPC4CHANGE
URL:https://www.careofsem.com/event/warren-center-line-prevention-coalition-2020-03-23/2027-12-27/
CATEGORIES:Advocacy,Classes & Groups
ORGANIZER;CN="Jade Cruz":MAILTO:jcruz@careofsem.com
END:VEVENT
BEGIN:VEVENT
DTSTART;TZID=UTC:20280124T130000
DTEND;TZID=UTC:20280124T140000
DTSTAMP:20260420T190720
CREATED:20191127T001158Z
LAST-MODIFIED:20231110T193427Z
UID:10027392-1832331600-1832335200@www.careofsem.com
SUMMARY:Warren Center Line Prevention Coalition
DESCRIPTION:Warren-Center Line Prevention Coalition\nMeeting: Virtually- 4th Monday of month\, 1:00 PM\nChair: Irene Salem\, Judson Center\nContact: wcpc4change@gmail.com and Jade Cruz\, Preventionist at CARE of Southeastern Michigan\, 586-765-2654 or Jcruz@careofsem.com\nWebsite: www.facebook.com/WCPC4CHANGE
URL:https://www.careofsem.com/event/warren-center-line-prevention-coalition-2020-03-23/2028-01-24/
CATEGORIES:Advocacy,Classes & Groups
ORGANIZER;CN="Jade Cruz":MAILTO:jcruz@careofsem.com
END:VEVENT
BEGIN:VEVENT
DTSTART;TZID=UTC:20280228T130000
DTEND;TZID=UTC:20280228T140000
DTSTAMP:20260420T190720
CREATED:20191127T001158Z
LAST-MODIFIED:20231110T193427Z
UID:10027393-1835355600-1835359200@www.careofsem.com
SUMMARY:Warren Center Line Prevention Coalition
DESCRIPTION:Warren-Center Line Prevention Coalition\nMeeting: Virtually- 4th Monday of month\, 1:00 PM\nChair: Irene Salem\, Judson Center\nContact: wcpc4change@gmail.com and Jade Cruz\, Preventionist at CARE of Southeastern Michigan\, 586-765-2654 or Jcruz@careofsem.com\nWebsite: www.facebook.com/WCPC4CHANGE
URL:https://www.careofsem.com/event/warren-center-line-prevention-coalition-2020-03-23/2028-02-28/
CATEGORIES:Advocacy,Classes & Groups
ORGANIZER;CN="Jade Cruz":MAILTO:jcruz@careofsem.com
END:VEVENT
BEGIN:VEVENT
DTSTART;TZID=UTC:20280327T130000
DTEND;TZID=UTC:20280327T140000
DTSTAMP:20260420T190720
CREATED:20191127T001158Z
LAST-MODIFIED:20231110T193427Z
UID:10027394-1837774800-1837778400@www.careofsem.com
SUMMARY:Warren Center Line Prevention Coalition
DESCRIPTION:Warren-Center Line Prevention Coalition\nMeeting: Virtually- 4th Monday of month\, 1:00 PM\nChair: Irene Salem\, Judson Center\nContact: wcpc4change@gmail.com and Jade Cruz\, Preventionist at CARE of Southeastern Michigan\, 586-765-2654 or Jcruz@careofsem.com\nWebsite: www.facebook.com/WCPC4CHANGE
URL:https://www.careofsem.com/event/warren-center-line-prevention-coalition-2020-03-23/2028-03-27/
CATEGORIES:Advocacy,Classes & Groups
ORGANIZER;CN="Jade Cruz":MAILTO:jcruz@careofsem.com
END:VEVENT
BEGIN:VEVENT
DTSTART;TZID=UTC:20280424T130000
DTEND;TZID=UTC:20280424T140000
DTSTAMP:20260420T190720
CREATED:20191127T001158Z
LAST-MODIFIED:20231110T193427Z
UID:10027395-1840194000-1840197600@www.careofsem.com
SUMMARY:Warren Center Line Prevention Coalition
DESCRIPTION:Warren-Center Line Prevention Coalition\nMeeting: Virtually- 4th Monday of month\, 1:00 PM\nChair: Irene Salem\, Judson Center\nContact: wcpc4change@gmail.com and Jade Cruz\, Preventionist at CARE of Southeastern Michigan\, 586-765-2654 or Jcruz@careofsem.com\nWebsite: www.facebook.com/WCPC4CHANGE
URL:https://www.careofsem.com/event/warren-center-line-prevention-coalition-2020-03-23/2028-04-24/
CATEGORIES:Advocacy,Classes & Groups
ORGANIZER;CN="Jade Cruz":MAILTO:jcruz@careofsem.com
END:VEVENT
BEGIN:VEVENT
DTSTART;TZID=UTC:20280522T130000
DTEND;TZID=UTC:20280522T140000
DTSTAMP:20260420T190720
CREATED:20191127T001158Z
LAST-MODIFIED:20231110T193427Z
UID:10027396-1842613200-1842616800@www.careofsem.com
SUMMARY:Warren Center Line Prevention Coalition
DESCRIPTION:Warren-Center Line Prevention Coalition\nMeeting: Virtually- 4th Monday of month\, 1:00 PM\nChair: Irene Salem\, Judson Center\nContact: wcpc4change@gmail.com and Jade Cruz\, Preventionist at CARE of Southeastern Michigan\, 586-765-2654 or Jcruz@careofsem.com\nWebsite: www.facebook.com/WCPC4CHANGE
URL:https://www.careofsem.com/event/warren-center-line-prevention-coalition-2020-03-23/2028-05-22/
CATEGORIES:Advocacy,Classes & Groups
ORGANIZER;CN="Jade Cruz":MAILTO:jcruz@careofsem.com
END:VEVENT
BEGIN:VEVENT
DTSTART;TZID=UTC:20280626T130000
DTEND;TZID=UTC:20280626T140000
DTSTAMP:20260420T190720
CREATED:20191127T001158Z
LAST-MODIFIED:20231110T193427Z
UID:10027397-1845637200-1845640800@www.careofsem.com
SUMMARY:Warren Center Line Prevention Coalition
DESCRIPTION:Warren-Center Line Prevention Coalition\nMeeting: Virtually- 4th Monday of month\, 1:00 PM\nChair: Irene Salem\, Judson Center\nContact: wcpc4change@gmail.com and Jade Cruz\, Preventionist at CARE of Southeastern Michigan\, 586-765-2654 or Jcruz@careofsem.com\nWebsite: www.facebook.com/WCPC4CHANGE
URL:https://www.careofsem.com/event/warren-center-line-prevention-coalition-2020-03-23/2028-06-26/
CATEGORIES:Advocacy,Classes & Groups
ORGANIZER;CN="Jade Cruz":MAILTO:jcruz@careofsem.com
END:VEVENT
BEGIN:VEVENT
DTSTART;TZID=UTC:20280724T130000
DTEND;TZID=UTC:20280724T140000
DTSTAMP:20260420T190720
CREATED:20191127T001158Z
LAST-MODIFIED:20231110T193427Z
UID:10027398-1848056400-1848060000@www.careofsem.com
SUMMARY:Warren Center Line Prevention Coalition
DESCRIPTION:Warren-Center Line Prevention Coalition\nMeeting: Virtually- 4th Monday of month\, 1:00 PM\nChair: Irene Salem\, Judson Center\nContact: wcpc4change@gmail.com and Jade Cruz\, Preventionist at CARE of Southeastern Michigan\, 586-765-2654 or Jcruz@careofsem.com\nWebsite: www.facebook.com/WCPC4CHANGE
URL:https://www.careofsem.com/event/warren-center-line-prevention-coalition-2020-03-23/2028-07-24/
CATEGORIES:Advocacy,Classes & Groups
ORGANIZER;CN="Jade Cruz":MAILTO:jcruz@careofsem.com
END:VEVENT
BEGIN:VEVENT
DTSTART;TZID=UTC:20280828T130000
DTEND;TZID=UTC:20280828T140000
DTSTAMP:20260420T190720
CREATED:20191127T001158Z
LAST-MODIFIED:20231110T193427Z
UID:10027399-1851080400-1851084000@www.careofsem.com
SUMMARY:Warren Center Line Prevention Coalition
DESCRIPTION:Warren-Center Line Prevention Coalition\nMeeting: Virtually- 4th Monday of month\, 1:00 PM\nChair: Irene Salem\, Judson Center\nContact: wcpc4change@gmail.com and Jade Cruz\, Preventionist at CARE of Southeastern Michigan\, 586-765-2654 or Jcruz@careofsem.com\nWebsite: www.facebook.com/WCPC4CHANGE
URL:https://www.careofsem.com/event/warren-center-line-prevention-coalition-2020-03-23/2028-08-28/
CATEGORIES:Advocacy,Classes & Groups
ORGANIZER;CN="Jade Cruz":MAILTO:jcruz@careofsem.com
END:VEVENT
BEGIN:VEVENT
DTSTART;TZID=UTC:20280925T130000
DTEND;TZID=UTC:20280925T140000
DTSTAMP:20260420T190720
CREATED:20191127T001158Z
LAST-MODIFIED:20231110T193427Z
UID:10027400-1853499600-1853503200@www.careofsem.com
SUMMARY:Warren Center Line Prevention Coalition
DESCRIPTION:Warren-Center Line Prevention Coalition\nMeeting: Virtually- 4th Monday of month\, 1:00 PM\nChair: Irene Salem\, Judson Center\nContact: wcpc4change@gmail.com and Jade Cruz\, Preventionist at CARE of Southeastern Michigan\, 586-765-2654 or Jcruz@careofsem.com\nWebsite: www.facebook.com/WCPC4CHANGE
URL:https://www.careofsem.com/event/warren-center-line-prevention-coalition-2020-03-23/2028-09-25/
CATEGORIES:Advocacy,Classes & Groups
ORGANIZER;CN="Jade Cruz":MAILTO:jcruz@careofsem.com
END:VEVENT
END:VCALENDAR