BEGIN:VCALENDAR
VERSION:2.0
PRODID:-//CARE of Southeastern Michigan - ECPv6.15.20//NONSGML v1.0//EN
CALSCALE:GREGORIAN
METHOD:PUBLISH
X-WR-CALNAME:CARE of Southeastern Michigan
X-ORIGINAL-URL:https://www.careofsem.com
X-WR-CALDESC:Events for CARE of Southeastern Michigan
REFRESH-INTERVAL;VALUE=DURATION:PT1H
X-Robots-Tag:noindex
X-PUBLISHED-TTL:PT1H
BEGIN:VTIMEZONE
TZID:America/Detroit
BEGIN:DAYLIGHT
TZOFFSETFROM:-0500
TZOFFSETTO:-0400
TZNAME:EDT
DTSTART:20250309T070000
END:DAYLIGHT
BEGIN:STANDARD
TZOFFSETFROM:-0400
TZOFFSETTO:-0500
TZNAME:EST
DTSTART:20251102T060000
END:STANDARD
BEGIN:DAYLIGHT
TZOFFSETFROM:-0500
TZOFFSETTO:-0400
TZNAME:EDT
DTSTART:20260308T070000
END:DAYLIGHT
BEGIN:STANDARD
TZOFFSETFROM:-0400
TZOFFSETTO:-0500
TZNAME:EST
DTSTART:20261101T060000
END:STANDARD
BEGIN:DAYLIGHT
TZOFFSETFROM:-0500
TZOFFSETTO:-0400
TZNAME:EDT
DTSTART:20270314T070000
END:DAYLIGHT
BEGIN:STANDARD
TZOFFSETFROM:-0400
TZOFFSETTO:-0500
TZNAME:EST
DTSTART:20271107T060000
END:STANDARD
END:VTIMEZONE
BEGIN:VEVENT
DTSTART;TZID=America/Detroit:20260622T083000
DTEND;TZID=America/Detroit:20260702T150000
DTSTAMP:20260422T053523
CREATED:20260304T152646Z
LAST-MODIFIED:20260310T165201Z
UID:10040028-1782117000-1783004400@www.careofsem.com
SUMMARY:Camp CARE 2026
DESCRIPTION:Ages 6-17| June 22- June 25 and June 29 – July 2nd (Monday-Thursday)  | 8:30 AM-3 PM |  Cost: Free\nFountain Elementary 16850 Wellington Ave.\, Roseville\, MI 48066 \nDoes your child worry about a loved one’s struggles with substance use? Are you an individual in recovery who has children in your life? Would your child benefit from skills to address worries related to their loved one’s substance use? \nCamp CARE is a two-week camp for children ages 6-17 from June 22nd – July 2nd (Monday-Thursday) at Fountain Elementary in Roseville from 8:30 am-3 pm.   Boxed lunches will be provided. \n\nCHILDREN WILL LEARN SKILLS TO:\nCommunicate Effectively •  Manage Emotions & Self-Control •  Deal Effectively with Change\nChoose Friends Wisely •  Make Healthy Choices •  Resist Peer Pressure \n  \nIMPORTANT INFO: Camp CARE is designed to benefit kids ages 6 through 17 who have been affected by a loved one’s substance use. \nThe registration information provided will be reviewed to determine your child’s appropriateness for Camp CARE. \nFor any questions\, contact Jade Cruz\, Prevention Director at prevention@careofsem.com
URL:https://www.careofsem.com/event/camp-care-2026/2026-06-22/
LOCATION:Fountain Elementary\, 16850 Wellington Ave\, Roseville\, MI\, 48066 \, United States
ATTACH;FMTTYPE=image/jpeg:https://www.careofsem.com/wp-content/uploads/2026/03/CARE-Camp.jpg
END:VEVENT
BEGIN:VEVENT
DTSTART;TZID=America/Detroit:20260623T083000
DTEND;TZID=America/Detroit:20260703T150000
DTSTAMP:20260422T053523
CREATED:20260304T152646Z
LAST-MODIFIED:20260310T165201Z
UID:10040029-1782203400-1783090800@www.careofsem.com
SUMMARY:Camp CARE 2026
DESCRIPTION:Ages 6-17| June 22- June 25 and June 29 – July 2nd (Monday-Thursday)  | 8:30 AM-3 PM |  Cost: Free\nFountain Elementary 16850 Wellington Ave.\, Roseville\, MI 48066 \nDoes your child worry about a loved one’s struggles with substance use? Are you an individual in recovery who has children in your life? Would your child benefit from skills to address worries related to their loved one’s substance use? \nCamp CARE is a two-week camp for children ages 6-17 from June 22nd – July 2nd (Monday-Thursday) at Fountain Elementary in Roseville from 8:30 am-3 pm.   Boxed lunches will be provided. \n\nCHILDREN WILL LEARN SKILLS TO:\nCommunicate Effectively •  Manage Emotions & Self-Control •  Deal Effectively with Change\nChoose Friends Wisely •  Make Healthy Choices •  Resist Peer Pressure \n  \nIMPORTANT INFO: Camp CARE is designed to benefit kids ages 6 through 17 who have been affected by a loved one’s substance use. \nThe registration information provided will be reviewed to determine your child’s appropriateness for Camp CARE. \nFor any questions\, contact Jade Cruz\, Prevention Director at prevention@careofsem.com
URL:https://www.careofsem.com/event/camp-care-2026/2026-06-23/
LOCATION:Fountain Elementary\, 16850 Wellington Ave\, Roseville\, MI\, 48066 \, United States
ATTACH;FMTTYPE=image/jpeg:https://www.careofsem.com/wp-content/uploads/2026/03/CARE-Camp.jpg
END:VEVENT
BEGIN:VEVENT
DTSTART;TZID=America/Detroit:20260624T083000
DTEND;TZID=America/Detroit:20260704T150000
DTSTAMP:20260422T053523
CREATED:20260304T152646Z
LAST-MODIFIED:20260310T165201Z
UID:10040030-1782289800-1783177200@www.careofsem.com
SUMMARY:Camp CARE 2026
DESCRIPTION:Ages 6-17| June 22- June 25 and June 29 – July 2nd (Monday-Thursday)  | 8:30 AM-3 PM |  Cost: Free\nFountain Elementary 16850 Wellington Ave.\, Roseville\, MI 48066 \nDoes your child worry about a loved one’s struggles with substance use? Are you an individual in recovery who has children in your life? Would your child benefit from skills to address worries related to their loved one’s substance use? \nCamp CARE is a two-week camp for children ages 6-17 from June 22nd – July 2nd (Monday-Thursday) at Fountain Elementary in Roseville from 8:30 am-3 pm.   Boxed lunches will be provided. \n\nCHILDREN WILL LEARN SKILLS TO:\nCommunicate Effectively •  Manage Emotions & Self-Control •  Deal Effectively with Change\nChoose Friends Wisely •  Make Healthy Choices •  Resist Peer Pressure \n  \nIMPORTANT INFO: Camp CARE is designed to benefit kids ages 6 through 17 who have been affected by a loved one’s substance use. \nThe registration information provided will be reviewed to determine your child’s appropriateness for Camp CARE. \nFor any questions\, contact Jade Cruz\, Prevention Director at prevention@careofsem.com
URL:https://www.careofsem.com/event/camp-care-2026/2026-06-24/
LOCATION:Fountain Elementary\, 16850 Wellington Ave\, Roseville\, MI\, 48066 \, United States
ATTACH;FMTTYPE=image/jpeg:https://www.careofsem.com/wp-content/uploads/2026/03/CARE-Camp.jpg
END:VEVENT
BEGIN:VEVENT
DTSTART;TZID=America/Detroit:20260625T083000
DTEND;TZID=America/Detroit:20260705T150000
DTSTAMP:20260422T053523
CREATED:20260304T152646Z
LAST-MODIFIED:20260310T165201Z
UID:10040031-1782376200-1783263600@www.careofsem.com
SUMMARY:Camp CARE 2026
DESCRIPTION:Ages 6-17| June 22- June 25 and June 29 – July 2nd (Monday-Thursday)  | 8:30 AM-3 PM |  Cost: Free\nFountain Elementary 16850 Wellington Ave.\, Roseville\, MI 48066 \nDoes your child worry about a loved one’s struggles with substance use? Are you an individual in recovery who has children in your life? Would your child benefit from skills to address worries related to their loved one’s substance use? \nCamp CARE is a two-week camp for children ages 6-17 from June 22nd – July 2nd (Monday-Thursday) at Fountain Elementary in Roseville from 8:30 am-3 pm.   Boxed lunches will be provided. \n\nCHILDREN WILL LEARN SKILLS TO:\nCommunicate Effectively •  Manage Emotions & Self-Control •  Deal Effectively with Change\nChoose Friends Wisely •  Make Healthy Choices •  Resist Peer Pressure \n  \nIMPORTANT INFO: Camp CARE is designed to benefit kids ages 6 through 17 who have been affected by a loved one’s substance use. \nThe registration information provided will be reviewed to determine your child’s appropriateness for Camp CARE. \nFor any questions\, contact Jade Cruz\, Prevention Director at prevention@careofsem.com
URL:https://www.careofsem.com/event/camp-care-2026/2026-06-25/
LOCATION:Fountain Elementary\, 16850 Wellington Ave\, Roseville\, MI\, 48066 \, United States
ATTACH;FMTTYPE=image/jpeg:https://www.careofsem.com/wp-content/uploads/2026/03/CARE-Camp.jpg
END:VEVENT
BEGIN:VEVENT
DTSTART;TZID=America/Detroit:20260629T083000
DTEND;TZID=America/Detroit:20260629T153000
DTSTAMP:20260422T053523
CREATED:20260304T152646Z
LAST-MODIFIED:20260310T165201Z
UID:10040032-1782721800-1782747000@www.careofsem.com
SUMMARY:Camp CARE 2026
DESCRIPTION:Ages 6-17| June 22- June 25 and June 29 – July 2nd (Monday-Thursday)  | 8:30 AM-3 PM |  Cost: Free\nFountain Elementary 16850 Wellington Ave.\, Roseville\, MI 48066 \nDoes your child worry about a loved one’s struggles with substance use? Are you an individual in recovery who has children in your life? Would your child benefit from skills to address worries related to their loved one’s substance use? \nCamp CARE is a two-week camp for children ages 6-17 from June 22nd – July 2nd (Monday-Thursday) at Fountain Elementary in Roseville from 8:30 am-3 pm.   Boxed lunches will be provided. \n\nCHILDREN WILL LEARN SKILLS TO:\nCommunicate Effectively •  Manage Emotions & Self-Control •  Deal Effectively with Change\nChoose Friends Wisely •  Make Healthy Choices •  Resist Peer Pressure \n  \nIMPORTANT INFO: Camp CARE is designed to benefit kids ages 6 through 17 who have been affected by a loved one’s substance use. \nThe registration information provided will be reviewed to determine your child’s appropriateness for Camp CARE. \nFor any questions\, contact Jade Cruz\, Prevention Director at prevention@careofsem.com
URL:https://www.careofsem.com/event/camp-care-2026/2026-06-29/
LOCATION:Fountain Elementary\, 16850 Wellington Ave\, Roseville\, MI\, 48066 \, United States
ATTACH;FMTTYPE=image/jpeg:https://www.careofsem.com/wp-content/uploads/2026/03/CARE-Camp.jpg
END:VEVENT
BEGIN:VEVENT
DTSTART;TZID=America/Detroit:20260630T083000
DTEND;TZID=America/Detroit:20260630T153000
DTSTAMP:20260422T053523
CREATED:20260304T152646Z
LAST-MODIFIED:20260310T165201Z
UID:10040033-1782808200-1782833400@www.careofsem.com
SUMMARY:Camp CARE 2026
DESCRIPTION:Ages 6-17| June 22- June 25 and June 29 – July 2nd (Monday-Thursday)  | 8:30 AM-3 PM |  Cost: Free\nFountain Elementary 16850 Wellington Ave.\, Roseville\, MI 48066 \nDoes your child worry about a loved one’s struggles with substance use? Are you an individual in recovery who has children in your life? Would your child benefit from skills to address worries related to their loved one’s substance use? \nCamp CARE is a two-week camp for children ages 6-17 from June 22nd – July 2nd (Monday-Thursday) at Fountain Elementary in Roseville from 8:30 am-3 pm.   Boxed lunches will be provided. \n\nCHILDREN WILL LEARN SKILLS TO:\nCommunicate Effectively •  Manage Emotions & Self-Control •  Deal Effectively with Change\nChoose Friends Wisely •  Make Healthy Choices •  Resist Peer Pressure \n  \nIMPORTANT INFO: Camp CARE is designed to benefit kids ages 6 through 17 who have been affected by a loved one’s substance use. \nThe registration information provided will be reviewed to determine your child’s appropriateness for Camp CARE. \nFor any questions\, contact Jade Cruz\, Prevention Director at prevention@careofsem.com
URL:https://www.careofsem.com/event/camp-care-2026/2026-06-30/
LOCATION:Fountain Elementary\, 16850 Wellington Ave\, Roseville\, MI\, 48066 \, United States
ATTACH;FMTTYPE=image/jpeg:https://www.careofsem.com/wp-content/uploads/2026/03/CARE-Camp.jpg
END:VEVENT
BEGIN:VEVENT
DTSTART;TZID=America/Detroit:20260701T083000
DTEND;TZID=America/Detroit:20260701T153000
DTSTAMP:20260422T053523
CREATED:20260304T152646Z
LAST-MODIFIED:20260310T165201Z
UID:10040034-1782894600-1782919800@www.careofsem.com
SUMMARY:Camp CARE 2026
DESCRIPTION:Ages 6-17| June 22- June 25 and June 29 – July 2nd (Monday-Thursday)  | 8:30 AM-3 PM |  Cost: Free\nFountain Elementary 16850 Wellington Ave.\, Roseville\, MI 48066 \nDoes your child worry about a loved one’s struggles with substance use? Are you an individual in recovery who has children in your life? Would your child benefit from skills to address worries related to their loved one’s substance use? \nCamp CARE is a two-week camp for children ages 6-17 from June 22nd – July 2nd (Monday-Thursday) at Fountain Elementary in Roseville from 8:30 am-3 pm.   Boxed lunches will be provided. \n\nCHILDREN WILL LEARN SKILLS TO:\nCommunicate Effectively •  Manage Emotions & Self-Control •  Deal Effectively with Change\nChoose Friends Wisely •  Make Healthy Choices •  Resist Peer Pressure \n  \nIMPORTANT INFO: Camp CARE is designed to benefit kids ages 6 through 17 who have been affected by a loved one’s substance use. \nThe registration information provided will be reviewed to determine your child’s appropriateness for Camp CARE. \nFor any questions\, contact Jade Cruz\, Prevention Director at prevention@careofsem.com
URL:https://www.careofsem.com/event/camp-care-2026/2026-07-01/
LOCATION:Fountain Elementary\, 16850 Wellington Ave\, Roseville\, MI\, 48066 \, United States
ATTACH;FMTTYPE=image/jpeg:https://www.careofsem.com/wp-content/uploads/2026/03/CARE-Camp.jpg
END:VEVENT
BEGIN:VEVENT
DTSTART;TZID=America/Detroit:20260702T083000
DTEND;TZID=America/Detroit:20260702T153000
DTSTAMP:20260422T053523
CREATED:20260304T152646Z
LAST-MODIFIED:20260310T165201Z
UID:10040035-1782981000-1783006200@www.careofsem.com
SUMMARY:Camp CARE 2026
DESCRIPTION:Ages 6-17| June 22- June 25 and June 29 – July 2nd (Monday-Thursday)  | 8:30 AM-3 PM |  Cost: Free\nFountain Elementary 16850 Wellington Ave.\, Roseville\, MI 48066 \nDoes your child worry about a loved one’s struggles with substance use? Are you an individual in recovery who has children in your life? Would your child benefit from skills to address worries related to their loved one’s substance use? \nCamp CARE is a two-week camp for children ages 6-17 from June 22nd – July 2nd (Monday-Thursday) at Fountain Elementary in Roseville from 8:30 am-3 pm.   Boxed lunches will be provided. \n\nCHILDREN WILL LEARN SKILLS TO:\nCommunicate Effectively •  Manage Emotions & Self-Control •  Deal Effectively with Change\nChoose Friends Wisely •  Make Healthy Choices •  Resist Peer Pressure \n  \nIMPORTANT INFO: Camp CARE is designed to benefit kids ages 6 through 17 who have been affected by a loved one’s substance use. \nThe registration information provided will be reviewed to determine your child’s appropriateness for Camp CARE. \nFor any questions\, contact Jade Cruz\, Prevention Director at prevention@careofsem.com
URL:https://www.careofsem.com/event/camp-care-2026/2026-07-02/
LOCATION:Fountain Elementary\, 16850 Wellington Ave\, Roseville\, MI\, 48066 \, United States
ATTACH;FMTTYPE=image/jpeg:https://www.careofsem.com/wp-content/uploads/2026/03/CARE-Camp.jpg
END:VEVENT
END:VCALENDAR