BEGIN:VCALENDAR
VERSION:2.0
PRODID:-//CARE of Southeastern Michigan - ECPv6.15.20//NONSGML v1.0//EN
CALSCALE:GREGORIAN
METHOD:PUBLISH
X-ORIGINAL-URL:https://www.careofsem.com
X-WR-CALDESC:Events for CARE of Southeastern Michigan
REFRESH-INTERVAL;VALUE=DURATION:PT1H
X-Robots-Tag:noindex
X-PUBLISHED-TTL:PT1H
BEGIN:VTIMEZONE
TZID:America/Detroit
BEGIN:DAYLIGHT
TZOFFSETFROM:-0500
TZOFFSETTO:-0400
TZNAME:EDT
DTSTART:20250309T070000
END:DAYLIGHT
BEGIN:STANDARD
TZOFFSETFROM:-0400
TZOFFSETTO:-0500
TZNAME:EST
DTSTART:20251102T060000
END:STANDARD
BEGIN:DAYLIGHT
TZOFFSETFROM:-0500
TZOFFSETTO:-0400
TZNAME:EDT
DTSTART:20260308T070000
END:DAYLIGHT
BEGIN:STANDARD
TZOFFSETFROM:-0400
TZOFFSETTO:-0500
TZNAME:EST
DTSTART:20261101T060000
END:STANDARD
BEGIN:DAYLIGHT
TZOFFSETFROM:-0500
TZOFFSETTO:-0400
TZNAME:EDT
DTSTART:20270314T070000
END:DAYLIGHT
BEGIN:STANDARD
TZOFFSETFROM:-0400
TZOFFSETTO:-0500
TZNAME:EST
DTSTART:20271107T060000
END:STANDARD
END:VTIMEZONE
BEGIN:VEVENT
DTSTART;TZID=America/Detroit:20260202T180000
DTEND;TZID=America/Detroit:20260202T200000
DTSTAMP:20260421T150259
CREATED:20251103T142713Z
LAST-MODIFIED:20260310T163149Z
UID:10038881-1770055200-1770062400@www.careofsem.com
SUMMARY:Adolescent Anger Management Jan/March 2026 13-17 Years old
DESCRIPTION:Adolescent Anger Management is a six-week research-based\, trauma informed anger management program for adolescents and parents.\nThe primary goal of the program is to increase positive social skills that enables conflict resolution in a nonviolent manner.\nAdolescents are broken up into three age groups: 9-11\, 12-14\, and 15-18\nParents are required to attend a group that runs simultaneous to the adolescent groups.\nSessions are two hours long.\nLocation – CARE Main Office 18441 Utica Road\, Roseville MI 48066 \nThis program requires attendance at each event during the series.  \nIt is held in person at CARE’s main office
URL:https://www.careofsem.com/event/adolescent-anger-management-jan-feb-2026-13-17-years-old/2026-02-02/
LOCATION:CARE Office\, 18441 Utica Rd\, Roseville\, MI\, 48066\, United States
CATEGORIES:Classes & Groups,Mental Health,Prevention Services,Programs
ATTACH;FMTTYPE=image/jpeg:https://www.careofsem.com/wp-content/uploads/2025/11/Adolescent-Anger.jpg
END:VEVENT
BEGIN:VEVENT
DTSTART;TZID=America/Detroit:20260205T180000
DTEND;TZID=America/Detroit:20260205T200000
DTSTAMP:20260421T150259
CREATED:20251103T145609Z
LAST-MODIFIED:20251103T145831Z
UID:10038892-1770314400-1770321600@www.careofsem.com
SUMMARY:Adolescent Anger Management Jan/March 2026 9-12 Years old
DESCRIPTION:Adolescent Anger Management is a six-week research-based\, trauma informed anger management program for adolescents and parents.\nThe primary goal of the program is to increase positive social skills that enables conflict resolution in a nonviolent manner.\nThis class is for age group 9-12.\nParents are required to attend a group that runs simultaneous to the adolescent groups.\nSessions are two hours long.\nLocation – CARE Main Office 18441 Utica Road\, Roseville MI 48066 \nThis program requires attendance at each event during the series.  \nIt is held in person at CARE’s main office
URL:https://www.careofsem.com/event/adolescent-anger-management-oct-nov-2025-9-12-years-old-2-2/2026-02-05/
LOCATION:CARE Office\, 18441 Utica Rd\, Roseville\, MI\, 48066\, United States
CATEGORIES:Classes & Groups,Mental Health,Prevention Services,Programs
END:VEVENT
BEGIN:VEVENT
DTSTART;TZID=America/Detroit:20260205T180000
DTEND;TZID=America/Detroit:20260205T200000
DTSTAMP:20260421T150259
CREATED:20260303T193859Z
LAST-MODIFIED:20260303T193859Z
UID:10039947-1770314400-1770321600@www.careofsem.com
SUMMARY:Adolescent Anger Management 9-12 Years Old - 8/20/26 - 9/24/26
DESCRIPTION:Adolescent Anger Management is a six-week research-based\, trauma informed anger management program for adolescents and parents.\nThe primary goal of the program is to increase positive social skills that enables conflict resolution in a nonviolent manner.\nThis class is for age group 9-12.\nParents are required to attend a group that runs simultaneous to the adolescent groups.\nSessions are two hours long.\nLocation – CARE Main Office 18441 Utica Road\, Roseville MI 48066 \nThis program requires attendance at each event during the series.  \nIt is held in person at CARE’s main office
URL:https://www.careofsem.com/event/adolescent-anger-management-9-12-years-old-8-20-26-9-24-26/2026-02-05/
LOCATION:CARE Office\, 18441 Utica Rd\, Roseville\, MI\, 48066\, United States
CATEGORIES:Classes & Groups,Mental Health,Prevention Services,Programs
END:VEVENT
BEGIN:VEVENT
DTSTART;TZID=America/Detroit:20260209T180000
DTEND;TZID=America/Detroit:20260209T200000
DTSTAMP:20260421T150259
CREATED:20251103T142713Z
LAST-MODIFIED:20260310T163149Z
UID:10038882-1770660000-1770667200@www.careofsem.com
SUMMARY:Adolescent Anger Management Jan/March 2026 13-17 Years old
DESCRIPTION:Adolescent Anger Management is a six-week research-based\, trauma informed anger management program for adolescents and parents.\nThe primary goal of the program is to increase positive social skills that enables conflict resolution in a nonviolent manner.\nAdolescents are broken up into three age groups: 9-11\, 12-14\, and 15-18\nParents are required to attend a group that runs simultaneous to the adolescent groups.\nSessions are two hours long.\nLocation – CARE Main Office 18441 Utica Road\, Roseville MI 48066 \nThis program requires attendance at each event during the series.  \nIt is held in person at CARE’s main office
URL:https://www.careofsem.com/event/adolescent-anger-management-jan-feb-2026-13-17-years-old/2026-02-09/
LOCATION:CARE Office\, 18441 Utica Rd\, Roseville\, MI\, 48066\, United States
CATEGORIES:Classes & Groups,Mental Health,Prevention Services,Programs
ATTACH;FMTTYPE=image/jpeg:https://www.careofsem.com/wp-content/uploads/2025/11/Adolescent-Anger.jpg
END:VEVENT
BEGIN:VEVENT
DTSTART;TZID=America/Detroit:20260212T180000
DTEND;TZID=America/Detroit:20260212T200000
DTSTAMP:20260421T150259
CREATED:20251103T145609Z
LAST-MODIFIED:20251103T145831Z
UID:10038893-1770919200-1770926400@www.careofsem.com
SUMMARY:Adolescent Anger Management Jan/March 2026 9-12 Years old
DESCRIPTION:Adolescent Anger Management is a six-week research-based\, trauma informed anger management program for adolescents and parents.\nThe primary goal of the program is to increase positive social skills that enables conflict resolution in a nonviolent manner.\nThis class is for age group 9-12.\nParents are required to attend a group that runs simultaneous to the adolescent groups.\nSessions are two hours long.\nLocation – CARE Main Office 18441 Utica Road\, Roseville MI 48066 \nThis program requires attendance at each event during the series.  \nIt is held in person at CARE’s main office
URL:https://www.careofsem.com/event/adolescent-anger-management-oct-nov-2025-9-12-years-old-2-2/2026-02-12/
LOCATION:CARE Office\, 18441 Utica Rd\, Roseville\, MI\, 48066\, United States
CATEGORIES:Classes & Groups,Mental Health,Prevention Services,Programs
END:VEVENT
BEGIN:VEVENT
DTSTART;TZID=America/Detroit:20260212T180000
DTEND;TZID=America/Detroit:20260212T200000
DTSTAMP:20260421T150259
CREATED:20260303T193859Z
LAST-MODIFIED:20260303T193859Z
UID:10039948-1770919200-1770926400@www.careofsem.com
SUMMARY:Adolescent Anger Management 9-12 Years Old - 8/20/26 - 9/24/26
DESCRIPTION:Adolescent Anger Management is a six-week research-based\, trauma informed anger management program for adolescents and parents.\nThe primary goal of the program is to increase positive social skills that enables conflict resolution in a nonviolent manner.\nThis class is for age group 9-12.\nParents are required to attend a group that runs simultaneous to the adolescent groups.\nSessions are two hours long.\nLocation – CARE Main Office 18441 Utica Road\, Roseville MI 48066 \nThis program requires attendance at each event during the series.  \nIt is held in person at CARE’s main office
URL:https://www.careofsem.com/event/adolescent-anger-management-9-12-years-old-8-20-26-9-24-26/2026-02-12/
LOCATION:CARE Office\, 18441 Utica Rd\, Roseville\, MI\, 48066\, United States
CATEGORIES:Classes & Groups,Mental Health,Prevention Services,Programs
END:VEVENT
BEGIN:VEVENT
DTSTART;TZID=America/Detroit:20260216T180000
DTEND;TZID=America/Detroit:20260216T200000
DTSTAMP:20260421T150259
CREATED:20251103T142713Z
LAST-MODIFIED:20260310T163149Z
UID:10038883-1771264800-1771272000@www.careofsem.com
SUMMARY:Adolescent Anger Management Jan/March 2026 13-17 Years old
DESCRIPTION:Adolescent Anger Management is a six-week research-based\, trauma informed anger management program for adolescents and parents.\nThe primary goal of the program is to increase positive social skills that enables conflict resolution in a nonviolent manner.\nAdolescents are broken up into three age groups: 9-11\, 12-14\, and 15-18\nParents are required to attend a group that runs simultaneous to the adolescent groups.\nSessions are two hours long.\nLocation – CARE Main Office 18441 Utica Road\, Roseville MI 48066 \nThis program requires attendance at each event during the series.  \nIt is held in person at CARE’s main office
URL:https://www.careofsem.com/event/adolescent-anger-management-jan-feb-2026-13-17-years-old/2026-02-16/
LOCATION:CARE Office\, 18441 Utica Rd\, Roseville\, MI\, 48066\, United States
CATEGORIES:Classes & Groups,Mental Health,Prevention Services,Programs
ATTACH;FMTTYPE=image/jpeg:https://www.careofsem.com/wp-content/uploads/2025/11/Adolescent-Anger.jpg
END:VEVENT
BEGIN:VEVENT
DTSTART;TZID=America/Detroit:20260219T180000
DTEND;TZID=America/Detroit:20260219T200000
DTSTAMP:20260421T150259
CREATED:20251103T145609Z
LAST-MODIFIED:20251103T145831Z
UID:10038894-1771524000-1771531200@www.careofsem.com
SUMMARY:Adolescent Anger Management Jan/March 2026 9-12 Years old
DESCRIPTION:Adolescent Anger Management is a six-week research-based\, trauma informed anger management program for adolescents and parents.\nThe primary goal of the program is to increase positive social skills that enables conflict resolution in a nonviolent manner.\nThis class is for age group 9-12.\nParents are required to attend a group that runs simultaneous to the adolescent groups.\nSessions are two hours long.\nLocation – CARE Main Office 18441 Utica Road\, Roseville MI 48066 \nThis program requires attendance at each event during the series.  \nIt is held in person at CARE’s main office
URL:https://www.careofsem.com/event/adolescent-anger-management-oct-nov-2025-9-12-years-old-2-2/2026-02-19/
LOCATION:CARE Office\, 18441 Utica Rd\, Roseville\, MI\, 48066\, United States
CATEGORIES:Classes & Groups,Mental Health,Prevention Services,Programs
END:VEVENT
BEGIN:VEVENT
DTSTART;TZID=America/Detroit:20260219T180000
DTEND;TZID=America/Detroit:20260219T200000
DTSTAMP:20260421T150259
CREATED:20260303T193859Z
LAST-MODIFIED:20260303T193859Z
UID:10039949-1771524000-1771531200@www.careofsem.com
SUMMARY:Adolescent Anger Management 9-12 Years Old - 8/20/26 - 9/24/26
DESCRIPTION:Adolescent Anger Management is a six-week research-based\, trauma informed anger management program for adolescents and parents.\nThe primary goal of the program is to increase positive social skills that enables conflict resolution in a nonviolent manner.\nThis class is for age group 9-12.\nParents are required to attend a group that runs simultaneous to the adolescent groups.\nSessions are two hours long.\nLocation – CARE Main Office 18441 Utica Road\, Roseville MI 48066 \nThis program requires attendance at each event during the series.  \nIt is held in person at CARE’s main office
URL:https://www.careofsem.com/event/adolescent-anger-management-9-12-years-old-8-20-26-9-24-26/2026-02-19/
LOCATION:CARE Office\, 18441 Utica Rd\, Roseville\, MI\, 48066\, United States
CATEGORIES:Classes & Groups,Mental Health,Prevention Services,Programs
END:VEVENT
BEGIN:VEVENT
DTSTART;TZID=America/Detroit:20260223T180000
DTEND;TZID=America/Detroit:20260223T200000
DTSTAMP:20260421T150259
CREATED:20251103T142713Z
LAST-MODIFIED:20260310T163149Z
UID:10038884-1771869600-1771876800@www.careofsem.com
SUMMARY:Adolescent Anger Management Jan/March 2026 13-17 Years old
DESCRIPTION:Adolescent Anger Management is a six-week research-based\, trauma informed anger management program for adolescents and parents.\nThe primary goal of the program is to increase positive social skills that enables conflict resolution in a nonviolent manner.\nAdolescents are broken up into three age groups: 9-11\, 12-14\, and 15-18\nParents are required to attend a group that runs simultaneous to the adolescent groups.\nSessions are two hours long.\nLocation – CARE Main Office 18441 Utica Road\, Roseville MI 48066 \nThis program requires attendance at each event during the series.  \nIt is held in person at CARE’s main office
URL:https://www.careofsem.com/event/adolescent-anger-management-jan-feb-2026-13-17-years-old/2026-02-23/
LOCATION:CARE Office\, 18441 Utica Rd\, Roseville\, MI\, 48066\, United States
CATEGORIES:Classes & Groups,Mental Health,Prevention Services,Programs
ATTACH;FMTTYPE=image/jpeg:https://www.careofsem.com/wp-content/uploads/2025/11/Adolescent-Anger.jpg
END:VEVENT
BEGIN:VEVENT
DTSTART;TZID=America/Detroit:20260226T180000
DTEND;TZID=America/Detroit:20260226T200000
DTSTAMP:20260421T150259
CREATED:20251103T145609Z
LAST-MODIFIED:20251103T145831Z
UID:10038895-1772128800-1772136000@www.careofsem.com
SUMMARY:Adolescent Anger Management Jan/March 2026 9-12 Years old
DESCRIPTION:Adolescent Anger Management is a six-week research-based\, trauma informed anger management program for adolescents and parents.\nThe primary goal of the program is to increase positive social skills that enables conflict resolution in a nonviolent manner.\nThis class is for age group 9-12.\nParents are required to attend a group that runs simultaneous to the adolescent groups.\nSessions are two hours long.\nLocation – CARE Main Office 18441 Utica Road\, Roseville MI 48066 \nThis program requires attendance at each event during the series.  \nIt is held in person at CARE’s main office
URL:https://www.careofsem.com/event/adolescent-anger-management-oct-nov-2025-9-12-years-old-2-2/2026-02-26/
LOCATION:CARE Office\, 18441 Utica Rd\, Roseville\, MI\, 48066\, United States
CATEGORIES:Classes & Groups,Mental Health,Prevention Services,Programs
END:VEVENT
BEGIN:VEVENT
DTSTART;TZID=America/Detroit:20260226T180000
DTEND;TZID=America/Detroit:20260226T200000
DTSTAMP:20260421T150259
CREATED:20260303T193859Z
LAST-MODIFIED:20260303T193859Z
UID:10039950-1772128800-1772136000@www.careofsem.com
SUMMARY:Adolescent Anger Management 9-12 Years Old - 8/20/26 - 9/24/26
DESCRIPTION:Adolescent Anger Management is a six-week research-based\, trauma informed anger management program for adolescents and parents.\nThe primary goal of the program is to increase positive social skills that enables conflict resolution in a nonviolent manner.\nThis class is for age group 9-12.\nParents are required to attend a group that runs simultaneous to the adolescent groups.\nSessions are two hours long.\nLocation – CARE Main Office 18441 Utica Road\, Roseville MI 48066 \nThis program requires attendance at each event during the series.  \nIt is held in person at CARE’s main office
URL:https://www.careofsem.com/event/adolescent-anger-management-9-12-years-old-8-20-26-9-24-26/2026-02-26/
LOCATION:CARE Office\, 18441 Utica Rd\, Roseville\, MI\, 48066\, United States
CATEGORIES:Classes & Groups,Mental Health,Prevention Services,Programs
END:VEVENT
END:VCALENDAR