BEGIN:VCALENDAR
VERSION:2.0
PRODID:-//CARE of Southeastern Michigan - ECPv6.15.20//NONSGML v1.0//EN
CALSCALE:GREGORIAN
METHOD:PUBLISH
X-ORIGINAL-URL:https://www.careofsem.com
X-WR-CALDESC:Events for CARE of Southeastern Michigan
REFRESH-INTERVAL;VALUE=DURATION:PT1H
X-Robots-Tag:noindex
X-PUBLISHED-TTL:PT1H
BEGIN:VTIMEZONE
TZID:America/Detroit
BEGIN:DAYLIGHT
TZOFFSETFROM:-0500
TZOFFSETTO:-0400
TZNAME:EDT
DTSTART:20240310T070000
END:DAYLIGHT
BEGIN:STANDARD
TZOFFSETFROM:-0400
TZOFFSETTO:-0500
TZNAME:EST
DTSTART:20241103T060000
END:STANDARD
BEGIN:DAYLIGHT
TZOFFSETFROM:-0500
TZOFFSETTO:-0400
TZNAME:EDT
DTSTART:20250309T070000
END:DAYLIGHT
BEGIN:STANDARD
TZOFFSETFROM:-0400
TZOFFSETTO:-0500
TZNAME:EST
DTSTART:20251102T060000
END:STANDARD
BEGIN:DAYLIGHT
TZOFFSETFROM:-0500
TZOFFSETTO:-0400
TZNAME:EDT
DTSTART:20260308T070000
END:DAYLIGHT
BEGIN:STANDARD
TZOFFSETFROM:-0400
TZOFFSETTO:-0500
TZNAME:EST
DTSTART:20261101T060000
END:STANDARD
END:VTIMEZONE
BEGIN:VEVENT
DTSTART;TZID=America/Detroit:20251201T180000
DTEND;TZID=America/Detroit:20251201T200000
DTSTAMP:20260421T183337
CREATED:20250908T190659Z
LAST-MODIFIED:20251007T163237Z
UID:10035625-1764612000-1764619200@www.careofsem.com
SUMMARY:Adolescent Anger Management Nov/Dec 2025 13-17 Years old
DESCRIPTION:Adolescent Anger Management is a six-week research-based\, trauma informed anger management program for adolescents and parents.\nThe primary goal of the program is to increase positive social skills that enables conflict resolution in a nonviolent manner.\nAdolescents are broken up into three age groups: 9-11\, 12-14\, and 15-18\nParents are required to attend a group that runs simultaneous to the adolescent groups.\nSessions are two hours long.\nLocation – CARE Main Office 18441 Utica Road\, Roseville MI 48066 \nThis program requires attendance at each event during the series.  \nIt is held in person at CARE’s main office
URL:https://www.careofsem.com/event/adolescent-anger-management-oct-nov-2025/2025-12-01/
LOCATION:CARE Office\, 18441 Utica Rd\, Roseville\, MI\, 48066\, United States
CATEGORIES:Classes & Groups,Mental Health,Prevention Services,Programs
END:VEVENT
BEGIN:VEVENT
DTSTART;TZID=America/Detroit:20251208T180000
DTEND;TZID=America/Detroit:20251208T200000
DTSTAMP:20260421T183337
CREATED:20250908T190659Z
LAST-MODIFIED:20251007T163237Z
UID:10035626-1765216800-1765224000@www.careofsem.com
SUMMARY:Adolescent Anger Management Nov/Dec 2025 13-17 Years old
DESCRIPTION:Adolescent Anger Management is a six-week research-based\, trauma informed anger management program for adolescents and parents.\nThe primary goal of the program is to increase positive social skills that enables conflict resolution in a nonviolent manner.\nAdolescents are broken up into three age groups: 9-11\, 12-14\, and 15-18\nParents are required to attend a group that runs simultaneous to the adolescent groups.\nSessions are two hours long.\nLocation – CARE Main Office 18441 Utica Road\, Roseville MI 48066 \nThis program requires attendance at each event during the series.  \nIt is held in person at CARE’s main office
URL:https://www.careofsem.com/event/adolescent-anger-management-oct-nov-2025/2025-12-08/
LOCATION:CARE Office\, 18441 Utica Rd\, Roseville\, MI\, 48066\, United States
CATEGORIES:Classes & Groups,Mental Health,Prevention Services,Programs
END:VEVENT
BEGIN:VEVENT
DTSTART;TZID=America/Detroit:20251215T180000
DTEND;TZID=America/Detroit:20251215T200000
DTSTAMP:20260421T183337
CREATED:20250908T190659Z
LAST-MODIFIED:20251007T163237Z
UID:10035627-1765821600-1765828800@www.careofsem.com
SUMMARY:Adolescent Anger Management Nov/Dec 2025 13-17 Years old
DESCRIPTION:Adolescent Anger Management is a six-week research-based\, trauma informed anger management program for adolescents and parents.\nThe primary goal of the program is to increase positive social skills that enables conflict resolution in a nonviolent manner.\nAdolescents are broken up into three age groups: 9-11\, 12-14\, and 15-18\nParents are required to attend a group that runs simultaneous to the adolescent groups.\nSessions are two hours long.\nLocation – CARE Main Office 18441 Utica Road\, Roseville MI 48066 \nThis program requires attendance at each event during the series.  \nIt is held in person at CARE’s main office
URL:https://www.careofsem.com/event/adolescent-anger-management-oct-nov-2025/2025-12-15/
LOCATION:CARE Office\, 18441 Utica Rd\, Roseville\, MI\, 48066\, United States
CATEGORIES:Classes & Groups,Mental Health,Prevention Services,Programs
END:VEVENT
END:VCALENDAR