BEGIN:VCALENDAR
VERSION:2.0
PRODID:-//CARE of Southeastern Michigan - ECPv6.15.20//NONSGML v1.0//EN
CALSCALE:GREGORIAN
METHOD:PUBLISH
X-WR-CALNAME:CARE of Southeastern Michigan
X-ORIGINAL-URL:https://www.careofsem.com
X-WR-CALDESC:Events for CARE of Southeastern Michigan
REFRESH-INTERVAL;VALUE=DURATION:PT1H
X-Robots-Tag:noindex
X-PUBLISHED-TTL:PT1H
BEGIN:VTIMEZONE
TZID:America/Detroit
BEGIN:DAYLIGHT
TZOFFSETFROM:-0500
TZOFFSETTO:-0400
TZNAME:EDT
DTSTART:20250309T070000
END:DAYLIGHT
BEGIN:STANDARD
TZOFFSETFROM:-0400
TZOFFSETTO:-0500
TZNAME:EST
DTSTART:20251102T060000
END:STANDARD
BEGIN:DAYLIGHT
TZOFFSETFROM:-0500
TZOFFSETTO:-0400
TZNAME:EDT
DTSTART:20260308T070000
END:DAYLIGHT
BEGIN:STANDARD
TZOFFSETFROM:-0400
TZOFFSETTO:-0500
TZNAME:EST
DTSTART:20261101T060000
END:STANDARD
BEGIN:DAYLIGHT
TZOFFSETFROM:-0500
TZOFFSETTO:-0400
TZNAME:EDT
DTSTART:20270314T070000
END:DAYLIGHT
BEGIN:STANDARD
TZOFFSETFROM:-0400
TZOFFSETTO:-0500
TZNAME:EST
DTSTART:20271107T060000
END:STANDARD
END:VTIMEZONE
BEGIN:VEVENT
DTSTART;TZID=America/Detroit:20260420T180000
DTEND;TZID=America/Detroit:20260420T200000
DTSTAMP:20260420T193653
CREATED:20260303T192410Z
LAST-MODIFIED:20260303T193521Z
UID:10039918-1776708000-1776715200@www.careofsem.com
SUMMARY:Adolescent Anger Management 13-17 Years 4/6/26 - 5/11/26
DESCRIPTION:Adolescent Anger Management is a six-week research-based\, trauma informed anger management program for adolescents and parents.\nThe primary goal of the program is to increase positive social skills that enables conflict resolution in a nonviolent manner.\nAdolescents are broken up into three age groups: 9-11\, 12-14\, and 15-18\nParents are required to attend a group that runs simultaneous to the adolescent groups.\nSessions are two hours long.\nLocation – CARE Main Office 18441 Utica Road\, Roseville MI 48066 \nThis program requires attendance at each event during the series.  \nIt is held in person at CARE’s main office
URL:https://www.careofsem.com/event/adolescent-anger-management-13-17-years-4-6-26-5-11-26/2026-04-20/
LOCATION:CARE Office\, 18441 Utica Rd\, Roseville\, MI\, 48066\, United States
CATEGORIES:Classes & Groups,Mental Health,Prevention Services,Programs
END:VEVENT
BEGIN:VEVENT
DTSTART;TZID=America/Detroit:20260423T180000
DTEND;TZID=America/Detroit:20260423T200000
DTSTAMP:20260420T193653
CREATED:20260303T192912Z
LAST-MODIFIED:20260303T192912Z
UID:10039942-1776967200-1776974400@www.careofsem.com
SUMMARY:Adolescent Anger Management 9-12 Years Old - 4/9/26 - 5/14/26
DESCRIPTION:Adolescent Anger Management is a six-week research-based\, trauma informed anger management program for adolescents and parents.\nThe primary goal of the program is to increase positive social skills that enables conflict resolution in a nonviolent manner.\nThis class is for age group 9-12.\nParents are required to attend a group that runs simultaneous to the adolescent groups.\nSessions are two hours long.\nLocation – CARE Main Office 18441 Utica Road\, Roseville MI 48066 \nThis program requires attendance at each event during the series.  \nIt is held in person at CARE’s main office
URL:https://www.careofsem.com/event/adolescent-anger-management-9-12-years-old-4-9-26-5-14-26/2026-04-23/
LOCATION:CARE Office\, 18441 Utica Rd\, Roseville\, MI\, 48066\, United States
CATEGORIES:Classes & Groups,Mental Health,Prevention Services,Programs
END:VEVENT
BEGIN:VEVENT
DTSTART;TZID=America/Detroit:20260427T180000
DTEND;TZID=America/Detroit:20260427T200000
DTSTAMP:20260420T193653
CREATED:20260303T192410Z
LAST-MODIFIED:20260303T193521Z
UID:10039919-1777312800-1777320000@www.careofsem.com
SUMMARY:Adolescent Anger Management 13-17 Years 4/6/26 - 5/11/26
DESCRIPTION:Adolescent Anger Management is a six-week research-based\, trauma informed anger management program for adolescents and parents.\nThe primary goal of the program is to increase positive social skills that enables conflict resolution in a nonviolent manner.\nAdolescents are broken up into three age groups: 9-11\, 12-14\, and 15-18\nParents are required to attend a group that runs simultaneous to the adolescent groups.\nSessions are two hours long.\nLocation – CARE Main Office 18441 Utica Road\, Roseville MI 48066 \nThis program requires attendance at each event during the series.  \nIt is held in person at CARE’s main office
URL:https://www.careofsem.com/event/adolescent-anger-management-13-17-years-4-6-26-5-11-26/2026-04-27/
LOCATION:CARE Office\, 18441 Utica Rd\, Roseville\, MI\, 48066\, United States
CATEGORIES:Classes & Groups,Mental Health,Prevention Services,Programs
END:VEVENT
BEGIN:VEVENT
DTSTART;TZID=America/Detroit:20260430T180000
DTEND;TZID=America/Detroit:20260430T200000
DTSTAMP:20260420T193653
CREATED:20260303T192912Z
LAST-MODIFIED:20260303T192912Z
UID:10039943-1777572000-1777579200@www.careofsem.com
SUMMARY:Adolescent Anger Management 9-12 Years Old - 4/9/26 - 5/14/26
DESCRIPTION:Adolescent Anger Management is a six-week research-based\, trauma informed anger management program for adolescents and parents.\nThe primary goal of the program is to increase positive social skills that enables conflict resolution in a nonviolent manner.\nThis class is for age group 9-12.\nParents are required to attend a group that runs simultaneous to the adolescent groups.\nSessions are two hours long.\nLocation – CARE Main Office 18441 Utica Road\, Roseville MI 48066 \nThis program requires attendance at each event during the series.  \nIt is held in person at CARE’s main office
URL:https://www.careofsem.com/event/adolescent-anger-management-9-12-years-old-4-9-26-5-14-26/2026-04-30/
LOCATION:CARE Office\, 18441 Utica Rd\, Roseville\, MI\, 48066\, United States
CATEGORIES:Classes & Groups,Mental Health,Prevention Services,Programs
END:VEVENT
BEGIN:VEVENT
DTSTART;TZID=America/Detroit:20260504T180000
DTEND;TZID=America/Detroit:20260504T200000
DTSTAMP:20260420T193653
CREATED:20260303T192410Z
LAST-MODIFIED:20260303T193521Z
UID:10039920-1777917600-1777924800@www.careofsem.com
SUMMARY:Adolescent Anger Management 13-17 Years 4/6/26 - 5/11/26
DESCRIPTION:Adolescent Anger Management is a six-week research-based\, trauma informed anger management program for adolescents and parents.\nThe primary goal of the program is to increase positive social skills that enables conflict resolution in a nonviolent manner.\nAdolescents are broken up into three age groups: 9-11\, 12-14\, and 15-18\nParents are required to attend a group that runs simultaneous to the adolescent groups.\nSessions are two hours long.\nLocation – CARE Main Office 18441 Utica Road\, Roseville MI 48066 \nThis program requires attendance at each event during the series.  \nIt is held in person at CARE’s main office
URL:https://www.careofsem.com/event/adolescent-anger-management-13-17-years-4-6-26-5-11-26/2026-05-04/
LOCATION:CARE Office\, 18441 Utica Rd\, Roseville\, MI\, 48066\, United States
CATEGORIES:Classes & Groups,Mental Health,Prevention Services,Programs
END:VEVENT
BEGIN:VEVENT
DTSTART;TZID=America/Detroit:20260507T180000
DTEND;TZID=America/Detroit:20260507T200000
DTSTAMP:20260420T193653
CREATED:20260303T192912Z
LAST-MODIFIED:20260303T192912Z
UID:10039944-1778176800-1778184000@www.careofsem.com
SUMMARY:Adolescent Anger Management 9-12 Years Old - 4/9/26 - 5/14/26
DESCRIPTION:Adolescent Anger Management is a six-week research-based\, trauma informed anger management program for adolescents and parents.\nThe primary goal of the program is to increase positive social skills that enables conflict resolution in a nonviolent manner.\nThis class is for age group 9-12.\nParents are required to attend a group that runs simultaneous to the adolescent groups.\nSessions are two hours long.\nLocation – CARE Main Office 18441 Utica Road\, Roseville MI 48066 \nThis program requires attendance at each event during the series.  \nIt is held in person at CARE’s main office
URL:https://www.careofsem.com/event/adolescent-anger-management-9-12-years-old-4-9-26-5-14-26/2026-05-07/
LOCATION:CARE Office\, 18441 Utica Rd\, Roseville\, MI\, 48066\, United States
CATEGORIES:Classes & Groups,Mental Health,Prevention Services,Programs
END:VEVENT
BEGIN:VEVENT
DTSTART;TZID=America/Detroit:20260511T180000
DTEND;TZID=America/Detroit:20260511T200000
DTSTAMP:20260420T193653
CREATED:20260303T192410Z
LAST-MODIFIED:20260303T193521Z
UID:10039921-1778522400-1778529600@www.careofsem.com
SUMMARY:Adolescent Anger Management 13-17 Years 4/6/26 - 5/11/26
DESCRIPTION:Adolescent Anger Management is a six-week research-based\, trauma informed anger management program for adolescents and parents.\nThe primary goal of the program is to increase positive social skills that enables conflict resolution in a nonviolent manner.\nAdolescents are broken up into three age groups: 9-11\, 12-14\, and 15-18\nParents are required to attend a group that runs simultaneous to the adolescent groups.\nSessions are two hours long.\nLocation – CARE Main Office 18441 Utica Road\, Roseville MI 48066 \nThis program requires attendance at each event during the series.  \nIt is held in person at CARE’s main office
URL:https://www.careofsem.com/event/adolescent-anger-management-13-17-years-4-6-26-5-11-26/2026-05-11/
LOCATION:CARE Office\, 18441 Utica Rd\, Roseville\, MI\, 48066\, United States
CATEGORIES:Classes & Groups,Mental Health,Prevention Services,Programs
END:VEVENT
BEGIN:VEVENT
DTSTART;TZID=America/Detroit:20260514T180000
DTEND;TZID=America/Detroit:20260514T200000
DTSTAMP:20260420T193653
CREATED:20260303T192912Z
LAST-MODIFIED:20260303T192912Z
UID:10039945-1778781600-1778788800@www.careofsem.com
SUMMARY:Adolescent Anger Management 9-12 Years Old - 4/9/26 - 5/14/26
DESCRIPTION:Adolescent Anger Management is a six-week research-based\, trauma informed anger management program for adolescents and parents.\nThe primary goal of the program is to increase positive social skills that enables conflict resolution in a nonviolent manner.\nThis class is for age group 9-12.\nParents are required to attend a group that runs simultaneous to the adolescent groups.\nSessions are two hours long.\nLocation – CARE Main Office 18441 Utica Road\, Roseville MI 48066 \nThis program requires attendance at each event during the series.  \nIt is held in person at CARE’s main office
URL:https://www.careofsem.com/event/adolescent-anger-management-9-12-years-old-4-9-26-5-14-26/2026-05-14/
LOCATION:CARE Office\, 18441 Utica Rd\, Roseville\, MI\, 48066\, United States
CATEGORIES:Classes & Groups,Mental Health,Prevention Services,Programs
END:VEVENT
BEGIN:VEVENT
DTSTART;TZID=America/Detroit:20260727T083000
DTEND;TZID=America/Detroit:20260731T150000
DTSTAMP:20260420T193653
CREATED:20260114T145143Z
LAST-MODIFIED:20260114T145143Z
UID:10038968-1785141000-1785510000@www.careofsem.com
SUMMARY:Leadership Camp 2026
DESCRIPTION:Each year CARE of Southeastern Michigan works with students and families to educate and implement substance use prevention in the lives of the individuals we serve. CARE holds weekly educational workshops and hosts various summer camps for school-aged kids. \nLeadership Camp activities help increase resiliency\, self-esteem\, and team building to empower students to be leaders in their communities. Students can expect a week of fun with special guest speakers. \n\nCARE will be hosting the camp Kennedy Middle School\, Lake Shore Public Schools\nCamp is from 8:30 AM to 3 PM\nBreakfast and lunch will be provided\nStudents will have access to the indoors with assigned classrooms for each grade level participating\n\nFor any questions\, contact the Prevention Department at prevention@careofsem.com \n  \nJuly 27th\, 2026 – July 31st\, 2026\n6th – 8th Grade\n8:30 AM – 3:00 PM | Kennedy Middle School\, 23101 Masonic Blvd.\, Saint Clair Shores\, MI 48082\nEmpowering Youth • Strengthening Life Skills • Character Development • Games\, Arts\, & Crafts\nCost: $0 \n 
URL:https://www.careofsem.com/event/leadership-camp-2026/
LOCATION:Kennedy Middle School\, 23101 Masonic Blvd.\, Saint Clair Shores\, MI\, 48082\, United States
CATEGORIES:Classes & Groups,Events,Prevention Services,Programs,Student and Youth
END:VEVENT
BEGIN:VEVENT
DTSTART;TZID=America/Detroit:20260810T180000
DTEND;TZID=America/Detroit:20260810T200000
DTSTAMP:20260420T193653
CREATED:20260303T192614Z
LAST-MODIFIED:20260303T192614Z
UID:10039928-1786384800-1786392000@www.careofsem.com
SUMMARY:Adolescent Anger Management 13-17 Years Old - 8/10/26 - 9/21/26
DESCRIPTION:Adolescent Anger Management is a six-week research-based\, trauma informed anger management program for adolescents and parents.\nThe primary goal of the program is to increase positive social skills that enables conflict resolution in a nonviolent manner.\nAdolescents are broken up into three age groups: 9-11\, 12-14\, and 15-18\nParents are required to attend a group that runs simultaneous to the adolescent groups.\nSessions are two hours long.  No Class on 9/7/26\nLocation – CARE Main Office 18441 Utica Road\, Roseville MI 48066 \nThis program requires attendance at each event during the series.  \nIt is held in person at CARE’s main office
URL:https://www.careofsem.com/event/adolescent-anger-management-13-17-years-old-8-10-26-9-21-26/2026-08-10/
LOCATION:CARE Office\, 18441 Utica Rd\, Roseville\, MI\, 48066\, United States
CATEGORIES:Classes & Groups,Mental Health,Prevention Services,Programs
END:VEVENT
BEGIN:VEVENT
DTSTART;TZID=America/Detroit:20260817T180000
DTEND;TZID=America/Detroit:20260817T200000
DTSTAMP:20260420T193653
CREATED:20260303T192614Z
LAST-MODIFIED:20260303T192614Z
UID:10039929-1786989600-1786996800@www.careofsem.com
SUMMARY:Adolescent Anger Management 13-17 Years Old - 8/10/26 - 9/21/26
DESCRIPTION:Adolescent Anger Management is a six-week research-based\, trauma informed anger management program for adolescents and parents.\nThe primary goal of the program is to increase positive social skills that enables conflict resolution in a nonviolent manner.\nAdolescents are broken up into three age groups: 9-11\, 12-14\, and 15-18\nParents are required to attend a group that runs simultaneous to the adolescent groups.\nSessions are two hours long.  No Class on 9/7/26\nLocation – CARE Main Office 18441 Utica Road\, Roseville MI 48066 \nThis program requires attendance at each event during the series.  \nIt is held in person at CARE’s main office
URL:https://www.careofsem.com/event/adolescent-anger-management-13-17-years-old-8-10-26-9-21-26/2026-08-17/
LOCATION:CARE Office\, 18441 Utica Rd\, Roseville\, MI\, 48066\, United States
CATEGORIES:Classes & Groups,Mental Health,Prevention Services,Programs
END:VEVENT
BEGIN:VEVENT
DTSTART;TZID=America/Detroit:20260824T180000
DTEND;TZID=America/Detroit:20260824T200000
DTSTAMP:20260420T193653
CREATED:20260303T192614Z
LAST-MODIFIED:20260303T192614Z
UID:10039930-1787594400-1787601600@www.careofsem.com
SUMMARY:Adolescent Anger Management 13-17 Years Old - 8/10/26 - 9/21/26
DESCRIPTION:Adolescent Anger Management is a six-week research-based\, trauma informed anger management program for adolescents and parents.\nThe primary goal of the program is to increase positive social skills that enables conflict resolution in a nonviolent manner.\nAdolescents are broken up into three age groups: 9-11\, 12-14\, and 15-18\nParents are required to attend a group that runs simultaneous to the adolescent groups.\nSessions are two hours long.  No Class on 9/7/26\nLocation – CARE Main Office 18441 Utica Road\, Roseville MI 48066 \nThis program requires attendance at each event during the series.  \nIt is held in person at CARE’s main office
URL:https://www.careofsem.com/event/adolescent-anger-management-13-17-years-old-8-10-26-9-21-26/2026-08-24/
LOCATION:CARE Office\, 18441 Utica Rd\, Roseville\, MI\, 48066\, United States
CATEGORIES:Classes & Groups,Mental Health,Prevention Services,Programs
END:VEVENT
BEGIN:VEVENT
DTSTART;TZID=America/Detroit:20260831T180000
DTEND;TZID=America/Detroit:20260831T200000
DTSTAMP:20260420T193653
CREATED:20260303T192614Z
LAST-MODIFIED:20260303T192614Z
UID:10039931-1788199200-1788206400@www.careofsem.com
SUMMARY:Adolescent Anger Management 13-17 Years Old - 8/10/26 - 9/21/26
DESCRIPTION:Adolescent Anger Management is a six-week research-based\, trauma informed anger management program for adolescents and parents.\nThe primary goal of the program is to increase positive social skills that enables conflict resolution in a nonviolent manner.\nAdolescents are broken up into three age groups: 9-11\, 12-14\, and 15-18\nParents are required to attend a group that runs simultaneous to the adolescent groups.\nSessions are two hours long.  No Class on 9/7/26\nLocation – CARE Main Office 18441 Utica Road\, Roseville MI 48066 \nThis program requires attendance at each event during the series.  \nIt is held in person at CARE’s main office
URL:https://www.careofsem.com/event/adolescent-anger-management-13-17-years-old-8-10-26-9-21-26/2026-08-31/
LOCATION:CARE Office\, 18441 Utica Rd\, Roseville\, MI\, 48066\, United States
CATEGORIES:Classes & Groups,Mental Health,Prevention Services,Programs
END:VEVENT
BEGIN:VEVENT
DTSTART;TZID=America/Detroit:20260914T180000
DTEND;TZID=America/Detroit:20260914T200000
DTSTAMP:20260420T193653
CREATED:20260303T192614Z
LAST-MODIFIED:20260303T192614Z
UID:10039932-1789408800-1789416000@www.careofsem.com
SUMMARY:Adolescent Anger Management 13-17 Years Old - 8/10/26 - 9/21/26
DESCRIPTION:Adolescent Anger Management is a six-week research-based\, trauma informed anger management program for adolescents and parents.\nThe primary goal of the program is to increase positive social skills that enables conflict resolution in a nonviolent manner.\nAdolescents are broken up into three age groups: 9-11\, 12-14\, and 15-18\nParents are required to attend a group that runs simultaneous to the adolescent groups.\nSessions are two hours long.  No Class on 9/7/26\nLocation – CARE Main Office 18441 Utica Road\, Roseville MI 48066 \nThis program requires attendance at each event during the series.  \nIt is held in person at CARE’s main office
URL:https://www.careofsem.com/event/adolescent-anger-management-13-17-years-old-8-10-26-9-21-26/2026-09-14/
LOCATION:CARE Office\, 18441 Utica Rd\, Roseville\, MI\, 48066\, United States
CATEGORIES:Classes & Groups,Mental Health,Prevention Services,Programs
END:VEVENT
BEGIN:VEVENT
DTSTART;TZID=America/Detroit:20260921T180000
DTEND;TZID=America/Detroit:20260921T200000
DTSTAMP:20260420T193653
CREATED:20260303T192614Z
LAST-MODIFIED:20260303T192614Z
UID:10039933-1790013600-1790020800@www.careofsem.com
SUMMARY:Adolescent Anger Management 13-17 Years Old - 8/10/26 - 9/21/26
DESCRIPTION:Adolescent Anger Management is a six-week research-based\, trauma informed anger management program for adolescents and parents.\nThe primary goal of the program is to increase positive social skills that enables conflict resolution in a nonviolent manner.\nAdolescents are broken up into three age groups: 9-11\, 12-14\, and 15-18\nParents are required to attend a group that runs simultaneous to the adolescent groups.\nSessions are two hours long.  No Class on 9/7/26\nLocation – CARE Main Office 18441 Utica Road\, Roseville MI 48066 \nThis program requires attendance at each event during the series.  \nIt is held in person at CARE’s main office
URL:https://www.careofsem.com/event/adolescent-anger-management-13-17-years-old-8-10-26-9-21-26/2026-09-21/
LOCATION:CARE Office\, 18441 Utica Rd\, Roseville\, MI\, 48066\, United States
CATEGORIES:Classes & Groups,Mental Health,Prevention Services,Programs
END:VEVENT
END:VCALENDAR