BEGIN:VCALENDAR
VERSION:2.0
PRODID:-//CARE of Southeastern Michigan - ECPv6.15.20//NONSGML v1.0//EN
CALSCALE:GREGORIAN
METHOD:PUBLISH
X-ORIGINAL-URL:https://www.careofsem.com
X-WR-CALDESC:Events for CARE of Southeastern Michigan
REFRESH-INTERVAL;VALUE=DURATION:PT1H
X-Robots-Tag:noindex
X-PUBLISHED-TTL:PT1H
BEGIN:VTIMEZONE
TZID:UTC
BEGIN:STANDARD
TZOFFSETFROM:+0000
TZOFFSETTO:+0000
TZNAME:UTC
DTSTART:20250101T000000
END:STANDARD
END:VTIMEZONE
BEGIN:VEVENT
DTSTART;TZID=UTC:20260427T130000
DTEND;TZID=UTC:20260427T140000
DTSTAMP:20260421T115806
CREATED:20191127T001158Z
LAST-MODIFIED:20231110T193427Z
UID:10027371-1777294800-1777298400@www.careofsem.com
SUMMARY:Warren Center Line Prevention Coalition
DESCRIPTION:Warren-Center Line Prevention Coalition\nMeeting: Virtually- 4th Monday of month\, 1:00 PM\nChair: Irene Salem\, Judson Center\nContact: wcpc4change@gmail.com and Jade Cruz\, Preventionist at CARE of Southeastern Michigan\, 586-765-2654 or Jcruz@careofsem.com\nWebsite: www.facebook.com/WCPC4CHANGE
URL:https://www.careofsem.com/event/warren-center-line-prevention-coalition-2020-03-23/2026-04-27/
LOCATION:MI
CATEGORIES:Advocacy,Classes & Groups
ORGANIZER;CN="Jade Cruz":MAILTO:jcruz@careofsem.com
END:VEVENT
END:VCALENDAR