BEGIN:VCALENDAR
VERSION:2.0
PRODID:-//CARE of Southeastern Michigan - ECPv6.15.20//NONSGML v1.0//EN
CALSCALE:GREGORIAN
METHOD:PUBLISH
X-ORIGINAL-URL:https://www.careofsem.com
X-WR-CALDESC:Events for CARE of Southeastern Michigan
REFRESH-INTERVAL;VALUE=DURATION:PT1H
X-Robots-Tag:noindex
X-PUBLISHED-TTL:PT1H
BEGIN:VTIMEZONE
TZID:America/Detroit
BEGIN:DAYLIGHT
TZOFFSETFROM:-0500
TZOFFSETTO:-0400
TZNAME:EDT
DTSTART:20280312T070000
END:DAYLIGHT
BEGIN:STANDARD
TZOFFSETFROM:-0400
TZOFFSETTO:-0500
TZNAME:EST
DTSTART:20281105T060000
END:STANDARD
BEGIN:DAYLIGHT
TZOFFSETFROM:-0500
TZOFFSETTO:-0400
TZNAME:EDT
DTSTART:20290311T070000
END:DAYLIGHT
BEGIN:STANDARD
TZOFFSETFROM:-0400
TZOFFSETTO:-0500
TZNAME:EST
DTSTART:20291104T060000
END:STANDARD
BEGIN:DAYLIGHT
TZOFFSETFROM:-0500
TZOFFSETTO:-0400
TZNAME:EDT
DTSTART:20300310T070000
END:DAYLIGHT
BEGIN:STANDARD
TZOFFSETFROM:-0400
TZOFFSETTO:-0500
TZNAME:EST
DTSTART:20301103T060000
END:STANDARD
END:VTIMEZONE
BEGIN:VEVENT
DTSTART;TZID=America/Detroit:20290903T100000
DTEND;TZID=America/Detroit:20290903T110000
DTSTAMP:20260425T145345
CREATED:20260210T175836Z
LAST-MODIFIED:20260310T164240Z
UID:10039677-1883124000-1883127600@www.careofsem.com
SUMMARY:Living in Recovery
DESCRIPTION:Join a peer-led group that explores strategies for strengthening recovery. Men and women welcome. \nThis group is held at the CARE offices. \n 
URL:https://www.careofsem.com/event/living-in-recovery-29-2-3-2-2/2029-09-03/
LOCATION:CARE Office\, 18441 Utica Rd\, Roseville\, MI\, 48066\, United States
CATEGORIES:Classes & Groups,Peer Recovery,Peer Recovery,Recovery Coaching,Recovery Community Center,Substance Abuse,Substance Abuse Recovery
ATTACH;FMTTYPE=image/jpeg:https://www.careofsem.com/wp-content/uploads/2026/02/Living-in-Recovery.jpg
END:VEVENT
BEGIN:VEVENT
DTSTART;TZID=America/Detroit:20290904T100000
DTEND;TZID=America/Detroit:20290904T110000
DTSTAMP:20260425T145345
CREATED:20260210T180441Z
LAST-MODIFIED:20260210T180442Z
UID:10039416-1883210400-1883214000@www.careofsem.com
SUMMARY:Living in Recovery
DESCRIPTION:Join a peer-led group that explores strategies for strengthening recovery. Men and women welcome. \nThis group is held at the CARE offices. \n 
URL:https://www.careofsem.com/event/living-in-recovery-29-2-2-2-2/2029-09-04/
LOCATION:CARE Office\, 18441 Utica Rd\, Roseville\, MI\, 48066\, United States
CATEGORIES:Classes & Groups,Peer Recovery,Peer Recovery,Recovery Coaching,Recovery Community Center,Substance Abuse,Substance Abuse Recovery
END:VEVENT
BEGIN:VEVENT
DTSTART;TZID=America/Detroit:20290904T170000
DTEND;TZID=America/Detroit:20290904T190000
DTSTAMP:20260425T145345
CREATED:20250401T154853Z
LAST-MODIFIED:20251008T141055Z
UID:10032887-1883235600-1883242800@www.careofsem.com
SUMMARY:Project VOX
DESCRIPTION:Get involved in the advocacy\, education\, and celebration aspects of recovery. \nCall CARE for more information. Held at the CARE offices or you can join via zoom 856 4804 5860
URL:https://www.careofsem.com/event/project-vox-17-2/2029-09-04/
LOCATION:CARE of Southeastern Michigan\, 18441 Utica Road\, Roseville\, MI\, 48066\, United States
CATEGORIES:Classes & Groups,Peer Recovery,Peer Recovery Groups,Project Vox,Recovery Coaching,Recovery Community Center,Substance Abuse Recovery
END:VEVENT
BEGIN:VEVENT
DTSTART;TZID=America/Detroit:20290910T100000
DTEND;TZID=America/Detroit:20290910T110000
DTSTAMP:20260425T145345
CREATED:20260210T175836Z
LAST-MODIFIED:20260310T164240Z
UID:10039678-1883728800-1883732400@www.careofsem.com
SUMMARY:Living in Recovery
DESCRIPTION:Join a peer-led group that explores strategies for strengthening recovery. Men and women welcome. \nThis group is held at the CARE offices. \n 
URL:https://www.careofsem.com/event/living-in-recovery-29-2-3-2-2/2029-09-10/
LOCATION:CARE Office\, 18441 Utica Rd\, Roseville\, MI\, 48066\, United States
CATEGORIES:Classes & Groups,Peer Recovery,Peer Recovery,Recovery Coaching,Recovery Community Center,Substance Abuse,Substance Abuse Recovery
ATTACH;FMTTYPE=image/jpeg:https://www.careofsem.com/wp-content/uploads/2026/02/Living-in-Recovery.jpg
END:VEVENT
BEGIN:VEVENT
DTSTART;TZID=America/Detroit:20290911T100000
DTEND;TZID=America/Detroit:20290911T110000
DTSTAMP:20260425T145345
CREATED:20260210T180441Z
LAST-MODIFIED:20260210T180442Z
UID:10039417-1883815200-1883818800@www.careofsem.com
SUMMARY:Living in Recovery
DESCRIPTION:Join a peer-led group that explores strategies for strengthening recovery. Men and women welcome. \nThis group is held at the CARE offices. \n 
URL:https://www.careofsem.com/event/living-in-recovery-29-2-2-2-2/2029-09-11/
LOCATION:CARE Office\, 18441 Utica Rd\, Roseville\, MI\, 48066\, United States
CATEGORIES:Classes & Groups,Peer Recovery,Peer Recovery,Recovery Coaching,Recovery Community Center,Substance Abuse,Substance Abuse Recovery
END:VEVENT
BEGIN:VEVENT
DTSTART;TZID=America/Detroit:20290917T100000
DTEND;TZID=America/Detroit:20290917T110000
DTSTAMP:20260425T145345
CREATED:20260210T175836Z
LAST-MODIFIED:20260310T164240Z
UID:10039679-1884333600-1884337200@www.careofsem.com
SUMMARY:Living in Recovery
DESCRIPTION:Join a peer-led group that explores strategies for strengthening recovery. Men and women welcome. \nThis group is held at the CARE offices. \n 
URL:https://www.careofsem.com/event/living-in-recovery-29-2-3-2-2/2029-09-17/
LOCATION:CARE Office\, 18441 Utica Rd\, Roseville\, MI\, 48066\, United States
CATEGORIES:Classes & Groups,Peer Recovery,Peer Recovery,Recovery Coaching,Recovery Community Center,Substance Abuse,Substance Abuse Recovery
ATTACH;FMTTYPE=image/jpeg:https://www.careofsem.com/wp-content/uploads/2026/02/Living-in-Recovery.jpg
END:VEVENT
BEGIN:VEVENT
DTSTART;TZID=America/Detroit:20290918T100000
DTEND;TZID=America/Detroit:20290918T110000
DTSTAMP:20260425T145345
CREATED:20260210T180441Z
LAST-MODIFIED:20260210T180442Z
UID:10039418-1884420000-1884423600@www.careofsem.com
SUMMARY:Living in Recovery
DESCRIPTION:Join a peer-led group that explores strategies for strengthening recovery. Men and women welcome. \nThis group is held at the CARE offices. \n 
URL:https://www.careofsem.com/event/living-in-recovery-29-2-2-2-2/2029-09-18/
LOCATION:CARE Office\, 18441 Utica Rd\, Roseville\, MI\, 48066\, United States
CATEGORIES:Classes & Groups,Peer Recovery,Peer Recovery,Recovery Coaching,Recovery Community Center,Substance Abuse,Substance Abuse Recovery
END:VEVENT
BEGIN:VEVENT
DTSTART;TZID=America/Detroit:20290924T100000
DTEND;TZID=America/Detroit:20290924T110000
DTSTAMP:20260425T145345
CREATED:20260210T175836Z
LAST-MODIFIED:20260310T164240Z
UID:10039680-1884938400-1884942000@www.careofsem.com
SUMMARY:Living in Recovery
DESCRIPTION:Join a peer-led group that explores strategies for strengthening recovery. Men and women welcome. \nThis group is held at the CARE offices. \n 
URL:https://www.careofsem.com/event/living-in-recovery-29-2-3-2-2/2029-09-24/
LOCATION:CARE Office\, 18441 Utica Rd\, Roseville\, MI\, 48066\, United States
CATEGORIES:Classes & Groups,Peer Recovery,Peer Recovery,Recovery Coaching,Recovery Community Center,Substance Abuse,Substance Abuse Recovery
ATTACH;FMTTYPE=image/jpeg:https://www.careofsem.com/wp-content/uploads/2026/02/Living-in-Recovery.jpg
END:VEVENT
BEGIN:VEVENT
DTSTART;TZID=America/Detroit:20290925T100000
DTEND;TZID=America/Detroit:20290925T110000
DTSTAMP:20260425T145345
CREATED:20260210T180441Z
LAST-MODIFIED:20260210T180442Z
UID:10039419-1885024800-1885028400@www.careofsem.com
SUMMARY:Living in Recovery
DESCRIPTION:Join a peer-led group that explores strategies for strengthening recovery. Men and women welcome. \nThis group is held at the CARE offices. \n 
URL:https://www.careofsem.com/event/living-in-recovery-29-2-2-2-2/2029-09-25/
LOCATION:CARE Office\, 18441 Utica Rd\, Roseville\, MI\, 48066\, United States
CATEGORIES:Classes & Groups,Peer Recovery,Peer Recovery,Recovery Coaching,Recovery Community Center,Substance Abuse,Substance Abuse Recovery
END:VEVENT
BEGIN:VEVENT
DTSTART;TZID=America/Detroit:20291001T100000
DTEND;TZID=America/Detroit:20291001T110000
DTSTAMP:20260425T145345
CREATED:20260210T175836Z
LAST-MODIFIED:20260310T164240Z
UID:10039681-1885543200-1885546800@www.careofsem.com
SUMMARY:Living in Recovery
DESCRIPTION:Join a peer-led group that explores strategies for strengthening recovery. Men and women welcome. \nThis group is held at the CARE offices. \n 
URL:https://www.careofsem.com/event/living-in-recovery-29-2-3-2-2/2029-10-01/
LOCATION:CARE Office\, 18441 Utica Rd\, Roseville\, MI\, 48066\, United States
CATEGORIES:Classes & Groups,Peer Recovery,Peer Recovery,Recovery Coaching,Recovery Community Center,Substance Abuse,Substance Abuse Recovery
ATTACH;FMTTYPE=image/jpeg:https://www.careofsem.com/wp-content/uploads/2026/02/Living-in-Recovery.jpg
END:VEVENT
BEGIN:VEVENT
DTSTART;TZID=America/Detroit:20291002T100000
DTEND;TZID=America/Detroit:20291002T110000
DTSTAMP:20260425T145345
CREATED:20260210T180441Z
LAST-MODIFIED:20260210T180442Z
UID:10039420-1885629600-1885633200@www.careofsem.com
SUMMARY:Living in Recovery
DESCRIPTION:Join a peer-led group that explores strategies for strengthening recovery. Men and women welcome. \nThis group is held at the CARE offices. \n 
URL:https://www.careofsem.com/event/living-in-recovery-29-2-2-2-2/2029-10-02/
LOCATION:CARE Office\, 18441 Utica Rd\, Roseville\, MI\, 48066\, United States
CATEGORIES:Classes & Groups,Peer Recovery,Peer Recovery,Recovery Coaching,Recovery Community Center,Substance Abuse,Substance Abuse Recovery
END:VEVENT
BEGIN:VEVENT
DTSTART;TZID=America/Detroit:20291002T170000
DTEND;TZID=America/Detroit:20291002T190000
DTSTAMP:20260425T145345
CREATED:20250401T154853Z
LAST-MODIFIED:20251008T141055Z
UID:10032888-1885654800-1885662000@www.careofsem.com
SUMMARY:Project VOX
DESCRIPTION:Get involved in the advocacy\, education\, and celebration aspects of recovery. \nCall CARE for more information. Held at the CARE offices or you can join via zoom 856 4804 5860
URL:https://www.careofsem.com/event/project-vox-17-2/2029-10-02/
LOCATION:CARE of Southeastern Michigan\, 18441 Utica Road\, Roseville\, MI\, 48066\, United States
CATEGORIES:Classes & Groups,Peer Recovery,Peer Recovery Groups,Project Vox,Recovery Coaching,Recovery Community Center,Substance Abuse Recovery
END:VEVENT
BEGIN:VEVENT
DTSTART;TZID=America/Detroit:20291008T100000
DTEND;TZID=America/Detroit:20291008T110000
DTSTAMP:20260425T145345
CREATED:20260210T175836Z
LAST-MODIFIED:20260310T164240Z
UID:10039682-1886148000-1886151600@www.careofsem.com
SUMMARY:Living in Recovery
DESCRIPTION:Join a peer-led group that explores strategies for strengthening recovery. Men and women welcome. \nThis group is held at the CARE offices. \n 
URL:https://www.careofsem.com/event/living-in-recovery-29-2-3-2-2/2029-10-08/
LOCATION:CARE Office\, 18441 Utica Rd\, Roseville\, MI\, 48066\, United States
CATEGORIES:Classes & Groups,Peer Recovery,Peer Recovery,Recovery Coaching,Recovery Community Center,Substance Abuse,Substance Abuse Recovery
ATTACH;FMTTYPE=image/jpeg:https://www.careofsem.com/wp-content/uploads/2026/02/Living-in-Recovery.jpg
END:VEVENT
BEGIN:VEVENT
DTSTART;TZID=America/Detroit:20291009T100000
DTEND;TZID=America/Detroit:20291009T110000
DTSTAMP:20260425T145345
CREATED:20260210T180441Z
LAST-MODIFIED:20260210T180442Z
UID:10039421-1886234400-1886238000@www.careofsem.com
SUMMARY:Living in Recovery
DESCRIPTION:Join a peer-led group that explores strategies for strengthening recovery. Men and women welcome. \nThis group is held at the CARE offices. \n 
URL:https://www.careofsem.com/event/living-in-recovery-29-2-2-2-2/2029-10-09/
LOCATION:CARE Office\, 18441 Utica Rd\, Roseville\, MI\, 48066\, United States
CATEGORIES:Classes & Groups,Peer Recovery,Peer Recovery,Recovery Coaching,Recovery Community Center,Substance Abuse,Substance Abuse Recovery
END:VEVENT
BEGIN:VEVENT
DTSTART;TZID=America/Detroit:20291015T100000
DTEND;TZID=America/Detroit:20291015T110000
DTSTAMP:20260425T145345
CREATED:20260210T175836Z
LAST-MODIFIED:20260310T164240Z
UID:10039683-1886752800-1886756400@www.careofsem.com
SUMMARY:Living in Recovery
DESCRIPTION:Join a peer-led group that explores strategies for strengthening recovery. Men and women welcome. \nThis group is held at the CARE offices. \n 
URL:https://www.careofsem.com/event/living-in-recovery-29-2-3-2-2/2029-10-15/
LOCATION:CARE Office\, 18441 Utica Rd\, Roseville\, MI\, 48066\, United States
CATEGORIES:Classes & Groups,Peer Recovery,Peer Recovery,Recovery Coaching,Recovery Community Center,Substance Abuse,Substance Abuse Recovery
ATTACH;FMTTYPE=image/jpeg:https://www.careofsem.com/wp-content/uploads/2026/02/Living-in-Recovery.jpg
END:VEVENT
BEGIN:VEVENT
DTSTART;TZID=America/Detroit:20291016T100000
DTEND;TZID=America/Detroit:20291016T110000
DTSTAMP:20260425T145345
CREATED:20260210T180441Z
LAST-MODIFIED:20260210T180442Z
UID:10039422-1886839200-1886842800@www.careofsem.com
SUMMARY:Living in Recovery
DESCRIPTION:Join a peer-led group that explores strategies for strengthening recovery. Men and women welcome. \nThis group is held at the CARE offices. \n 
URL:https://www.careofsem.com/event/living-in-recovery-29-2-2-2-2/2029-10-16/
LOCATION:CARE Office\, 18441 Utica Rd\, Roseville\, MI\, 48066\, United States
CATEGORIES:Classes & Groups,Peer Recovery,Peer Recovery,Recovery Coaching,Recovery Community Center,Substance Abuse,Substance Abuse Recovery
END:VEVENT
BEGIN:VEVENT
DTSTART;TZID=America/Detroit:20291022T100000
DTEND;TZID=America/Detroit:20291022T110000
DTSTAMP:20260425T145345
CREATED:20260210T175836Z
LAST-MODIFIED:20260310T164240Z
UID:10039684-1887357600-1887361200@www.careofsem.com
SUMMARY:Living in Recovery
DESCRIPTION:Join a peer-led group that explores strategies for strengthening recovery. Men and women welcome. \nThis group is held at the CARE offices. \n 
URL:https://www.careofsem.com/event/living-in-recovery-29-2-3-2-2/2029-10-22/
LOCATION:CARE Office\, 18441 Utica Rd\, Roseville\, MI\, 48066\, United States
CATEGORIES:Classes & Groups,Peer Recovery,Peer Recovery,Recovery Coaching,Recovery Community Center,Substance Abuse,Substance Abuse Recovery
ATTACH;FMTTYPE=image/jpeg:https://www.careofsem.com/wp-content/uploads/2026/02/Living-in-Recovery.jpg
END:VEVENT
BEGIN:VEVENT
DTSTART;TZID=America/Detroit:20291023T100000
DTEND;TZID=America/Detroit:20291023T110000
DTSTAMP:20260425T145345
CREATED:20260210T180441Z
LAST-MODIFIED:20260210T180442Z
UID:10039423-1887444000-1887447600@www.careofsem.com
SUMMARY:Living in Recovery
DESCRIPTION:Join a peer-led group that explores strategies for strengthening recovery. Men and women welcome. \nThis group is held at the CARE offices. \n 
URL:https://www.careofsem.com/event/living-in-recovery-29-2-2-2-2/2029-10-23/
LOCATION:CARE Office\, 18441 Utica Rd\, Roseville\, MI\, 48066\, United States
CATEGORIES:Classes & Groups,Peer Recovery,Peer Recovery,Recovery Coaching,Recovery Community Center,Substance Abuse,Substance Abuse Recovery
END:VEVENT
BEGIN:VEVENT
DTSTART;TZID=America/Detroit:20291029T100000
DTEND;TZID=America/Detroit:20291029T110000
DTSTAMP:20260425T145346
CREATED:20260210T175836Z
LAST-MODIFIED:20260310T164240Z
UID:10039685-1887962400-1887966000@www.careofsem.com
SUMMARY:Living in Recovery
DESCRIPTION:Join a peer-led group that explores strategies for strengthening recovery. Men and women welcome. \nThis group is held at the CARE offices. \n 
URL:https://www.careofsem.com/event/living-in-recovery-29-2-3-2-2/2029-10-29/
LOCATION:CARE Office\, 18441 Utica Rd\, Roseville\, MI\, 48066\, United States
CATEGORIES:Classes & Groups,Peer Recovery,Peer Recovery,Recovery Coaching,Recovery Community Center,Substance Abuse,Substance Abuse Recovery
ATTACH;FMTTYPE=image/jpeg:https://www.careofsem.com/wp-content/uploads/2026/02/Living-in-Recovery.jpg
END:VEVENT
BEGIN:VEVENT
DTSTART;TZID=America/Detroit:20291030T100000
DTEND;TZID=America/Detroit:20291030T110000
DTSTAMP:20260425T145346
CREATED:20260210T180441Z
LAST-MODIFIED:20260210T180442Z
UID:10039424-1888048800-1888052400@www.careofsem.com
SUMMARY:Living in Recovery
DESCRIPTION:Join a peer-led group that explores strategies for strengthening recovery. Men and women welcome. \nThis group is held at the CARE offices. \n 
URL:https://www.careofsem.com/event/living-in-recovery-29-2-2-2-2/2029-10-30/
LOCATION:CARE Office\, 18441 Utica Rd\, Roseville\, MI\, 48066\, United States
CATEGORIES:Classes & Groups,Peer Recovery,Peer Recovery,Recovery Coaching,Recovery Community Center,Substance Abuse,Substance Abuse Recovery
END:VEVENT
BEGIN:VEVENT
DTSTART;TZID=America/Detroit:20291105T100000
DTEND;TZID=America/Detroit:20291105T110000
DTSTAMP:20260425T145346
CREATED:20260210T175836Z
LAST-MODIFIED:20260310T164240Z
UID:10039686-1888567200-1888570800@www.careofsem.com
SUMMARY:Living in Recovery
DESCRIPTION:Join a peer-led group that explores strategies for strengthening recovery. Men and women welcome. \nThis group is held at the CARE offices. \n 
URL:https://www.careofsem.com/event/living-in-recovery-29-2-3-2-2/2029-11-05/
LOCATION:CARE Office\, 18441 Utica Rd\, Roseville\, MI\, 48066\, United States
CATEGORIES:Classes & Groups,Peer Recovery,Peer Recovery,Recovery Coaching,Recovery Community Center,Substance Abuse,Substance Abuse Recovery
ATTACH;FMTTYPE=image/jpeg:https://www.careofsem.com/wp-content/uploads/2026/02/Living-in-Recovery.jpg
END:VEVENT
BEGIN:VEVENT
DTSTART;TZID=America/Detroit:20291106T100000
DTEND;TZID=America/Detroit:20291106T110000
DTSTAMP:20260425T145346
CREATED:20260210T180441Z
LAST-MODIFIED:20260210T180442Z
UID:10039425-1888653600-1888657200@www.careofsem.com
SUMMARY:Living in Recovery
DESCRIPTION:Join a peer-led group that explores strategies for strengthening recovery. Men and women welcome. \nThis group is held at the CARE offices. \n 
URL:https://www.careofsem.com/event/living-in-recovery-29-2-2-2-2/2029-11-06/
LOCATION:CARE Office\, 18441 Utica Rd\, Roseville\, MI\, 48066\, United States
CATEGORIES:Classes & Groups,Peer Recovery,Peer Recovery,Recovery Coaching,Recovery Community Center,Substance Abuse,Substance Abuse Recovery
END:VEVENT
BEGIN:VEVENT
DTSTART;TZID=America/Detroit:20291106T170000
DTEND;TZID=America/Detroit:20291106T190000
DTSTAMP:20260425T145346
CREATED:20250401T154853Z
LAST-MODIFIED:20251008T141055Z
UID:10032889-1888678800-1888686000@www.careofsem.com
SUMMARY:Project VOX
DESCRIPTION:Get involved in the advocacy\, education\, and celebration aspects of recovery. \nCall CARE for more information. Held at the CARE offices or you can join via zoom 856 4804 5860
URL:https://www.careofsem.com/event/project-vox-17-2/2029-11-06/
LOCATION:CARE of Southeastern Michigan\, 18441 Utica Road\, Roseville\, MI\, 48066\, United States
CATEGORIES:Classes & Groups,Peer Recovery,Peer Recovery Groups,Project Vox,Recovery Coaching,Recovery Community Center,Substance Abuse Recovery
END:VEVENT
BEGIN:VEVENT
DTSTART;TZID=America/Detroit:20291112T100000
DTEND;TZID=America/Detroit:20291112T110000
DTSTAMP:20260425T145346
CREATED:20260210T175836Z
LAST-MODIFIED:20260310T164240Z
UID:10039687-1889172000-1889175600@www.careofsem.com
SUMMARY:Living in Recovery
DESCRIPTION:Join a peer-led group that explores strategies for strengthening recovery. Men and women welcome. \nThis group is held at the CARE offices. \n 
URL:https://www.careofsem.com/event/living-in-recovery-29-2-3-2-2/2029-11-12/
LOCATION:CARE Office\, 18441 Utica Rd\, Roseville\, MI\, 48066\, United States
CATEGORIES:Classes & Groups,Peer Recovery,Peer Recovery,Recovery Coaching,Recovery Community Center,Substance Abuse,Substance Abuse Recovery
ATTACH;FMTTYPE=image/jpeg:https://www.careofsem.com/wp-content/uploads/2026/02/Living-in-Recovery.jpg
END:VEVENT
BEGIN:VEVENT
DTSTART;TZID=America/Detroit:20291113T100000
DTEND;TZID=America/Detroit:20291113T110000
DTSTAMP:20260425T145346
CREATED:20260210T180441Z
LAST-MODIFIED:20260210T180442Z
UID:10039426-1889258400-1889262000@www.careofsem.com
SUMMARY:Living in Recovery
DESCRIPTION:Join a peer-led group that explores strategies for strengthening recovery. Men and women welcome. \nThis group is held at the CARE offices. \n 
URL:https://www.careofsem.com/event/living-in-recovery-29-2-2-2-2/2029-11-13/
LOCATION:CARE Office\, 18441 Utica Rd\, Roseville\, MI\, 48066\, United States
CATEGORIES:Classes & Groups,Peer Recovery,Peer Recovery,Recovery Coaching,Recovery Community Center,Substance Abuse,Substance Abuse Recovery
END:VEVENT
BEGIN:VEVENT
DTSTART;TZID=America/Detroit:20291119T100000
DTEND;TZID=America/Detroit:20291119T110000
DTSTAMP:20260425T145346
CREATED:20260210T175836Z
LAST-MODIFIED:20260310T164240Z
UID:10039688-1889776800-1889780400@www.careofsem.com
SUMMARY:Living in Recovery
DESCRIPTION:Join a peer-led group that explores strategies for strengthening recovery. Men and women welcome. \nThis group is held at the CARE offices. \n 
URL:https://www.careofsem.com/event/living-in-recovery-29-2-3-2-2/2029-11-19/
LOCATION:CARE Office\, 18441 Utica Rd\, Roseville\, MI\, 48066\, United States
CATEGORIES:Classes & Groups,Peer Recovery,Peer Recovery,Recovery Coaching,Recovery Community Center,Substance Abuse,Substance Abuse Recovery
ATTACH;FMTTYPE=image/jpeg:https://www.careofsem.com/wp-content/uploads/2026/02/Living-in-Recovery.jpg
END:VEVENT
BEGIN:VEVENT
DTSTART;TZID=America/Detroit:20291120T100000
DTEND;TZID=America/Detroit:20291120T110000
DTSTAMP:20260425T145346
CREATED:20260210T180441Z
LAST-MODIFIED:20260210T180442Z
UID:10039427-1889863200-1889866800@www.careofsem.com
SUMMARY:Living in Recovery
DESCRIPTION:Join a peer-led group that explores strategies for strengthening recovery. Men and women welcome. \nThis group is held at the CARE offices. \n 
URL:https://www.careofsem.com/event/living-in-recovery-29-2-2-2-2/2029-11-20/
LOCATION:CARE Office\, 18441 Utica Rd\, Roseville\, MI\, 48066\, United States
CATEGORIES:Classes & Groups,Peer Recovery,Peer Recovery,Recovery Coaching,Recovery Community Center,Substance Abuse,Substance Abuse Recovery
END:VEVENT
BEGIN:VEVENT
DTSTART;TZID=America/Detroit:20291126T100000
DTEND;TZID=America/Detroit:20291126T110000
DTSTAMP:20260425T145346
CREATED:20260210T175836Z
LAST-MODIFIED:20260310T164240Z
UID:10039689-1890381600-1890385200@www.careofsem.com
SUMMARY:Living in Recovery
DESCRIPTION:Join a peer-led group that explores strategies for strengthening recovery. Men and women welcome. \nThis group is held at the CARE offices. \n 
URL:https://www.careofsem.com/event/living-in-recovery-29-2-3-2-2/2029-11-26/
LOCATION:CARE Office\, 18441 Utica Rd\, Roseville\, MI\, 48066\, United States
CATEGORIES:Classes & Groups,Peer Recovery,Peer Recovery,Recovery Coaching,Recovery Community Center,Substance Abuse,Substance Abuse Recovery
ATTACH;FMTTYPE=image/jpeg:https://www.careofsem.com/wp-content/uploads/2026/02/Living-in-Recovery.jpg
END:VEVENT
BEGIN:VEVENT
DTSTART;TZID=America/Detroit:20291127T100000
DTEND;TZID=America/Detroit:20291127T110000
DTSTAMP:20260425T145346
CREATED:20260210T180441Z
LAST-MODIFIED:20260210T180442Z
UID:10039428-1890468000-1890471600@www.careofsem.com
SUMMARY:Living in Recovery
DESCRIPTION:Join a peer-led group that explores strategies for strengthening recovery. Men and women welcome. \nThis group is held at the CARE offices. \n 
URL:https://www.careofsem.com/event/living-in-recovery-29-2-2-2-2/2029-11-27/
LOCATION:CARE Office\, 18441 Utica Rd\, Roseville\, MI\, 48066\, United States
CATEGORIES:Classes & Groups,Peer Recovery,Peer Recovery,Recovery Coaching,Recovery Community Center,Substance Abuse,Substance Abuse Recovery
END:VEVENT
BEGIN:VEVENT
DTSTART;TZID=America/Detroit:20291203T100000
DTEND;TZID=America/Detroit:20291203T110000
DTSTAMP:20260425T145346
CREATED:20260210T175836Z
LAST-MODIFIED:20260310T164240Z
UID:10039690-1890986400-1890990000@www.careofsem.com
SUMMARY:Living in Recovery
DESCRIPTION:Join a peer-led group that explores strategies for strengthening recovery. Men and women welcome. \nThis group is held at the CARE offices. \n 
URL:https://www.careofsem.com/event/living-in-recovery-29-2-3-2-2/2029-12-03/
LOCATION:CARE Office\, 18441 Utica Rd\, Roseville\, MI\, 48066\, United States
CATEGORIES:Classes & Groups,Peer Recovery,Peer Recovery,Recovery Coaching,Recovery Community Center,Substance Abuse,Substance Abuse Recovery
ATTACH;FMTTYPE=image/jpeg:https://www.careofsem.com/wp-content/uploads/2026/02/Living-in-Recovery.jpg
END:VEVENT
END:VCALENDAR