BEGIN:VCALENDAR
VERSION:2.0
PRODID:-//CARE of Southeastern Michigan - ECPv6.15.20//NONSGML v1.0//EN
CALSCALE:GREGORIAN
METHOD:PUBLISH
X-WR-CALNAME:CARE of Southeastern Michigan
X-ORIGINAL-URL:https://www.careofsem.com
X-WR-CALDESC:Events for CARE of Southeastern Michigan
REFRESH-INTERVAL;VALUE=DURATION:PT1H
X-Robots-Tag:noindex
X-PUBLISHED-TTL:PT1H
BEGIN:VTIMEZONE
TZID:America/Detroit
BEGIN:DAYLIGHT
TZOFFSETFROM:-0500
TZOFFSETTO:-0400
TZNAME:EDT
DTSTART:20250309T070000
END:DAYLIGHT
BEGIN:STANDARD
TZOFFSETFROM:-0400
TZOFFSETTO:-0500
TZNAME:EST
DTSTART:20251102T060000
END:STANDARD
BEGIN:DAYLIGHT
TZOFFSETFROM:-0500
TZOFFSETTO:-0400
TZNAME:EDT
DTSTART:20260308T070000
END:DAYLIGHT
BEGIN:STANDARD
TZOFFSETFROM:-0400
TZOFFSETTO:-0500
TZNAME:EST
DTSTART:20261101T060000
END:STANDARD
BEGIN:DAYLIGHT
TZOFFSETFROM:-0500
TZOFFSETTO:-0400
TZNAME:EDT
DTSTART:20270314T070000
END:DAYLIGHT
BEGIN:STANDARD
TZOFFSETFROM:-0400
TZOFFSETTO:-0500
TZNAME:EST
DTSTART:20271107T060000
END:STANDARD
END:VTIMEZONE
BEGIN:VEVENT
DTSTART;TZID=America/Detroit:20260901T100000
DTEND;TZID=America/Detroit:20260901T110000
DTSTAMP:20260424T195732
CREATED:20260210T180441Z
LAST-MODIFIED:20260210T180442Z
UID:10039259-1788256800-1788260400@www.careofsem.com
SUMMARY:Living in Recovery
DESCRIPTION:Join a peer-led group that explores strategies for strengthening recovery. Men and women welcome. \nThis group is held at the CARE offices. \n 
URL:https://www.careofsem.com/event/living-in-recovery-29-2-2-2-2/2026-09-01/
LOCATION:CARE Office\, 18441 Utica Rd\, Roseville\, MI\, 48066\, United States
CATEGORIES:Classes & Groups,Peer Recovery,Peer Recovery,Recovery Coaching,Recovery Community Center,Substance Abuse,Substance Abuse Recovery
END:VEVENT
BEGIN:VEVENT
DTSTART;TZID=America/Detroit:20260901T170000
DTEND;TZID=America/Detroit:20260901T190000
DTSTAMP:20260424T195732
CREATED:20250401T154853Z
LAST-MODIFIED:20251008T141055Z
UID:10032851-1788282000-1788289200@www.careofsem.com
SUMMARY:Project VOX
DESCRIPTION:Get involved in the advocacy\, education\, and celebration aspects of recovery. \nCall CARE for more information. Held at the CARE offices or you can join via zoom 856 4804 5860
URL:https://www.careofsem.com/event/project-vox-17-2/2026-09-01/
LOCATION:CARE of Southeastern Michigan\, 18441 Utica Road\, Roseville\, MI\, 48066\, United States
CATEGORIES:Classes & Groups,Peer Recovery,Peer Recovery Groups,Project Vox,Recovery Coaching,Recovery Community Center,Substance Abuse Recovery
END:VEVENT
BEGIN:VEVENT
DTSTART;TZID=America/Detroit:20260901T183000
DTEND;TZID=America/Detroit:20260901T193000
DTSTAMP:20260424T195732
CREATED:20260204T202821Z
LAST-MODIFIED:20260310T164414Z
UID:10038999-1788287400-1788291000@www.careofsem.com
SUMMARY:Men Living in Recovery
DESCRIPTION:Join a peer-led group that discuss issues specific to men and explores strategies for strengthening recovery. \nMen Only. \nThis group is held at the CARE offices.
URL:https://www.careofsem.com/event/men-living-in-recovery-2/2026-09-01/
LOCATION:CARE of Southeastern Michigan\, 18441 Utica Road\, Roseville\, MI\, 48066\, United States
CATEGORIES:Classes & Groups,Peer Recovery,Recovery Community Center
ATTACH;FMTTYPE=image/jpeg:https://www.careofsem.com/wp-content/uploads/2026/02/Men-Living-in-Recovery.jpg
END:VEVENT
BEGIN:VEVENT
DTSTART;TZID=America/Detroit:20260902T100000
DTEND;TZID=America/Detroit:20260902T113000
DTSTAMP:20260424T195732
CREATED:20251008T154849Z
LAST-MODIFIED:20260310T165618Z
UID:10037245-1788343200-1788348600@www.careofsem.com
SUMMARY:SMART Recovery
DESCRIPTION:SMART recovery is an evidence-informed approach to overcoming addictive behaviors and leading a balanced life. \nMen and Women are welcome! \nGroup is held at the CARE offices.
URL:https://www.careofsem.com/event/smart-recovery/2026-09-02/
LOCATION:CARE of Southeastern Michigan\, 18441 Utica Road\, Roseville\, MI\, 48066\, United States
CATEGORIES:Classes & Groups,Peer Recovery,Recovery Community Center
ATTACH;FMTTYPE=image/jpeg:https://www.careofsem.com/wp-content/uploads/2025/10/SMART-Recovery.jpg
END:VEVENT
BEGIN:VEVENT
DTSTART;TZID=America/Detroit:20260902T153000
DTEND;TZID=America/Detroit:20260902T163000
DTSTAMP:20260424T195732
CREATED:20251008T155132Z
LAST-MODIFIED:20260310T164751Z
UID:10037507-1788363000-1788366600@www.careofsem.com
SUMMARY:Relapse Prevention
DESCRIPTION:Join a peer-led group that explores strategies for preventing relapse. \nMen and Women are welcome. \nGroup is held at the CARE offices.
URL:https://www.careofsem.com/event/relapse-prevention/2026-09-02/
LOCATION:CARE of Southeastern Michigan\, 18441 Utica Road\, Roseville\, MI\, 48066\, United States
CATEGORIES:Classes & Groups,Peer Recovery,Recovery Community Center
ATTACH;FMTTYPE=image/jpeg:https://www.careofsem.com/wp-content/uploads/2025/10/Relapse-Prevention.jpg
END:VEVENT
BEGIN:VEVENT
DTSTART;TZID=America/Detroit:20260903T183000
DTEND;TZID=America/Detroit:20260903T193000
DTSTAMP:20260424T195732
CREATED:20251008T160911Z
LAST-MODIFIED:20260310T165951Z
UID:10038293-1788460200-1788463800@www.careofsem.com
SUMMARY:Women Living in Recovery
DESCRIPTION:Join a peer-led group that discuss issues specific to women and explores strategies for strengthening recovery. \nWomen Only. \nThis group is held at the CARE offices.
URL:https://www.careofsem.com/event/women-living-in-recovery/2026-09-03/
LOCATION:CARE of Southeastern Michigan\, 18441 Utica Road\, Roseville\, MI\, 48066\, United States
CATEGORIES:Classes & Groups,Peer Recovery,Recovery Community Center
ATTACH;FMTTYPE=image/jpeg:https://www.careofsem.com/wp-content/uploads/2025/10/Women-Living-in-Recovery.jpg
END:VEVENT
BEGIN:VEVENT
DTSTART;TZID=America/Detroit:20260904T100000
DTEND;TZID=America/Detroit:20260904T110000
DTSTAMP:20260424T195732
CREATED:20251008T155214Z
LAST-MODIFIED:20251008T155911Z
UID:10037769-1788516000-1788519600@www.careofsem.com
SUMMARY:Relapse Prevention
DESCRIPTION:Join a peer-led group that explores strategies for preventing relapse. \nMen and Women are welcome. \nGroup is held at the CARE offices.
URL:https://www.careofsem.com/event/relapse-prevention-2/2026-09-04/
LOCATION:MI
CATEGORIES:Classes & Groups,Peer Recovery,Recovery Community Center
END:VEVENT
BEGIN:VEVENT
DTSTART;TZID=America/Detroit:20260907T100000
DTEND;TZID=America/Detroit:20260907T110000
DTSTAMP:20260424T195732
CREATED:20260210T175836Z
LAST-MODIFIED:20260310T164240Z
UID:10039521-1788775200-1788778800@www.careofsem.com
SUMMARY:Living in Recovery
DESCRIPTION:Join a peer-led group that explores strategies for strengthening recovery. Men and women welcome. \nThis group is held at the CARE offices. \n 
URL:https://www.careofsem.com/event/living-in-recovery-29-2-3-2-2/2026-09-07/
LOCATION:CARE Office\, 18441 Utica Rd\, Roseville\, MI\, 48066\, United States
CATEGORIES:Classes & Groups,Peer Recovery,Peer Recovery,Recovery Coaching,Recovery Community Center,Substance Abuse,Substance Abuse Recovery
ATTACH;FMTTYPE=image/jpeg:https://www.careofsem.com/wp-content/uploads/2026/02/Living-in-Recovery.jpg
END:VEVENT
BEGIN:VEVENT
DTSTART;TZID=America/Detroit:20260908T100000
DTEND;TZID=America/Detroit:20260908T110000
DTSTAMP:20260424T195732
CREATED:20260210T180441Z
LAST-MODIFIED:20260210T180442Z
UID:10039260-1788861600-1788865200@www.careofsem.com
SUMMARY:Living in Recovery
DESCRIPTION:Join a peer-led group that explores strategies for strengthening recovery. Men and women welcome. \nThis group is held at the CARE offices. \n 
URL:https://www.careofsem.com/event/living-in-recovery-29-2-2-2-2/2026-09-08/
LOCATION:CARE Office\, 18441 Utica Rd\, Roseville\, MI\, 48066\, United States
CATEGORIES:Classes & Groups,Peer Recovery,Peer Recovery,Recovery Coaching,Recovery Community Center,Substance Abuse,Substance Abuse Recovery
END:VEVENT
BEGIN:VEVENT
DTSTART;TZID=America/Detroit:20260908T183000
DTEND;TZID=America/Detroit:20260908T193000
DTSTAMP:20260424T195732
CREATED:20260204T202821Z
LAST-MODIFIED:20260310T164414Z
UID:10039000-1788892200-1788895800@www.careofsem.com
SUMMARY:Men Living in Recovery
DESCRIPTION:Join a peer-led group that discuss issues specific to men and explores strategies for strengthening recovery. \nMen Only. \nThis group is held at the CARE offices.
URL:https://www.careofsem.com/event/men-living-in-recovery-2/2026-09-08/
LOCATION:CARE of Southeastern Michigan\, 18441 Utica Road\, Roseville\, MI\, 48066\, United States
CATEGORIES:Classes & Groups,Peer Recovery,Recovery Community Center
ATTACH;FMTTYPE=image/jpeg:https://www.careofsem.com/wp-content/uploads/2026/02/Men-Living-in-Recovery.jpg
END:VEVENT
BEGIN:VEVENT
DTSTART;TZID=America/Detroit:20260909T100000
DTEND;TZID=America/Detroit:20260909T113000
DTSTAMP:20260424T195732
CREATED:20251008T154849Z
LAST-MODIFIED:20260310T165618Z
UID:10037246-1788948000-1788953400@www.careofsem.com
SUMMARY:SMART Recovery
DESCRIPTION:SMART recovery is an evidence-informed approach to overcoming addictive behaviors and leading a balanced life. \nMen and Women are welcome! \nGroup is held at the CARE offices.
URL:https://www.careofsem.com/event/smart-recovery/2026-09-09/
LOCATION:CARE of Southeastern Michigan\, 18441 Utica Road\, Roseville\, MI\, 48066\, United States
CATEGORIES:Classes & Groups,Peer Recovery,Recovery Community Center
ATTACH;FMTTYPE=image/jpeg:https://www.careofsem.com/wp-content/uploads/2025/10/SMART-Recovery.jpg
END:VEVENT
BEGIN:VEVENT
DTSTART;TZID=America/Detroit:20260909T153000
DTEND;TZID=America/Detroit:20260909T163000
DTSTAMP:20260424T195732
CREATED:20251008T155132Z
LAST-MODIFIED:20260310T164751Z
UID:10037508-1788967800-1788971400@www.careofsem.com
SUMMARY:Relapse Prevention
DESCRIPTION:Join a peer-led group that explores strategies for preventing relapse. \nMen and Women are welcome. \nGroup is held at the CARE offices.
URL:https://www.careofsem.com/event/relapse-prevention/2026-09-09/
LOCATION:CARE of Southeastern Michigan\, 18441 Utica Road\, Roseville\, MI\, 48066\, United States
CATEGORIES:Classes & Groups,Peer Recovery,Recovery Community Center
ATTACH;FMTTYPE=image/jpeg:https://www.careofsem.com/wp-content/uploads/2025/10/Relapse-Prevention.jpg
END:VEVENT
BEGIN:VEVENT
DTSTART;TZID=America/Detroit:20260910T183000
DTEND;TZID=America/Detroit:20260910T193000
DTSTAMP:20260424T195732
CREATED:20251008T160911Z
LAST-MODIFIED:20260310T165951Z
UID:10038294-1789065000-1789068600@www.careofsem.com
SUMMARY:Women Living in Recovery
DESCRIPTION:Join a peer-led group that discuss issues specific to women and explores strategies for strengthening recovery. \nWomen Only. \nThis group is held at the CARE offices.
URL:https://www.careofsem.com/event/women-living-in-recovery/2026-09-10/
LOCATION:CARE of Southeastern Michigan\, 18441 Utica Road\, Roseville\, MI\, 48066\, United States
CATEGORIES:Classes & Groups,Peer Recovery,Recovery Community Center
ATTACH;FMTTYPE=image/jpeg:https://www.careofsem.com/wp-content/uploads/2025/10/Women-Living-in-Recovery.jpg
END:VEVENT
BEGIN:VEVENT
DTSTART;TZID=America/Detroit:20260911T100000
DTEND;TZID=America/Detroit:20260911T110000
DTSTAMP:20260424T195732
CREATED:20251008T155214Z
LAST-MODIFIED:20251008T155911Z
UID:10037770-1789120800-1789124400@www.careofsem.com
SUMMARY:Relapse Prevention
DESCRIPTION:Join a peer-led group that explores strategies for preventing relapse. \nMen and Women are welcome. \nGroup is held at the CARE offices.
URL:https://www.careofsem.com/event/relapse-prevention-2/2026-09-11/
LOCATION:MI
CATEGORIES:Classes & Groups,Peer Recovery,Recovery Community Center
END:VEVENT
BEGIN:VEVENT
DTSTART;TZID=America/Detroit:20260914T100000
DTEND;TZID=America/Detroit:20260914T110000
DTSTAMP:20260424T195732
CREATED:20260210T175836Z
LAST-MODIFIED:20260310T164240Z
UID:10039522-1789380000-1789383600@www.careofsem.com
SUMMARY:Living in Recovery
DESCRIPTION:Join a peer-led group that explores strategies for strengthening recovery. Men and women welcome. \nThis group is held at the CARE offices. \n 
URL:https://www.careofsem.com/event/living-in-recovery-29-2-3-2-2/2026-09-14/
LOCATION:CARE Office\, 18441 Utica Rd\, Roseville\, MI\, 48066\, United States
CATEGORIES:Classes & Groups,Peer Recovery,Peer Recovery,Recovery Coaching,Recovery Community Center,Substance Abuse,Substance Abuse Recovery
ATTACH;FMTTYPE=image/jpeg:https://www.careofsem.com/wp-content/uploads/2026/02/Living-in-Recovery.jpg
END:VEVENT
BEGIN:VEVENT
DTSTART;TZID=America/Detroit:20260915T100000
DTEND;TZID=America/Detroit:20260915T110000
DTSTAMP:20260424T195732
CREATED:20260210T180441Z
LAST-MODIFIED:20260210T180442Z
UID:10039261-1789466400-1789470000@www.careofsem.com
SUMMARY:Living in Recovery
DESCRIPTION:Join a peer-led group that explores strategies for strengthening recovery. Men and women welcome. \nThis group is held at the CARE offices. \n 
URL:https://www.careofsem.com/event/living-in-recovery-29-2-2-2-2/2026-09-15/
LOCATION:CARE Office\, 18441 Utica Rd\, Roseville\, MI\, 48066\, United States
CATEGORIES:Classes & Groups,Peer Recovery,Peer Recovery,Recovery Coaching,Recovery Community Center,Substance Abuse,Substance Abuse Recovery
END:VEVENT
BEGIN:VEVENT
DTSTART;TZID=America/Detroit:20260915T183000
DTEND;TZID=America/Detroit:20260915T193000
DTSTAMP:20260424T195732
CREATED:20260204T202821Z
LAST-MODIFIED:20260310T164414Z
UID:10039001-1789497000-1789500600@www.careofsem.com
SUMMARY:Men Living in Recovery
DESCRIPTION:Join a peer-led group that discuss issues specific to men and explores strategies for strengthening recovery. \nMen Only. \nThis group is held at the CARE offices.
URL:https://www.careofsem.com/event/men-living-in-recovery-2/2026-09-15/
LOCATION:CARE of Southeastern Michigan\, 18441 Utica Road\, Roseville\, MI\, 48066\, United States
CATEGORIES:Classes & Groups,Peer Recovery,Recovery Community Center
ATTACH;FMTTYPE=image/jpeg:https://www.careofsem.com/wp-content/uploads/2026/02/Men-Living-in-Recovery.jpg
END:VEVENT
BEGIN:VEVENT
DTSTART;TZID=America/Detroit:20260916T100000
DTEND;TZID=America/Detroit:20260916T113000
DTSTAMP:20260424T195732
CREATED:20251008T154849Z
LAST-MODIFIED:20260310T165618Z
UID:10037247-1789552800-1789558200@www.careofsem.com
SUMMARY:SMART Recovery
DESCRIPTION:SMART recovery is an evidence-informed approach to overcoming addictive behaviors and leading a balanced life. \nMen and Women are welcome! \nGroup is held at the CARE offices.
URL:https://www.careofsem.com/event/smart-recovery/2026-09-16/
LOCATION:CARE of Southeastern Michigan\, 18441 Utica Road\, Roseville\, MI\, 48066\, United States
CATEGORIES:Classes & Groups,Peer Recovery,Recovery Community Center
ATTACH;FMTTYPE=image/jpeg:https://www.careofsem.com/wp-content/uploads/2025/10/SMART-Recovery.jpg
END:VEVENT
BEGIN:VEVENT
DTSTART;TZID=America/Detroit:20260916T153000
DTEND;TZID=America/Detroit:20260916T163000
DTSTAMP:20260424T195732
CREATED:20251008T155132Z
LAST-MODIFIED:20260310T164751Z
UID:10037509-1789572600-1789576200@www.careofsem.com
SUMMARY:Relapse Prevention
DESCRIPTION:Join a peer-led group that explores strategies for preventing relapse. \nMen and Women are welcome. \nGroup is held at the CARE offices.
URL:https://www.careofsem.com/event/relapse-prevention/2026-09-16/
LOCATION:CARE of Southeastern Michigan\, 18441 Utica Road\, Roseville\, MI\, 48066\, United States
CATEGORIES:Classes & Groups,Peer Recovery,Recovery Community Center
ATTACH;FMTTYPE=image/jpeg:https://www.careofsem.com/wp-content/uploads/2025/10/Relapse-Prevention.jpg
END:VEVENT
BEGIN:VEVENT
DTSTART;TZID=America/Detroit:20260917T183000
DTEND;TZID=America/Detroit:20260917T193000
DTSTAMP:20260424T195732
CREATED:20251008T160911Z
LAST-MODIFIED:20260310T165951Z
UID:10038295-1789669800-1789673400@www.careofsem.com
SUMMARY:Women Living in Recovery
DESCRIPTION:Join a peer-led group that discuss issues specific to women and explores strategies for strengthening recovery. \nWomen Only. \nThis group is held at the CARE offices.
URL:https://www.careofsem.com/event/women-living-in-recovery/2026-09-17/
LOCATION:CARE of Southeastern Michigan\, 18441 Utica Road\, Roseville\, MI\, 48066\, United States
CATEGORIES:Classes & Groups,Peer Recovery,Recovery Community Center
ATTACH;FMTTYPE=image/jpeg:https://www.careofsem.com/wp-content/uploads/2025/10/Women-Living-in-Recovery.jpg
END:VEVENT
BEGIN:VEVENT
DTSTART;TZID=America/Detroit:20260918T100000
DTEND;TZID=America/Detroit:20260918T110000
DTSTAMP:20260424T195732
CREATED:20251008T155214Z
LAST-MODIFIED:20251008T155911Z
UID:10037771-1789725600-1789729200@www.careofsem.com
SUMMARY:Relapse Prevention
DESCRIPTION:Join a peer-led group that explores strategies for preventing relapse. \nMen and Women are welcome. \nGroup is held at the CARE offices.
URL:https://www.careofsem.com/event/relapse-prevention-2/2026-09-18/
LOCATION:MI
CATEGORIES:Classes & Groups,Peer Recovery,Recovery Community Center
END:VEVENT
BEGIN:VEVENT
DTSTART;TZID=America/Detroit:20260921T100000
DTEND;TZID=America/Detroit:20260921T110000
DTSTAMP:20260424T195732
CREATED:20260210T175836Z
LAST-MODIFIED:20260310T164240Z
UID:10039523-1789984800-1789988400@www.careofsem.com
SUMMARY:Living in Recovery
DESCRIPTION:Join a peer-led group that explores strategies for strengthening recovery. Men and women welcome. \nThis group is held at the CARE offices. \n 
URL:https://www.careofsem.com/event/living-in-recovery-29-2-3-2-2/2026-09-21/
LOCATION:CARE Office\, 18441 Utica Rd\, Roseville\, MI\, 48066\, United States
CATEGORIES:Classes & Groups,Peer Recovery,Peer Recovery,Recovery Coaching,Recovery Community Center,Substance Abuse,Substance Abuse Recovery
ATTACH;FMTTYPE=image/jpeg:https://www.careofsem.com/wp-content/uploads/2026/02/Living-in-Recovery.jpg
END:VEVENT
BEGIN:VEVENT
DTSTART;TZID=America/Detroit:20260922T100000
DTEND;TZID=America/Detroit:20260922T110000
DTSTAMP:20260424T195732
CREATED:20260210T180441Z
LAST-MODIFIED:20260210T180442Z
UID:10039262-1790071200-1790074800@www.careofsem.com
SUMMARY:Living in Recovery
DESCRIPTION:Join a peer-led group that explores strategies for strengthening recovery. Men and women welcome. \nThis group is held at the CARE offices. \n 
URL:https://www.careofsem.com/event/living-in-recovery-29-2-2-2-2/2026-09-22/
LOCATION:CARE Office\, 18441 Utica Rd\, Roseville\, MI\, 48066\, United States
CATEGORIES:Classes & Groups,Peer Recovery,Peer Recovery,Recovery Coaching,Recovery Community Center,Substance Abuse,Substance Abuse Recovery
END:VEVENT
BEGIN:VEVENT
DTSTART;TZID=America/Detroit:20260922T183000
DTEND;TZID=America/Detroit:20260922T193000
DTSTAMP:20260424T195732
CREATED:20260204T202821Z
LAST-MODIFIED:20260310T164414Z
UID:10039002-1790101800-1790105400@www.careofsem.com
SUMMARY:Men Living in Recovery
DESCRIPTION:Join a peer-led group that discuss issues specific to men and explores strategies for strengthening recovery. \nMen Only. \nThis group is held at the CARE offices.
URL:https://www.careofsem.com/event/men-living-in-recovery-2/2026-09-22/
LOCATION:CARE of Southeastern Michigan\, 18441 Utica Road\, Roseville\, MI\, 48066\, United States
CATEGORIES:Classes & Groups,Peer Recovery,Recovery Community Center
ATTACH;FMTTYPE=image/jpeg:https://www.careofsem.com/wp-content/uploads/2026/02/Men-Living-in-Recovery.jpg
END:VEVENT
BEGIN:VEVENT
DTSTART;TZID=America/Detroit:20260923T100000
DTEND;TZID=America/Detroit:20260923T113000
DTSTAMP:20260424T195732
CREATED:20251008T154849Z
LAST-MODIFIED:20260310T165618Z
UID:10037248-1790157600-1790163000@www.careofsem.com
SUMMARY:SMART Recovery
DESCRIPTION:SMART recovery is an evidence-informed approach to overcoming addictive behaviors and leading a balanced life. \nMen and Women are welcome! \nGroup is held at the CARE offices.
URL:https://www.careofsem.com/event/smart-recovery/2026-09-23/
LOCATION:CARE of Southeastern Michigan\, 18441 Utica Road\, Roseville\, MI\, 48066\, United States
CATEGORIES:Classes & Groups,Peer Recovery,Recovery Community Center
ATTACH;FMTTYPE=image/jpeg:https://www.careofsem.com/wp-content/uploads/2025/10/SMART-Recovery.jpg
END:VEVENT
BEGIN:VEVENT
DTSTART;TZID=America/Detroit:20260923T153000
DTEND;TZID=America/Detroit:20260923T163000
DTSTAMP:20260424T195732
CREATED:20251008T155132Z
LAST-MODIFIED:20260310T164751Z
UID:10037510-1790177400-1790181000@www.careofsem.com
SUMMARY:Relapse Prevention
DESCRIPTION:Join a peer-led group that explores strategies for preventing relapse. \nMen and Women are welcome. \nGroup is held at the CARE offices.
URL:https://www.careofsem.com/event/relapse-prevention/2026-09-23/
LOCATION:CARE of Southeastern Michigan\, 18441 Utica Road\, Roseville\, MI\, 48066\, United States
CATEGORIES:Classes & Groups,Peer Recovery,Recovery Community Center
ATTACH;FMTTYPE=image/jpeg:https://www.careofsem.com/wp-content/uploads/2025/10/Relapse-Prevention.jpg
END:VEVENT
BEGIN:VEVENT
DTSTART;TZID=America/Detroit:20260924T183000
DTEND;TZID=America/Detroit:20260924T193000
DTSTAMP:20260424T195732
CREATED:20251008T160911Z
LAST-MODIFIED:20260310T165951Z
UID:10038296-1790274600-1790278200@www.careofsem.com
SUMMARY:Women Living in Recovery
DESCRIPTION:Join a peer-led group that discuss issues specific to women and explores strategies for strengthening recovery. \nWomen Only. \nThis group is held at the CARE offices.
URL:https://www.careofsem.com/event/women-living-in-recovery/2026-09-24/
LOCATION:CARE of Southeastern Michigan\, 18441 Utica Road\, Roseville\, MI\, 48066\, United States
CATEGORIES:Classes & Groups,Peer Recovery,Recovery Community Center
ATTACH;FMTTYPE=image/jpeg:https://www.careofsem.com/wp-content/uploads/2025/10/Women-Living-in-Recovery.jpg
END:VEVENT
BEGIN:VEVENT
DTSTART;TZID=America/Detroit:20260925T100000
DTEND;TZID=America/Detroit:20260925T110000
DTSTAMP:20260424T195732
CREATED:20251008T155214Z
LAST-MODIFIED:20251008T155911Z
UID:10037772-1790330400-1790334000@www.careofsem.com
SUMMARY:Relapse Prevention
DESCRIPTION:Join a peer-led group that explores strategies for preventing relapse. \nMen and Women are welcome. \nGroup is held at the CARE offices.
URL:https://www.careofsem.com/event/relapse-prevention-2/2026-09-25/
LOCATION:MI
CATEGORIES:Classes & Groups,Peer Recovery,Recovery Community Center
END:VEVENT
BEGIN:VEVENT
DTSTART;TZID=America/Detroit:20260928T100000
DTEND;TZID=America/Detroit:20260928T110000
DTSTAMP:20260424T195732
CREATED:20260210T175836Z
LAST-MODIFIED:20260310T164240Z
UID:10039524-1790589600-1790593200@www.careofsem.com
SUMMARY:Living in Recovery
DESCRIPTION:Join a peer-led group that explores strategies for strengthening recovery. Men and women welcome. \nThis group is held at the CARE offices. \n 
URL:https://www.careofsem.com/event/living-in-recovery-29-2-3-2-2/2026-09-28/
LOCATION:CARE Office\, 18441 Utica Rd\, Roseville\, MI\, 48066\, United States
CATEGORIES:Classes & Groups,Peer Recovery,Peer Recovery,Recovery Coaching,Recovery Community Center,Substance Abuse,Substance Abuse Recovery
ATTACH;FMTTYPE=image/jpeg:https://www.careofsem.com/wp-content/uploads/2026/02/Living-in-Recovery.jpg
END:VEVENT
BEGIN:VEVENT
DTSTART;TZID=America/Detroit:20260929T100000
DTEND;TZID=America/Detroit:20260929T110000
DTSTAMP:20260424T195732
CREATED:20260210T180441Z
LAST-MODIFIED:20260210T180442Z
UID:10039263-1790676000-1790679600@www.careofsem.com
SUMMARY:Living in Recovery
DESCRIPTION:Join a peer-led group that explores strategies for strengthening recovery. Men and women welcome. \nThis group is held at the CARE offices. \n 
URL:https://www.careofsem.com/event/living-in-recovery-29-2-2-2-2/2026-09-29/
LOCATION:CARE Office\, 18441 Utica Rd\, Roseville\, MI\, 48066\, United States
CATEGORIES:Classes & Groups,Peer Recovery,Peer Recovery,Recovery Coaching,Recovery Community Center,Substance Abuse,Substance Abuse Recovery
END:VEVENT
END:VCALENDAR