BEGIN:VCALENDAR
VERSION:2.0
PRODID:-//CARE of Southeastern Michigan - ECPv6.15.20//NONSGML v1.0//EN
CALSCALE:GREGORIAN
METHOD:PUBLISH
X-WR-CALNAME:CARE of Southeastern Michigan
X-ORIGINAL-URL:https://www.careofsem.com
X-WR-CALDESC:Events for CARE of Southeastern Michigan
REFRESH-INTERVAL;VALUE=DURATION:PT1H
X-Robots-Tag:noindex
X-PUBLISHED-TTL:PT1H
BEGIN:VTIMEZONE
TZID:America/Detroit
BEGIN:DAYLIGHT
TZOFFSETFROM:-0500
TZOFFSETTO:-0400
TZNAME:EDT
DTSTART:20240310T070000
END:DAYLIGHT
BEGIN:STANDARD
TZOFFSETFROM:-0400
TZOFFSETTO:-0500
TZNAME:EST
DTSTART:20241103T060000
END:STANDARD
BEGIN:DAYLIGHT
TZOFFSETFROM:-0500
TZOFFSETTO:-0400
TZNAME:EDT
DTSTART:20250309T070000
END:DAYLIGHT
BEGIN:STANDARD
TZOFFSETFROM:-0400
TZOFFSETTO:-0500
TZNAME:EST
DTSTART:20251102T060000
END:STANDARD
BEGIN:DAYLIGHT
TZOFFSETFROM:-0500
TZOFFSETTO:-0400
TZNAME:EDT
DTSTART:20260308T070000
END:DAYLIGHT
BEGIN:STANDARD
TZOFFSETFROM:-0400
TZOFFSETTO:-0500
TZNAME:EST
DTSTART:20261101T060000
END:STANDARD
END:VTIMEZONE
BEGIN:VEVENT
DTSTART;TZID=America/Detroit:20251104T170000
DTEND;TZID=America/Detroit:20251104T190000
DTSTAMP:20260421T204417
CREATED:20250401T154853Z
LAST-MODIFIED:20251008T141055Z
UID:10032841-1762275600-1762282800@www.careofsem.com
SUMMARY:Project VOX
DESCRIPTION:Get involved in the advocacy\, education\, and celebration aspects of recovery. \nCall CARE for more information. Held at the CARE offices or you can join via zoom 856 4804 5860
URL:https://www.careofsem.com/event/project-vox-17-2/2025-11-04/
LOCATION:CARE of Southeastern Michigan\, 18441 Utica Road\, Roseville\, MI\, 48066\, United States
CATEGORIES:Classes & Groups,Peer Recovery,Peer Recovery Groups,Project Vox,Recovery Coaching,Recovery Community Center,Substance Abuse Recovery
END:VEVENT
BEGIN:VEVENT
DTSTART;TZID=America/Detroit:20251105T100000
DTEND;TZID=America/Detroit:20251105T113000
DTSTAMP:20260421T204417
CREATED:20251008T154849Z
LAST-MODIFIED:20260310T165618Z
UID:10037202-1762336800-1762342200@www.careofsem.com
SUMMARY:SMART Recovery
DESCRIPTION:SMART recovery is an evidence-informed approach to overcoming addictive behaviors and leading a balanced life. \nMen and Women are welcome! \nGroup is held at the CARE offices.
URL:https://www.careofsem.com/event/smart-recovery/2025-11-05/
LOCATION:CARE of Southeastern Michigan\, 18441 Utica Road\, Roseville\, MI\, 48066\, United States
CATEGORIES:Classes & Groups,Peer Recovery,Recovery Community Center
ATTACH;FMTTYPE=image/jpeg:https://www.careofsem.com/wp-content/uploads/2025/10/SMART-Recovery.jpg
END:VEVENT
BEGIN:VEVENT
DTSTART;TZID=America/Detroit:20251105T153000
DTEND;TZID=America/Detroit:20251105T163000
DTSTAMP:20260421T204417
CREATED:20251008T155132Z
LAST-MODIFIED:20260310T164751Z
UID:10037464-1762356600-1762360200@www.careofsem.com
SUMMARY:Relapse Prevention
DESCRIPTION:Join a peer-led group that explores strategies for preventing relapse. \nMen and Women are welcome. \nGroup is held at the CARE offices.
URL:https://www.careofsem.com/event/relapse-prevention/2025-11-05/
LOCATION:CARE of Southeastern Michigan\, 18441 Utica Road\, Roseville\, MI\, 48066\, United States
CATEGORIES:Classes & Groups,Peer Recovery,Recovery Community Center
ATTACH;FMTTYPE=image/jpeg:https://www.careofsem.com/wp-content/uploads/2025/10/Relapse-Prevention.jpg
END:VEVENT
BEGIN:VEVENT
DTSTART;TZID=America/Detroit:20251106T183000
DTEND;TZID=America/Detroit:20251106T193000
DTSTAMP:20260421T204417
CREATED:20251008T160911Z
LAST-MODIFIED:20260310T165951Z
UID:10038250-1762453800-1762457400@www.careofsem.com
SUMMARY:Women Living in Recovery
DESCRIPTION:Join a peer-led group that discuss issues specific to women and explores strategies for strengthening recovery. \nWomen Only. \nThis group is held at the CARE offices.
URL:https://www.careofsem.com/event/women-living-in-recovery/2025-11-06/
LOCATION:CARE of Southeastern Michigan\, 18441 Utica Road\, Roseville\, MI\, 48066\, United States
CATEGORIES:Classes & Groups,Peer Recovery,Recovery Community Center
ATTACH;FMTTYPE=image/jpeg:https://www.careofsem.com/wp-content/uploads/2025/10/Women-Living-in-Recovery.jpg
END:VEVENT
BEGIN:VEVENT
DTSTART;TZID=America/Detroit:20251107T100000
DTEND;TZID=America/Detroit:20251107T110000
DTSTAMP:20260421T204417
CREATED:20251008T155214Z
LAST-MODIFIED:20251008T155911Z
UID:10037726-1762509600-1762513200@www.careofsem.com
SUMMARY:Relapse Prevention
DESCRIPTION:Join a peer-led group that explores strategies for preventing relapse. \nMen and Women are welcome. \nGroup is held at the CARE offices.
URL:https://www.careofsem.com/event/relapse-prevention-2/2025-11-07/
LOCATION:MI
CATEGORIES:Classes & Groups,Peer Recovery,Recovery Community Center
END:VEVENT
BEGIN:VEVENT
DTSTART;TZID=America/Detroit:20251112T100000
DTEND;TZID=America/Detroit:20251112T113000
DTSTAMP:20260421T204417
CREATED:20251008T154849Z
LAST-MODIFIED:20260310T165618Z
UID:10037203-1762941600-1762947000@www.careofsem.com
SUMMARY:SMART Recovery
DESCRIPTION:SMART recovery is an evidence-informed approach to overcoming addictive behaviors and leading a balanced life. \nMen and Women are welcome! \nGroup is held at the CARE offices.
URL:https://www.careofsem.com/event/smart-recovery/2025-11-12/
LOCATION:CARE of Southeastern Michigan\, 18441 Utica Road\, Roseville\, MI\, 48066\, United States
CATEGORIES:Classes & Groups,Peer Recovery,Recovery Community Center
ATTACH;FMTTYPE=image/jpeg:https://www.careofsem.com/wp-content/uploads/2025/10/SMART-Recovery.jpg
END:VEVENT
BEGIN:VEVENT
DTSTART;TZID=America/Detroit:20251112T153000
DTEND;TZID=America/Detroit:20251112T163000
DTSTAMP:20260421T204417
CREATED:20251008T155132Z
LAST-MODIFIED:20260310T164751Z
UID:10037465-1762961400-1762965000@www.careofsem.com
SUMMARY:Relapse Prevention
DESCRIPTION:Join a peer-led group that explores strategies for preventing relapse. \nMen and Women are welcome. \nGroup is held at the CARE offices.
URL:https://www.careofsem.com/event/relapse-prevention/2025-11-12/
LOCATION:CARE of Southeastern Michigan\, 18441 Utica Road\, Roseville\, MI\, 48066\, United States
CATEGORIES:Classes & Groups,Peer Recovery,Recovery Community Center
ATTACH;FMTTYPE=image/jpeg:https://www.careofsem.com/wp-content/uploads/2025/10/Relapse-Prevention.jpg
END:VEVENT
BEGIN:VEVENT
DTSTART;TZID=America/Detroit:20251113T183000
DTEND;TZID=America/Detroit:20251113T193000
DTSTAMP:20260421T204417
CREATED:20251008T160911Z
LAST-MODIFIED:20260310T165951Z
UID:10038251-1763058600-1763062200@www.careofsem.com
SUMMARY:Women Living in Recovery
DESCRIPTION:Join a peer-led group that discuss issues specific to women and explores strategies for strengthening recovery. \nWomen Only. \nThis group is held at the CARE offices.
URL:https://www.careofsem.com/event/women-living-in-recovery/2025-11-13/
LOCATION:CARE of Southeastern Michigan\, 18441 Utica Road\, Roseville\, MI\, 48066\, United States
CATEGORIES:Classes & Groups,Peer Recovery,Recovery Community Center
ATTACH;FMTTYPE=image/jpeg:https://www.careofsem.com/wp-content/uploads/2025/10/Women-Living-in-Recovery.jpg
END:VEVENT
BEGIN:VEVENT
DTSTART;TZID=America/Detroit:20251114T100000
DTEND;TZID=America/Detroit:20251114T110000
DTSTAMP:20260421T204417
CREATED:20251008T155214Z
LAST-MODIFIED:20251008T155911Z
UID:10037727-1763114400-1763118000@www.careofsem.com
SUMMARY:Relapse Prevention
DESCRIPTION:Join a peer-led group that explores strategies for preventing relapse. \nMen and Women are welcome. \nGroup is held at the CARE offices.
URL:https://www.careofsem.com/event/relapse-prevention-2/2025-11-14/
LOCATION:MI
CATEGORIES:Classes & Groups,Peer Recovery,Recovery Community Center
END:VEVENT
BEGIN:VEVENT
DTSTART;TZID=America/Detroit:20251119T100000
DTEND;TZID=America/Detroit:20251119T113000
DTSTAMP:20260421T204417
CREATED:20251008T154849Z
LAST-MODIFIED:20260310T165618Z
UID:10037204-1763546400-1763551800@www.careofsem.com
SUMMARY:SMART Recovery
DESCRIPTION:SMART recovery is an evidence-informed approach to overcoming addictive behaviors and leading a balanced life. \nMen and Women are welcome! \nGroup is held at the CARE offices.
URL:https://www.careofsem.com/event/smart-recovery/2025-11-19/
LOCATION:CARE of Southeastern Michigan\, 18441 Utica Road\, Roseville\, MI\, 48066\, United States
CATEGORIES:Classes & Groups,Peer Recovery,Recovery Community Center
ATTACH;FMTTYPE=image/jpeg:https://www.careofsem.com/wp-content/uploads/2025/10/SMART-Recovery.jpg
END:VEVENT
BEGIN:VEVENT
DTSTART;TZID=America/Detroit:20251119T153000
DTEND;TZID=America/Detroit:20251119T163000
DTSTAMP:20260421T204417
CREATED:20251008T155132Z
LAST-MODIFIED:20260310T164751Z
UID:10037466-1763566200-1763569800@www.careofsem.com
SUMMARY:Relapse Prevention
DESCRIPTION:Join a peer-led group that explores strategies for preventing relapse. \nMen and Women are welcome. \nGroup is held at the CARE offices.
URL:https://www.careofsem.com/event/relapse-prevention/2025-11-19/
LOCATION:CARE of Southeastern Michigan\, 18441 Utica Road\, Roseville\, MI\, 48066\, United States
CATEGORIES:Classes & Groups,Peer Recovery,Recovery Community Center
ATTACH;FMTTYPE=image/jpeg:https://www.careofsem.com/wp-content/uploads/2025/10/Relapse-Prevention.jpg
END:VEVENT
BEGIN:VEVENT
DTSTART;TZID=America/Detroit:20251120T183000
DTEND;TZID=America/Detroit:20251120T193000
DTSTAMP:20260421T204417
CREATED:20251008T160911Z
LAST-MODIFIED:20260310T165951Z
UID:10038252-1763663400-1763667000@www.careofsem.com
SUMMARY:Women Living in Recovery
DESCRIPTION:Join a peer-led group that discuss issues specific to women and explores strategies for strengthening recovery. \nWomen Only. \nThis group is held at the CARE offices.
URL:https://www.careofsem.com/event/women-living-in-recovery/2025-11-20/
LOCATION:CARE of Southeastern Michigan\, 18441 Utica Road\, Roseville\, MI\, 48066\, United States
CATEGORIES:Classes & Groups,Peer Recovery,Recovery Community Center
ATTACH;FMTTYPE=image/jpeg:https://www.careofsem.com/wp-content/uploads/2025/10/Women-Living-in-Recovery.jpg
END:VEVENT
BEGIN:VEVENT
DTSTART;TZID=America/Detroit:20251121T100000
DTEND;TZID=America/Detroit:20251121T110000
DTSTAMP:20260421T204417
CREATED:20251008T155214Z
LAST-MODIFIED:20251008T155911Z
UID:10037728-1763719200-1763722800@www.careofsem.com
SUMMARY:Relapse Prevention
DESCRIPTION:Join a peer-led group that explores strategies for preventing relapse. \nMen and Women are welcome. \nGroup is held at the CARE offices.
URL:https://www.careofsem.com/event/relapse-prevention-2/2025-11-21/
LOCATION:MI
CATEGORIES:Classes & Groups,Peer Recovery,Recovery Community Center
END:VEVENT
BEGIN:VEVENT
DTSTART;TZID=America/Detroit:20251126T100000
DTEND;TZID=America/Detroit:20251126T113000
DTSTAMP:20260421T204417
CREATED:20251008T154849Z
LAST-MODIFIED:20260310T165618Z
UID:10037205-1764151200-1764156600@www.careofsem.com
SUMMARY:SMART Recovery
DESCRIPTION:SMART recovery is an evidence-informed approach to overcoming addictive behaviors and leading a balanced life. \nMen and Women are welcome! \nGroup is held at the CARE offices.
URL:https://www.careofsem.com/event/smart-recovery/2025-11-26/
LOCATION:CARE of Southeastern Michigan\, 18441 Utica Road\, Roseville\, MI\, 48066\, United States
CATEGORIES:Classes & Groups,Peer Recovery,Recovery Community Center
ATTACH;FMTTYPE=image/jpeg:https://www.careofsem.com/wp-content/uploads/2025/10/SMART-Recovery.jpg
END:VEVENT
BEGIN:VEVENT
DTSTART;TZID=America/Detroit:20251126T153000
DTEND;TZID=America/Detroit:20251126T163000
DTSTAMP:20260421T204417
CREATED:20251008T155132Z
LAST-MODIFIED:20260310T164751Z
UID:10037467-1764171000-1764174600@www.careofsem.com
SUMMARY:Relapse Prevention
DESCRIPTION:Join a peer-led group that explores strategies for preventing relapse. \nMen and Women are welcome. \nGroup is held at the CARE offices.
URL:https://www.careofsem.com/event/relapse-prevention/2025-11-26/
LOCATION:CARE of Southeastern Michigan\, 18441 Utica Road\, Roseville\, MI\, 48066\, United States
CATEGORIES:Classes & Groups,Peer Recovery,Recovery Community Center
ATTACH;FMTTYPE=image/jpeg:https://www.careofsem.com/wp-content/uploads/2025/10/Relapse-Prevention.jpg
END:VEVENT
BEGIN:VEVENT
DTSTART;TZID=America/Detroit:20251127T183000
DTEND;TZID=America/Detroit:20251127T193000
DTSTAMP:20260421T204417
CREATED:20251008T160911Z
LAST-MODIFIED:20260310T165951Z
UID:10038253-1764268200-1764271800@www.careofsem.com
SUMMARY:Women Living in Recovery
DESCRIPTION:Join a peer-led group that discuss issues specific to women and explores strategies for strengthening recovery. \nWomen Only. \nThis group is held at the CARE offices.
URL:https://www.careofsem.com/event/women-living-in-recovery/2025-11-27/
LOCATION:CARE of Southeastern Michigan\, 18441 Utica Road\, Roseville\, MI\, 48066\, United States
CATEGORIES:Classes & Groups,Peer Recovery,Recovery Community Center
ATTACH;FMTTYPE=image/jpeg:https://www.careofsem.com/wp-content/uploads/2025/10/Women-Living-in-Recovery.jpg
END:VEVENT
BEGIN:VEVENT
DTSTART;TZID=America/Detroit:20251128T100000
DTEND;TZID=America/Detroit:20251128T110000
DTSTAMP:20260421T204417
CREATED:20251008T155214Z
LAST-MODIFIED:20251008T155911Z
UID:10037729-1764324000-1764327600@www.careofsem.com
SUMMARY:Relapse Prevention
DESCRIPTION:Join a peer-led group that explores strategies for preventing relapse. \nMen and Women are welcome. \nGroup is held at the CARE offices.
URL:https://www.careofsem.com/event/relapse-prevention-2/2025-11-28/
LOCATION:MI
CATEGORIES:Classes & Groups,Peer Recovery,Recovery Community Center
END:VEVENT
END:VCALENDAR