BEGIN:VCALENDAR
VERSION:2.0
PRODID:-//CARE of Southeastern Michigan - ECPv6.15.20//NONSGML v1.0//EN
CALSCALE:GREGORIAN
METHOD:PUBLISH
X-WR-CALNAME:CARE of Southeastern Michigan
X-ORIGINAL-URL:https://www.careofsem.com
X-WR-CALDESC:Events for CARE of Southeastern Michigan
REFRESH-INTERVAL;VALUE=DURATION:PT1H
X-Robots-Tag:noindex
X-PUBLISHED-TTL:PT1H
BEGIN:VTIMEZONE
TZID:America/Detroit
BEGIN:DAYLIGHT
TZOFFSETFROM:-0500
TZOFFSETTO:-0400
TZNAME:EDT
DTSTART:20250309T070000
END:DAYLIGHT
BEGIN:STANDARD
TZOFFSETFROM:-0400
TZOFFSETTO:-0500
TZNAME:EST
DTSTART:20251102T060000
END:STANDARD
BEGIN:DAYLIGHT
TZOFFSETFROM:-0500
TZOFFSETTO:-0400
TZNAME:EDT
DTSTART:20260308T070000
END:DAYLIGHT
BEGIN:STANDARD
TZOFFSETFROM:-0400
TZOFFSETTO:-0500
TZNAME:EST
DTSTART:20261101T060000
END:STANDARD
BEGIN:DAYLIGHT
TZOFFSETFROM:-0500
TZOFFSETTO:-0400
TZNAME:EDT
DTSTART:20270314T070000
END:DAYLIGHT
BEGIN:STANDARD
TZOFFSETFROM:-0400
TZOFFSETTO:-0500
TZNAME:EST
DTSTART:20271107T060000
END:STANDARD
END:VTIMEZONE
BEGIN:VEVENT
DTSTART;TZID=America/Detroit:20260401T100000
DTEND;TZID=America/Detroit:20260401T113000
DTSTAMP:20260421T011543
CREATED:20251008T154849Z
LAST-MODIFIED:20260310T165618Z
UID:10037223-1775037600-1775043000@www.careofsem.com
SUMMARY:SMART Recovery
DESCRIPTION:SMART recovery is an evidence-informed approach to overcoming addictive behaviors and leading a balanced life. \nMen and Women are welcome! \nGroup is held at the CARE offices.
URL:https://www.careofsem.com/event/smart-recovery/2026-04-01/
LOCATION:CARE of Southeastern Michigan\, 18441 Utica Road\, Roseville\, MI\, 48066\, United States
CATEGORIES:Classes & Groups,Peer Recovery,Recovery Community Center
ATTACH;FMTTYPE=image/jpeg:https://www.careofsem.com/wp-content/uploads/2025/10/SMART-Recovery.jpg
END:VEVENT
BEGIN:VEVENT
DTSTART;TZID=America/Detroit:20260331T183000
DTEND;TZID=America/Detroit:20260331T193000
DTSTAMP:20260421T011543
CREATED:20260204T202821Z
LAST-MODIFIED:20260310T164414Z
UID:10038977-1774981800-1774985400@www.careofsem.com
SUMMARY:Men Living in Recovery
DESCRIPTION:Join a peer-led group that discuss issues specific to men and explores strategies for strengthening recovery. \nMen Only. \nThis group is held at the CARE offices.
URL:https://www.careofsem.com/event/men-living-in-recovery-2/2026-03-31/
LOCATION:CARE of Southeastern Michigan\, 18441 Utica Road\, Roseville\, MI\, 48066\, United States
CATEGORIES:Classes & Groups,Peer Recovery,Recovery Community Center
ATTACH;FMTTYPE=image/jpeg:https://www.careofsem.com/wp-content/uploads/2026/02/Men-Living-in-Recovery.jpg
END:VEVENT
BEGIN:VEVENT
DTSTART;TZID=America/Detroit:20260331T100000
DTEND;TZID=America/Detroit:20260331T110000
DTSTAMP:20260421T011543
CREATED:20260210T180441Z
LAST-MODIFIED:20260210T180442Z
UID:10039237-1774951200-1774954800@www.careofsem.com
SUMMARY:Living in Recovery
DESCRIPTION:Join a peer-led group that explores strategies for strengthening recovery. Men and women welcome. \nThis group is held at the CARE offices. \n 
URL:https://www.careofsem.com/event/living-in-recovery-29-2-2-2-2/2026-03-31/
LOCATION:CARE Office\, 18441 Utica Rd\, Roseville\, MI\, 48066\, United States
CATEGORIES:Classes & Groups,Peer Recovery,Peer Recovery,Recovery Coaching,Recovery Community Center,Substance Abuse,Substance Abuse Recovery
END:VEVENT
BEGIN:VEVENT
DTSTART;TZID=America/Detroit:20260330T100000
DTEND;TZID=America/Detroit:20260330T110000
DTSTAMP:20260421T011543
CREATED:20260210T175836Z
LAST-MODIFIED:20260310T164240Z
UID:10039498-1774864800-1774868400@www.careofsem.com
SUMMARY:Living in Recovery
DESCRIPTION:Join a peer-led group that explores strategies for strengthening recovery. Men and women welcome. \nThis group is held at the CARE offices. \n 
URL:https://www.careofsem.com/event/living-in-recovery-29-2-3-2-2/2026-03-30/
LOCATION:CARE Office\, 18441 Utica Rd\, Roseville\, MI\, 48066\, United States
CATEGORIES:Classes & Groups,Peer Recovery,Peer Recovery,Recovery Coaching,Recovery Community Center,Substance Abuse,Substance Abuse Recovery
ATTACH;FMTTYPE=image/jpeg:https://www.careofsem.com/wp-content/uploads/2026/02/Living-in-Recovery.jpg
END:VEVENT
BEGIN:VEVENT
DTSTART;TZID=America/Detroit:20260327T100000
DTEND;TZID=America/Detroit:20260327T110000
DTSTAMP:20260421T011543
CREATED:20251008T155214Z
LAST-MODIFIED:20251008T155911Z
UID:10037746-1774605600-1774609200@www.careofsem.com
SUMMARY:Relapse Prevention
DESCRIPTION:Join a peer-led group that explores strategies for preventing relapse. \nMen and Women are welcome. \nGroup is held at the CARE offices.
URL:https://www.careofsem.com/event/relapse-prevention-2/2026-03-27/
LOCATION:MI
CATEGORIES:Classes & Groups,Peer Recovery,Recovery Community Center
END:VEVENT
BEGIN:VEVENT
DTSTART;TZID=America/Detroit:20260326T183000
DTEND;TZID=America/Detroit:20260326T193000
DTSTAMP:20260421T011543
CREATED:20251008T160911Z
LAST-MODIFIED:20260310T165951Z
UID:10038270-1774549800-1774553400@www.careofsem.com
SUMMARY:Women Living in Recovery
DESCRIPTION:Join a peer-led group that discuss issues specific to women and explores strategies for strengthening recovery. \nWomen Only. \nThis group is held at the CARE offices.
URL:https://www.careofsem.com/event/women-living-in-recovery/2026-03-26/
LOCATION:CARE of Southeastern Michigan\, 18441 Utica Road\, Roseville\, MI\, 48066\, United States
CATEGORIES:Classes & Groups,Peer Recovery,Recovery Community Center
ATTACH;FMTTYPE=image/jpeg:https://www.careofsem.com/wp-content/uploads/2025/10/Women-Living-in-Recovery.jpg
END:VEVENT
BEGIN:VEVENT
DTSTART;TZID=America/Detroit:20260325T153000
DTEND;TZID=America/Detroit:20260325T163000
DTSTAMP:20260421T011543
CREATED:20251008T155132Z
LAST-MODIFIED:20260310T164751Z
UID:10037484-1774452600-1774456200@www.careofsem.com
SUMMARY:Relapse Prevention
DESCRIPTION:Join a peer-led group that explores strategies for preventing relapse. \nMen and Women are welcome. \nGroup is held at the CARE offices.
URL:https://www.careofsem.com/event/relapse-prevention/2026-03-25/
LOCATION:CARE of Southeastern Michigan\, 18441 Utica Road\, Roseville\, MI\, 48066\, United States
CATEGORIES:Classes & Groups,Peer Recovery,Recovery Community Center
ATTACH;FMTTYPE=image/jpeg:https://www.careofsem.com/wp-content/uploads/2025/10/Relapse-Prevention.jpg
END:VEVENT
BEGIN:VEVENT
DTSTART;TZID=America/Detroit:20260325T100000
DTEND;TZID=America/Detroit:20260325T113000
DTSTAMP:20260421T011543
CREATED:20251008T154849Z
LAST-MODIFIED:20260310T165618Z
UID:10037222-1774432800-1774438200@www.careofsem.com
SUMMARY:SMART Recovery
DESCRIPTION:SMART recovery is an evidence-informed approach to overcoming addictive behaviors and leading a balanced life. \nMen and Women are welcome! \nGroup is held at the CARE offices.
URL:https://www.careofsem.com/event/smart-recovery/2026-03-25/
LOCATION:CARE of Southeastern Michigan\, 18441 Utica Road\, Roseville\, MI\, 48066\, United States
CATEGORIES:Classes & Groups,Peer Recovery,Recovery Community Center
ATTACH;FMTTYPE=image/jpeg:https://www.careofsem.com/wp-content/uploads/2025/10/SMART-Recovery.jpg
END:VEVENT
BEGIN:VEVENT
DTSTART;TZID=America/Detroit:20260324T183000
DTEND;TZID=America/Detroit:20260324T193000
DTSTAMP:20260421T011543
CREATED:20260204T202821Z
LAST-MODIFIED:20260310T164414Z
UID:10038976-1774377000-1774380600@www.careofsem.com
SUMMARY:Men Living in Recovery
DESCRIPTION:Join a peer-led group that discuss issues specific to men and explores strategies for strengthening recovery. \nMen Only. \nThis group is held at the CARE offices.
URL:https://www.careofsem.com/event/men-living-in-recovery-2/2026-03-24/
LOCATION:CARE of Southeastern Michigan\, 18441 Utica Road\, Roseville\, MI\, 48066\, United States
CATEGORIES:Classes & Groups,Peer Recovery,Recovery Community Center
ATTACH;FMTTYPE=image/jpeg:https://www.careofsem.com/wp-content/uploads/2026/02/Men-Living-in-Recovery.jpg
END:VEVENT
BEGIN:VEVENT
DTSTART;TZID=America/Detroit:20260324T170000
DTEND;TZID=America/Detroit:20260324T183000
DTSTAMP:20260421T011543
CREATED:20260310T163423Z
LAST-MODIFIED:20260310T163423Z
UID:10038865-1774371600-1774377000@www.careofsem.com
SUMMARY:Adult Anger Management Feb 3rd - March 24th\, 2026
DESCRIPTION:CARE of Southeastern Michigan offers an in-person eight-week Anger Management workshop for adults.  This class meets court ordered anger management class requirements. \nThe class costs $150 to attend. \nAt the end of this workshop you should be able to: \n\nUnderstand your anger cycle\nSuccessfully manage strong emotions\, even under stress\nPractice assertive communication for conflict resolution\nUse relaxation techniques to control your anger\n\nTuesdays 5:00pm-6:30 pm from Feb 3rd to March 24th\, 2026. \nRegister by calling 586-541-2273. See the program flyer here.
URL:https://www.careofsem.com/event/adult-anger-management-feb-3rd-march-24th-2026-2/2026-03-24/
LOCATION:CARE Office\, 18441 Utica Rd\, Roseville\, MI\, 48066\, United States
CATEGORIES:Classes & Groups,Peer Recovery,Prevention Services,Programs
ATTACH;FMTTYPE=image/jpeg:https://www.careofsem.com/wp-content/uploads/2025/10/Adult-Anger.jpg
END:VEVENT
BEGIN:VEVENT
DTSTART;TZID=America/Detroit:20260324T100000
DTEND;TZID=America/Detroit:20260324T110000
DTSTAMP:20260421T011543
CREATED:20260210T180441Z
LAST-MODIFIED:20260210T180442Z
UID:10039236-1774346400-1774350000@www.careofsem.com
SUMMARY:Living in Recovery
DESCRIPTION:Join a peer-led group that explores strategies for strengthening recovery. Men and women welcome. \nThis group is held at the CARE offices. \n 
URL:https://www.careofsem.com/event/living-in-recovery-29-2-2-2-2/2026-03-24/
LOCATION:CARE Office\, 18441 Utica Rd\, Roseville\, MI\, 48066\, United States
CATEGORIES:Classes & Groups,Peer Recovery,Peer Recovery,Recovery Coaching,Recovery Community Center,Substance Abuse,Substance Abuse Recovery
END:VEVENT
BEGIN:VEVENT
DTSTART;TZID=America/Detroit:20260323T100000
DTEND;TZID=America/Detroit:20260323T110000
DTSTAMP:20260421T011543
CREATED:20260210T175836Z
LAST-MODIFIED:20260310T164240Z
UID:10039497-1774260000-1774263600@www.careofsem.com
SUMMARY:Living in Recovery
DESCRIPTION:Join a peer-led group that explores strategies for strengthening recovery. Men and women welcome. \nThis group is held at the CARE offices. \n 
URL:https://www.careofsem.com/event/living-in-recovery-29-2-3-2-2/2026-03-23/
LOCATION:CARE Office\, 18441 Utica Rd\, Roseville\, MI\, 48066\, United States
CATEGORIES:Classes & Groups,Peer Recovery,Peer Recovery,Recovery Coaching,Recovery Community Center,Substance Abuse,Substance Abuse Recovery
ATTACH;FMTTYPE=image/jpeg:https://www.careofsem.com/wp-content/uploads/2026/02/Living-in-Recovery.jpg
END:VEVENT
BEGIN:VEVENT
DTSTART;TZID=America/Detroit:20260320T100000
DTEND;TZID=America/Detroit:20260320T110000
DTSTAMP:20260421T011543
CREATED:20251008T155214Z
LAST-MODIFIED:20251008T155911Z
UID:10037745-1774000800-1774004400@www.careofsem.com
SUMMARY:Relapse Prevention
DESCRIPTION:Join a peer-led group that explores strategies for preventing relapse. \nMen and Women are welcome. \nGroup is held at the CARE offices.
URL:https://www.careofsem.com/event/relapse-prevention-2/2026-03-20/
LOCATION:MI
CATEGORIES:Classes & Groups,Peer Recovery,Recovery Community Center
END:VEVENT
BEGIN:VEVENT
DTSTART;TZID=America/Detroit:20260319T183000
DTEND;TZID=America/Detroit:20260319T193000
DTSTAMP:20260421T011543
CREATED:20251008T160911Z
LAST-MODIFIED:20260310T165951Z
UID:10038269-1773945000-1773948600@www.careofsem.com
SUMMARY:Women Living in Recovery
DESCRIPTION:Join a peer-led group that discuss issues specific to women and explores strategies for strengthening recovery. \nWomen Only. \nThis group is held at the CARE offices.
URL:https://www.careofsem.com/event/women-living-in-recovery/2026-03-19/
LOCATION:CARE of Southeastern Michigan\, 18441 Utica Road\, Roseville\, MI\, 48066\, United States
CATEGORIES:Classes & Groups,Peer Recovery,Recovery Community Center
ATTACH;FMTTYPE=image/jpeg:https://www.careofsem.com/wp-content/uploads/2025/10/Women-Living-in-Recovery.jpg
END:VEVENT
BEGIN:VEVENT
DTSTART;TZID=America/Detroit:20260318T153000
DTEND;TZID=America/Detroit:20260318T163000
DTSTAMP:20260421T011543
CREATED:20251008T155132Z
LAST-MODIFIED:20260310T164751Z
UID:10037483-1773847800-1773851400@www.careofsem.com
SUMMARY:Relapse Prevention
DESCRIPTION:Join a peer-led group that explores strategies for preventing relapse. \nMen and Women are welcome. \nGroup is held at the CARE offices.
URL:https://www.careofsem.com/event/relapse-prevention/2026-03-18/
LOCATION:CARE of Southeastern Michigan\, 18441 Utica Road\, Roseville\, MI\, 48066\, United States
CATEGORIES:Classes & Groups,Peer Recovery,Recovery Community Center
ATTACH;FMTTYPE=image/jpeg:https://www.careofsem.com/wp-content/uploads/2025/10/Relapse-Prevention.jpg
END:VEVENT
BEGIN:VEVENT
DTSTART;TZID=America/Detroit:20260318T100000
DTEND;TZID=America/Detroit:20260318T113000
DTSTAMP:20260421T011543
CREATED:20251008T154849Z
LAST-MODIFIED:20260310T165618Z
UID:10037221-1773828000-1773833400@www.careofsem.com
SUMMARY:SMART Recovery
DESCRIPTION:SMART recovery is an evidence-informed approach to overcoming addictive behaviors and leading a balanced life. \nMen and Women are welcome! \nGroup is held at the CARE offices.
URL:https://www.careofsem.com/event/smart-recovery/2026-03-18/
LOCATION:CARE of Southeastern Michigan\, 18441 Utica Road\, Roseville\, MI\, 48066\, United States
CATEGORIES:Classes & Groups,Peer Recovery,Recovery Community Center
ATTACH;FMTTYPE=image/jpeg:https://www.careofsem.com/wp-content/uploads/2025/10/SMART-Recovery.jpg
END:VEVENT
BEGIN:VEVENT
DTSTART;TZID=America/Detroit:20260317T183000
DTEND;TZID=America/Detroit:20260317T193000
DTSTAMP:20260421T011543
CREATED:20260204T202821Z
LAST-MODIFIED:20260310T164414Z
UID:10038975-1773772200-1773775800@www.careofsem.com
SUMMARY:Men Living in Recovery
DESCRIPTION:Join a peer-led group that discuss issues specific to men and explores strategies for strengthening recovery. \nMen Only. \nThis group is held at the CARE offices.
URL:https://www.careofsem.com/event/men-living-in-recovery-2/2026-03-17/
LOCATION:CARE of Southeastern Michigan\, 18441 Utica Road\, Roseville\, MI\, 48066\, United States
CATEGORIES:Classes & Groups,Peer Recovery,Recovery Community Center
ATTACH;FMTTYPE=image/jpeg:https://www.careofsem.com/wp-content/uploads/2026/02/Men-Living-in-Recovery.jpg
END:VEVENT
BEGIN:VEVENT
DTSTART;TZID=America/Detroit:20260317T170000
DTEND;TZID=America/Detroit:20260317T183000
DTSTAMP:20260421T011543
CREATED:20260310T163423Z
LAST-MODIFIED:20260310T163423Z
UID:10038864-1773766800-1773772200@www.careofsem.com
SUMMARY:Adult Anger Management Feb 3rd - March 24th\, 2026
DESCRIPTION:CARE of Southeastern Michigan offers an in-person eight-week Anger Management workshop for adults.  This class meets court ordered anger management class requirements. \nThe class costs $150 to attend. \nAt the end of this workshop you should be able to: \n\nUnderstand your anger cycle\nSuccessfully manage strong emotions\, even under stress\nPractice assertive communication for conflict resolution\nUse relaxation techniques to control your anger\n\nTuesdays 5:00pm-6:30 pm from Feb 3rd to March 24th\, 2026. \nRegister by calling 586-541-2273. See the program flyer here.
URL:https://www.careofsem.com/event/adult-anger-management-feb-3rd-march-24th-2026-2/2026-03-17/
LOCATION:CARE Office\, 18441 Utica Rd\, Roseville\, MI\, 48066\, United States
CATEGORIES:Classes & Groups,Peer Recovery,Prevention Services,Programs
ATTACH;FMTTYPE=image/jpeg:https://www.careofsem.com/wp-content/uploads/2025/10/Adult-Anger.jpg
END:VEVENT
BEGIN:VEVENT
DTSTART;TZID=America/Detroit:20260317T100000
DTEND;TZID=America/Detroit:20260317T110000
DTSTAMP:20260421T011543
CREATED:20260210T180441Z
LAST-MODIFIED:20260210T180442Z
UID:10039235-1773741600-1773745200@www.careofsem.com
SUMMARY:Living in Recovery
DESCRIPTION:Join a peer-led group that explores strategies for strengthening recovery. Men and women welcome. \nThis group is held at the CARE offices. \n 
URL:https://www.careofsem.com/event/living-in-recovery-29-2-2-2-2/2026-03-17/
LOCATION:CARE Office\, 18441 Utica Rd\, Roseville\, MI\, 48066\, United States
CATEGORIES:Classes & Groups,Peer Recovery,Peer Recovery,Recovery Coaching,Recovery Community Center,Substance Abuse,Substance Abuse Recovery
END:VEVENT
BEGIN:VEVENT
DTSTART;TZID=America/Detroit:20260316T100000
DTEND;TZID=America/Detroit:20260316T110000
DTSTAMP:20260421T011543
CREATED:20260210T175836Z
LAST-MODIFIED:20260310T164240Z
UID:10039496-1773655200-1773658800@www.careofsem.com
SUMMARY:Living in Recovery
DESCRIPTION:Join a peer-led group that explores strategies for strengthening recovery. Men and women welcome. \nThis group is held at the CARE offices. \n 
URL:https://www.careofsem.com/event/living-in-recovery-29-2-3-2-2/2026-03-16/
LOCATION:CARE Office\, 18441 Utica Rd\, Roseville\, MI\, 48066\, United States
CATEGORIES:Classes & Groups,Peer Recovery,Peer Recovery,Recovery Coaching,Recovery Community Center,Substance Abuse,Substance Abuse Recovery
ATTACH;FMTTYPE=image/jpeg:https://www.careofsem.com/wp-content/uploads/2026/02/Living-in-Recovery.jpg
END:VEVENT
BEGIN:VEVENT
DTSTART;TZID=America/Detroit:20260313T100000
DTEND;TZID=America/Detroit:20260313T110000
DTSTAMP:20260421T011543
CREATED:20251008T155214Z
LAST-MODIFIED:20251008T155911Z
UID:10037744-1773396000-1773399600@www.careofsem.com
SUMMARY:Relapse Prevention
DESCRIPTION:Join a peer-led group that explores strategies for preventing relapse. \nMen and Women are welcome. \nGroup is held at the CARE offices.
URL:https://www.careofsem.com/event/relapse-prevention-2/2026-03-13/
LOCATION:MI
CATEGORIES:Classes & Groups,Peer Recovery,Recovery Community Center
END:VEVENT
BEGIN:VEVENT
DTSTART;TZID=America/Detroit:20260312T183000
DTEND;TZID=America/Detroit:20260312T193000
DTSTAMP:20260421T011543
CREATED:20251008T160911Z
LAST-MODIFIED:20260310T165951Z
UID:10038268-1773340200-1773343800@www.careofsem.com
SUMMARY:Women Living in Recovery
DESCRIPTION:Join a peer-led group that discuss issues specific to women and explores strategies for strengthening recovery. \nWomen Only. \nThis group is held at the CARE offices.
URL:https://www.careofsem.com/event/women-living-in-recovery/2026-03-12/
LOCATION:CARE of Southeastern Michigan\, 18441 Utica Road\, Roseville\, MI\, 48066\, United States
CATEGORIES:Classes & Groups,Peer Recovery,Recovery Community Center
ATTACH;FMTTYPE=image/jpeg:https://www.careofsem.com/wp-content/uploads/2025/10/Women-Living-in-Recovery.jpg
END:VEVENT
BEGIN:VEVENT
DTSTART;TZID=America/Detroit:20260311T153000
DTEND;TZID=America/Detroit:20260311T163000
DTSTAMP:20260421T011543
CREATED:20251008T155132Z
LAST-MODIFIED:20260310T164751Z
UID:10037482-1773243000-1773246600@www.careofsem.com
SUMMARY:Relapse Prevention
DESCRIPTION:Join a peer-led group that explores strategies for preventing relapse. \nMen and Women are welcome. \nGroup is held at the CARE offices.
URL:https://www.careofsem.com/event/relapse-prevention/2026-03-11/
LOCATION:CARE of Southeastern Michigan\, 18441 Utica Road\, Roseville\, MI\, 48066\, United States
CATEGORIES:Classes & Groups,Peer Recovery,Recovery Community Center
ATTACH;FMTTYPE=image/jpeg:https://www.careofsem.com/wp-content/uploads/2025/10/Relapse-Prevention.jpg
END:VEVENT
BEGIN:VEVENT
DTSTART;TZID=America/Detroit:20260311T100000
DTEND;TZID=America/Detroit:20260311T113000
DTSTAMP:20260421T011543
CREATED:20251008T154849Z
LAST-MODIFIED:20260310T165618Z
UID:10037220-1773223200-1773228600@www.careofsem.com
SUMMARY:SMART Recovery
DESCRIPTION:SMART recovery is an evidence-informed approach to overcoming addictive behaviors and leading a balanced life. \nMen and Women are welcome! \nGroup is held at the CARE offices.
URL:https://www.careofsem.com/event/smart-recovery/2026-03-11/
LOCATION:CARE of Southeastern Michigan\, 18441 Utica Road\, Roseville\, MI\, 48066\, United States
CATEGORIES:Classes & Groups,Peer Recovery,Recovery Community Center
ATTACH;FMTTYPE=image/jpeg:https://www.careofsem.com/wp-content/uploads/2025/10/SMART-Recovery.jpg
END:VEVENT
BEGIN:VEVENT
DTSTART;TZID=America/Detroit:20260310T183000
DTEND;TZID=America/Detroit:20260310T193000
DTSTAMP:20260421T011543
CREATED:20260204T202821Z
LAST-MODIFIED:20260310T164414Z
UID:10038974-1773167400-1773171000@www.careofsem.com
SUMMARY:Men Living in Recovery
DESCRIPTION:Join a peer-led group that discuss issues specific to men and explores strategies for strengthening recovery. \nMen Only. \nThis group is held at the CARE offices.
URL:https://www.careofsem.com/event/men-living-in-recovery-2/2026-03-10/
LOCATION:CARE of Southeastern Michigan\, 18441 Utica Road\, Roseville\, MI\, 48066\, United States
CATEGORIES:Classes & Groups,Peer Recovery,Recovery Community Center
ATTACH;FMTTYPE=image/jpeg:https://www.careofsem.com/wp-content/uploads/2026/02/Men-Living-in-Recovery.jpg
END:VEVENT
BEGIN:VEVENT
DTSTART;TZID=America/Detroit:20260310T170000
DTEND;TZID=America/Detroit:20260310T183000
DTSTAMP:20260421T011543
CREATED:20260310T163423Z
LAST-MODIFIED:20260310T163423Z
UID:10038863-1773162000-1773167400@www.careofsem.com
SUMMARY:Adult Anger Management Feb 3rd - March 24th\, 2026
DESCRIPTION:CARE of Southeastern Michigan offers an in-person eight-week Anger Management workshop for adults.  This class meets court ordered anger management class requirements. \nThe class costs $150 to attend. \nAt the end of this workshop you should be able to: \n\nUnderstand your anger cycle\nSuccessfully manage strong emotions\, even under stress\nPractice assertive communication for conflict resolution\nUse relaxation techniques to control your anger\n\nTuesdays 5:00pm-6:30 pm from Feb 3rd to March 24th\, 2026. \nRegister by calling 586-541-2273. See the program flyer here.
URL:https://www.careofsem.com/event/adult-anger-management-feb-3rd-march-24th-2026-2/2026-03-10/
LOCATION:CARE Office\, 18441 Utica Rd\, Roseville\, MI\, 48066\, United States
CATEGORIES:Classes & Groups,Peer Recovery,Prevention Services,Programs
ATTACH;FMTTYPE=image/jpeg:https://www.careofsem.com/wp-content/uploads/2025/10/Adult-Anger.jpg
END:VEVENT
BEGIN:VEVENT
DTSTART;TZID=America/Detroit:20260310T100000
DTEND;TZID=America/Detroit:20260310T110000
DTSTAMP:20260421T011543
CREATED:20260210T180441Z
LAST-MODIFIED:20260210T180442Z
UID:10039234-1773136800-1773140400@www.careofsem.com
SUMMARY:Living in Recovery
DESCRIPTION:Join a peer-led group that explores strategies for strengthening recovery. Men and women welcome. \nThis group is held at the CARE offices. \n 
URL:https://www.careofsem.com/event/living-in-recovery-29-2-2-2-2/2026-03-10/
LOCATION:CARE Office\, 18441 Utica Rd\, Roseville\, MI\, 48066\, United States
CATEGORIES:Classes & Groups,Peer Recovery,Peer Recovery,Recovery Coaching,Recovery Community Center,Substance Abuse,Substance Abuse Recovery
END:VEVENT
BEGIN:VEVENT
DTSTART;TZID=America/Detroit:20260309T100000
DTEND;TZID=America/Detroit:20260309T110000
DTSTAMP:20260421T011543
CREATED:20260210T175836Z
LAST-MODIFIED:20260310T164240Z
UID:10039495-1773050400-1773054000@www.careofsem.com
SUMMARY:Living in Recovery
DESCRIPTION:Join a peer-led group that explores strategies for strengthening recovery. Men and women welcome. \nThis group is held at the CARE offices. \n 
URL:https://www.careofsem.com/event/living-in-recovery-29-2-3-2-2/2026-03-09/
LOCATION:CARE Office\, 18441 Utica Rd\, Roseville\, MI\, 48066\, United States
CATEGORIES:Classes & Groups,Peer Recovery,Peer Recovery,Recovery Coaching,Recovery Community Center,Substance Abuse,Substance Abuse Recovery
ATTACH;FMTTYPE=image/jpeg:https://www.careofsem.com/wp-content/uploads/2026/02/Living-in-Recovery.jpg
END:VEVENT
BEGIN:VEVENT
DTSTART;TZID=America/Detroit:20260306T100000
DTEND;TZID=America/Detroit:20260306T110000
DTSTAMP:20260421T011543
CREATED:20251008T155214Z
LAST-MODIFIED:20251008T155911Z
UID:10037743-1772791200-1772794800@www.careofsem.com
SUMMARY:Relapse Prevention
DESCRIPTION:Join a peer-led group that explores strategies for preventing relapse. \nMen and Women are welcome. \nGroup is held at the CARE offices.
URL:https://www.careofsem.com/event/relapse-prevention-2/2026-03-06/
LOCATION:MI
CATEGORIES:Classes & Groups,Peer Recovery,Recovery Community Center
END:VEVENT
BEGIN:VEVENT
DTSTART;TZID=America/Detroit:20260305T183000
DTEND;TZID=America/Detroit:20260305T193000
DTSTAMP:20260421T011543
CREATED:20251008T160911Z
LAST-MODIFIED:20260310T165951Z
UID:10038267-1772735400-1772739000@www.careofsem.com
SUMMARY:Women Living in Recovery
DESCRIPTION:Join a peer-led group that discuss issues specific to women and explores strategies for strengthening recovery. \nWomen Only. \nThis group is held at the CARE offices.
URL:https://www.careofsem.com/event/women-living-in-recovery/2026-03-05/
LOCATION:CARE of Southeastern Michigan\, 18441 Utica Road\, Roseville\, MI\, 48066\, United States
CATEGORIES:Classes & Groups,Peer Recovery,Recovery Community Center
ATTACH;FMTTYPE=image/jpeg:https://www.careofsem.com/wp-content/uploads/2025/10/Women-Living-in-Recovery.jpg
END:VEVENT
END:VCALENDAR