BEGIN:VCALENDAR
VERSION:2.0
PRODID:-//CARE of Southeastern Michigan - ECPv6.15.20//NONSGML v1.0//EN
CALSCALE:GREGORIAN
METHOD:PUBLISH
X-WR-CALNAME:CARE of Southeastern Michigan
X-ORIGINAL-URL:https://www.careofsem.com
X-WR-CALDESC:Events for CARE of Southeastern Michigan
REFRESH-INTERVAL;VALUE=DURATION:PT1H
X-Robots-Tag:noindex
X-PUBLISHED-TTL:PT1H
BEGIN:VTIMEZONE
TZID:America/Detroit
BEGIN:DAYLIGHT
TZOFFSETFROM:-0500
TZOFFSETTO:-0400
TZNAME:EDT
DTSTART:20270314T070000
END:DAYLIGHT
BEGIN:STANDARD
TZOFFSETFROM:-0400
TZOFFSETTO:-0500
TZNAME:EST
DTSTART:20271107T060000
END:STANDARD
BEGIN:DAYLIGHT
TZOFFSETFROM:-0500
TZOFFSETTO:-0400
TZNAME:EDT
DTSTART:20280312T070000
END:DAYLIGHT
BEGIN:STANDARD
TZOFFSETFROM:-0400
TZOFFSETTO:-0500
TZNAME:EST
DTSTART:20281105T060000
END:STANDARD
BEGIN:DAYLIGHT
TZOFFSETFROM:-0500
TZOFFSETTO:-0400
TZNAME:EDT
DTSTART:20290311T070000
END:DAYLIGHT
BEGIN:STANDARD
TZOFFSETFROM:-0400
TZOFFSETTO:-0500
TZNAME:EST
DTSTART:20291104T060000
END:STANDARD
END:VTIMEZONE
BEGIN:VEVENT
DTSTART;TZID=America/Detroit:20280918T100000
DTEND;TZID=America/Detroit:20280918T110000
DTSTAMP:20260425T065636
CREATED:20260210T175836Z
LAST-MODIFIED:20260310T164240Z
UID:10039627-1852884000-1852887600@www.careofsem.com
SUMMARY:Living in Recovery
DESCRIPTION:Join a peer-led group that explores strategies for strengthening recovery. Men and women welcome. \nThis group is held at the CARE offices. \n 
URL:https://www.careofsem.com/event/living-in-recovery-29-2-3-2-2/2028-09-18/
LOCATION:CARE Office\, 18441 Utica Rd\, Roseville\, MI\, 48066\, United States
CATEGORIES:Classes & Groups,Peer Recovery,Peer Recovery,Recovery Coaching,Recovery Community Center,Substance Abuse,Substance Abuse Recovery
ATTACH;FMTTYPE=image/jpeg:https://www.careofsem.com/wp-content/uploads/2026/02/Living-in-Recovery.jpg
END:VEVENT
BEGIN:VEVENT
DTSTART;TZID=America/Detroit:20280919T100000
DTEND;TZID=America/Detroit:20280919T110000
DTSTAMP:20260425T065636
CREATED:20260210T180441Z
LAST-MODIFIED:20260210T180442Z
UID:10039366-1852970400-1852974000@www.careofsem.com
SUMMARY:Living in Recovery
DESCRIPTION:Join a peer-led group that explores strategies for strengthening recovery. Men and women welcome. \nThis group is held at the CARE offices. \n 
URL:https://www.careofsem.com/event/living-in-recovery-29-2-2-2-2/2028-09-19/
LOCATION:CARE Office\, 18441 Utica Rd\, Roseville\, MI\, 48066\, United States
CATEGORIES:Classes & Groups,Peer Recovery,Peer Recovery,Recovery Coaching,Recovery Community Center,Substance Abuse,Substance Abuse Recovery
END:VEVENT
BEGIN:VEVENT
DTSTART;TZID=America/Detroit:20280925T100000
DTEND;TZID=America/Detroit:20280925T110000
DTSTAMP:20260425T065636
CREATED:20260210T175836Z
LAST-MODIFIED:20260310T164240Z
UID:10039628-1853488800-1853492400@www.careofsem.com
SUMMARY:Living in Recovery
DESCRIPTION:Join a peer-led group that explores strategies for strengthening recovery. Men and women welcome. \nThis group is held at the CARE offices. \n 
URL:https://www.careofsem.com/event/living-in-recovery-29-2-3-2-2/2028-09-25/
LOCATION:CARE Office\, 18441 Utica Rd\, Roseville\, MI\, 48066\, United States
CATEGORIES:Classes & Groups,Peer Recovery,Peer Recovery,Recovery Coaching,Recovery Community Center,Substance Abuse,Substance Abuse Recovery
ATTACH;FMTTYPE=image/jpeg:https://www.careofsem.com/wp-content/uploads/2026/02/Living-in-Recovery.jpg
END:VEVENT
BEGIN:VEVENT
DTSTART;TZID=America/Detroit:20280926T100000
DTEND;TZID=America/Detroit:20280926T110000
DTSTAMP:20260425T065636
CREATED:20260210T180441Z
LAST-MODIFIED:20260210T180442Z
UID:10039367-1853575200-1853578800@www.careofsem.com
SUMMARY:Living in Recovery
DESCRIPTION:Join a peer-led group that explores strategies for strengthening recovery. Men and women welcome. \nThis group is held at the CARE offices. \n 
URL:https://www.careofsem.com/event/living-in-recovery-29-2-2-2-2/2028-09-26/
LOCATION:CARE Office\, 18441 Utica Rd\, Roseville\, MI\, 48066\, United States
CATEGORIES:Classes & Groups,Peer Recovery,Peer Recovery,Recovery Coaching,Recovery Community Center,Substance Abuse,Substance Abuse Recovery
END:VEVENT
BEGIN:VEVENT
DTSTART;TZID=America/Detroit:20281002T100000
DTEND;TZID=America/Detroit:20281002T110000
DTSTAMP:20260425T065636
CREATED:20260210T175836Z
LAST-MODIFIED:20260310T164240Z
UID:10039629-1854093600-1854097200@www.careofsem.com
SUMMARY:Living in Recovery
DESCRIPTION:Join a peer-led group that explores strategies for strengthening recovery. Men and women welcome. \nThis group is held at the CARE offices. \n 
URL:https://www.careofsem.com/event/living-in-recovery-29-2-3-2-2/2028-10-02/
LOCATION:CARE Office\, 18441 Utica Rd\, Roseville\, MI\, 48066\, United States
CATEGORIES:Classes & Groups,Peer Recovery,Peer Recovery,Recovery Coaching,Recovery Community Center,Substance Abuse,Substance Abuse Recovery
ATTACH;FMTTYPE=image/jpeg:https://www.careofsem.com/wp-content/uploads/2026/02/Living-in-Recovery.jpg
END:VEVENT
BEGIN:VEVENT
DTSTART;TZID=America/Detroit:20281003T100000
DTEND;TZID=America/Detroit:20281003T110000
DTSTAMP:20260425T065636
CREATED:20260210T180441Z
LAST-MODIFIED:20260210T180442Z
UID:10039368-1854180000-1854183600@www.careofsem.com
SUMMARY:Living in Recovery
DESCRIPTION:Join a peer-led group that explores strategies for strengthening recovery. Men and women welcome. \nThis group is held at the CARE offices. \n 
URL:https://www.careofsem.com/event/living-in-recovery-29-2-2-2-2/2028-10-03/
LOCATION:CARE Office\, 18441 Utica Rd\, Roseville\, MI\, 48066\, United States
CATEGORIES:Classes & Groups,Peer Recovery,Peer Recovery,Recovery Coaching,Recovery Community Center,Substance Abuse,Substance Abuse Recovery
END:VEVENT
BEGIN:VEVENT
DTSTART;TZID=America/Detroit:20281009T100000
DTEND;TZID=America/Detroit:20281009T110000
DTSTAMP:20260425T065636
CREATED:20260210T175836Z
LAST-MODIFIED:20260310T164240Z
UID:10039630-1854698400-1854702000@www.careofsem.com
SUMMARY:Living in Recovery
DESCRIPTION:Join a peer-led group that explores strategies for strengthening recovery. Men and women welcome. \nThis group is held at the CARE offices. \n 
URL:https://www.careofsem.com/event/living-in-recovery-29-2-3-2-2/2028-10-09/
LOCATION:CARE Office\, 18441 Utica Rd\, Roseville\, MI\, 48066\, United States
CATEGORIES:Classes & Groups,Peer Recovery,Peer Recovery,Recovery Coaching,Recovery Community Center,Substance Abuse,Substance Abuse Recovery
ATTACH;FMTTYPE=image/jpeg:https://www.careofsem.com/wp-content/uploads/2026/02/Living-in-Recovery.jpg
END:VEVENT
BEGIN:VEVENT
DTSTART;TZID=America/Detroit:20281010T100000
DTEND;TZID=America/Detroit:20281010T110000
DTSTAMP:20260425T065636
CREATED:20260210T180441Z
LAST-MODIFIED:20260210T180442Z
UID:10039369-1854784800-1854788400@www.careofsem.com
SUMMARY:Living in Recovery
DESCRIPTION:Join a peer-led group that explores strategies for strengthening recovery. Men and women welcome. \nThis group is held at the CARE offices. \n 
URL:https://www.careofsem.com/event/living-in-recovery-29-2-2-2-2/2028-10-10/
LOCATION:CARE Office\, 18441 Utica Rd\, Roseville\, MI\, 48066\, United States
CATEGORIES:Classes & Groups,Peer Recovery,Peer Recovery,Recovery Coaching,Recovery Community Center,Substance Abuse,Substance Abuse Recovery
END:VEVENT
BEGIN:VEVENT
DTSTART;TZID=America/Detroit:20281016T100000
DTEND;TZID=America/Detroit:20281016T110000
DTSTAMP:20260425T065636
CREATED:20260210T175836Z
LAST-MODIFIED:20260310T164240Z
UID:10039631-1855303200-1855306800@www.careofsem.com
SUMMARY:Living in Recovery
DESCRIPTION:Join a peer-led group that explores strategies for strengthening recovery. Men and women welcome. \nThis group is held at the CARE offices. \n 
URL:https://www.careofsem.com/event/living-in-recovery-29-2-3-2-2/2028-10-16/
LOCATION:CARE Office\, 18441 Utica Rd\, Roseville\, MI\, 48066\, United States
CATEGORIES:Classes & Groups,Peer Recovery,Peer Recovery,Recovery Coaching,Recovery Community Center,Substance Abuse,Substance Abuse Recovery
ATTACH;FMTTYPE=image/jpeg:https://www.careofsem.com/wp-content/uploads/2026/02/Living-in-Recovery.jpg
END:VEVENT
BEGIN:VEVENT
DTSTART;TZID=America/Detroit:20281017T100000
DTEND;TZID=America/Detroit:20281017T110000
DTSTAMP:20260425T065636
CREATED:20260210T180441Z
LAST-MODIFIED:20260210T180442Z
UID:10039370-1855389600-1855393200@www.careofsem.com
SUMMARY:Living in Recovery
DESCRIPTION:Join a peer-led group that explores strategies for strengthening recovery. Men and women welcome. \nThis group is held at the CARE offices. \n 
URL:https://www.careofsem.com/event/living-in-recovery-29-2-2-2-2/2028-10-17/
LOCATION:CARE Office\, 18441 Utica Rd\, Roseville\, MI\, 48066\, United States
CATEGORIES:Classes & Groups,Peer Recovery,Peer Recovery,Recovery Coaching,Recovery Community Center,Substance Abuse,Substance Abuse Recovery
END:VEVENT
BEGIN:VEVENT
DTSTART;TZID=America/Detroit:20281023T100000
DTEND;TZID=America/Detroit:20281023T110000
DTSTAMP:20260425T065636
CREATED:20260210T175836Z
LAST-MODIFIED:20260310T164240Z
UID:10039632-1855908000-1855911600@www.careofsem.com
SUMMARY:Living in Recovery
DESCRIPTION:Join a peer-led group that explores strategies for strengthening recovery. Men and women welcome. \nThis group is held at the CARE offices. \n 
URL:https://www.careofsem.com/event/living-in-recovery-29-2-3-2-2/2028-10-23/
LOCATION:CARE Office\, 18441 Utica Rd\, Roseville\, MI\, 48066\, United States
CATEGORIES:Classes & Groups,Peer Recovery,Peer Recovery,Recovery Coaching,Recovery Community Center,Substance Abuse,Substance Abuse Recovery
ATTACH;FMTTYPE=image/jpeg:https://www.careofsem.com/wp-content/uploads/2026/02/Living-in-Recovery.jpg
END:VEVENT
BEGIN:VEVENT
DTSTART;TZID=America/Detroit:20281024T100000
DTEND;TZID=America/Detroit:20281024T110000
DTSTAMP:20260425T065636
CREATED:20260210T180441Z
LAST-MODIFIED:20260210T180442Z
UID:10039371-1855994400-1855998000@www.careofsem.com
SUMMARY:Living in Recovery
DESCRIPTION:Join a peer-led group that explores strategies for strengthening recovery. Men and women welcome. \nThis group is held at the CARE offices. \n 
URL:https://www.careofsem.com/event/living-in-recovery-29-2-2-2-2/2028-10-24/
LOCATION:CARE Office\, 18441 Utica Rd\, Roseville\, MI\, 48066\, United States
CATEGORIES:Classes & Groups,Peer Recovery,Peer Recovery,Recovery Coaching,Recovery Community Center,Substance Abuse,Substance Abuse Recovery
END:VEVENT
BEGIN:VEVENT
DTSTART;TZID=America/Detroit:20281030T100000
DTEND;TZID=America/Detroit:20281030T110000
DTSTAMP:20260425T065636
CREATED:20260210T175836Z
LAST-MODIFIED:20260310T164240Z
UID:10039633-1856512800-1856516400@www.careofsem.com
SUMMARY:Living in Recovery
DESCRIPTION:Join a peer-led group that explores strategies for strengthening recovery. Men and women welcome. \nThis group is held at the CARE offices. \n 
URL:https://www.careofsem.com/event/living-in-recovery-29-2-3-2-2/2028-10-30/
LOCATION:CARE Office\, 18441 Utica Rd\, Roseville\, MI\, 48066\, United States
CATEGORIES:Classes & Groups,Peer Recovery,Peer Recovery,Recovery Coaching,Recovery Community Center,Substance Abuse,Substance Abuse Recovery
ATTACH;FMTTYPE=image/jpeg:https://www.careofsem.com/wp-content/uploads/2026/02/Living-in-Recovery.jpg
END:VEVENT
BEGIN:VEVENT
DTSTART;TZID=America/Detroit:20281031T100000
DTEND;TZID=America/Detroit:20281031T110000
DTSTAMP:20260425T065636
CREATED:20260210T180441Z
LAST-MODIFIED:20260210T180442Z
UID:10039372-1856599200-1856602800@www.careofsem.com
SUMMARY:Living in Recovery
DESCRIPTION:Join a peer-led group that explores strategies for strengthening recovery. Men and women welcome. \nThis group is held at the CARE offices. \n 
URL:https://www.careofsem.com/event/living-in-recovery-29-2-2-2-2/2028-10-31/
LOCATION:CARE Office\, 18441 Utica Rd\, Roseville\, MI\, 48066\, United States
CATEGORIES:Classes & Groups,Peer Recovery,Peer Recovery,Recovery Coaching,Recovery Community Center,Substance Abuse,Substance Abuse Recovery
END:VEVENT
BEGIN:VEVENT
DTSTART;TZID=America/Detroit:20281106T100000
DTEND;TZID=America/Detroit:20281106T110000
DTSTAMP:20260425T065636
CREATED:20260210T175836Z
LAST-MODIFIED:20260310T164240Z
UID:10039634-1857117600-1857121200@www.careofsem.com
SUMMARY:Living in Recovery
DESCRIPTION:Join a peer-led group that explores strategies for strengthening recovery. Men and women welcome. \nThis group is held at the CARE offices. \n 
URL:https://www.careofsem.com/event/living-in-recovery-29-2-3-2-2/2028-11-06/
LOCATION:CARE Office\, 18441 Utica Rd\, Roseville\, MI\, 48066\, United States
CATEGORIES:Classes & Groups,Peer Recovery,Peer Recovery,Recovery Coaching,Recovery Community Center,Substance Abuse,Substance Abuse Recovery
ATTACH;FMTTYPE=image/jpeg:https://www.careofsem.com/wp-content/uploads/2026/02/Living-in-Recovery.jpg
END:VEVENT
BEGIN:VEVENT
DTSTART;TZID=America/Detroit:20281107T100000
DTEND;TZID=America/Detroit:20281107T110000
DTSTAMP:20260425T065636
CREATED:20260210T180441Z
LAST-MODIFIED:20260210T180442Z
UID:10039373-1857204000-1857207600@www.careofsem.com
SUMMARY:Living in Recovery
DESCRIPTION:Join a peer-led group that explores strategies for strengthening recovery. Men and women welcome. \nThis group is held at the CARE offices. \n 
URL:https://www.careofsem.com/event/living-in-recovery-29-2-2-2-2/2028-11-07/
LOCATION:CARE Office\, 18441 Utica Rd\, Roseville\, MI\, 48066\, United States
CATEGORIES:Classes & Groups,Peer Recovery,Peer Recovery,Recovery Coaching,Recovery Community Center,Substance Abuse,Substance Abuse Recovery
END:VEVENT
BEGIN:VEVENT
DTSTART;TZID=America/Detroit:20281113T100000
DTEND;TZID=America/Detroit:20281113T110000
DTSTAMP:20260425T065636
CREATED:20260210T175836Z
LAST-MODIFIED:20260310T164240Z
UID:10039635-1857722400-1857726000@www.careofsem.com
SUMMARY:Living in Recovery
DESCRIPTION:Join a peer-led group that explores strategies for strengthening recovery. Men and women welcome. \nThis group is held at the CARE offices. \n 
URL:https://www.careofsem.com/event/living-in-recovery-29-2-3-2-2/2028-11-13/
LOCATION:CARE Office\, 18441 Utica Rd\, Roseville\, MI\, 48066\, United States
CATEGORIES:Classes & Groups,Peer Recovery,Peer Recovery,Recovery Coaching,Recovery Community Center,Substance Abuse,Substance Abuse Recovery
ATTACH;FMTTYPE=image/jpeg:https://www.careofsem.com/wp-content/uploads/2026/02/Living-in-Recovery.jpg
END:VEVENT
BEGIN:VEVENT
DTSTART;TZID=America/Detroit:20281114T100000
DTEND;TZID=America/Detroit:20281114T110000
DTSTAMP:20260425T065636
CREATED:20260210T180441Z
LAST-MODIFIED:20260210T180442Z
UID:10039374-1857808800-1857812400@www.careofsem.com
SUMMARY:Living in Recovery
DESCRIPTION:Join a peer-led group that explores strategies for strengthening recovery. Men and women welcome. \nThis group is held at the CARE offices. \n 
URL:https://www.careofsem.com/event/living-in-recovery-29-2-2-2-2/2028-11-14/
LOCATION:CARE Office\, 18441 Utica Rd\, Roseville\, MI\, 48066\, United States
CATEGORIES:Classes & Groups,Peer Recovery,Peer Recovery,Recovery Coaching,Recovery Community Center,Substance Abuse,Substance Abuse Recovery
END:VEVENT
BEGIN:VEVENT
DTSTART;TZID=America/Detroit:20281120T100000
DTEND;TZID=America/Detroit:20281120T110000
DTSTAMP:20260425T065636
CREATED:20260210T175836Z
LAST-MODIFIED:20260310T164240Z
UID:10039636-1858327200-1858330800@www.careofsem.com
SUMMARY:Living in Recovery
DESCRIPTION:Join a peer-led group that explores strategies for strengthening recovery. Men and women welcome. \nThis group is held at the CARE offices. \n 
URL:https://www.careofsem.com/event/living-in-recovery-29-2-3-2-2/2028-11-20/
LOCATION:CARE Office\, 18441 Utica Rd\, Roseville\, MI\, 48066\, United States
CATEGORIES:Classes & Groups,Peer Recovery,Peer Recovery,Recovery Coaching,Recovery Community Center,Substance Abuse,Substance Abuse Recovery
ATTACH;FMTTYPE=image/jpeg:https://www.careofsem.com/wp-content/uploads/2026/02/Living-in-Recovery.jpg
END:VEVENT
BEGIN:VEVENT
DTSTART;TZID=America/Detroit:20281121T100000
DTEND;TZID=America/Detroit:20281121T110000
DTSTAMP:20260425T065636
CREATED:20260210T180441Z
LAST-MODIFIED:20260210T180442Z
UID:10039375-1858413600-1858417200@www.careofsem.com
SUMMARY:Living in Recovery
DESCRIPTION:Join a peer-led group that explores strategies for strengthening recovery. Men and women welcome. \nThis group is held at the CARE offices. \n 
URL:https://www.careofsem.com/event/living-in-recovery-29-2-2-2-2/2028-11-21/
LOCATION:CARE Office\, 18441 Utica Rd\, Roseville\, MI\, 48066\, United States
CATEGORIES:Classes & Groups,Peer Recovery,Peer Recovery,Recovery Coaching,Recovery Community Center,Substance Abuse,Substance Abuse Recovery
END:VEVENT
BEGIN:VEVENT
DTSTART;TZID=America/Detroit:20281127T100000
DTEND;TZID=America/Detroit:20281127T110000
DTSTAMP:20260425T065636
CREATED:20260210T175836Z
LAST-MODIFIED:20260310T164240Z
UID:10039637-1858932000-1858935600@www.careofsem.com
SUMMARY:Living in Recovery
DESCRIPTION:Join a peer-led group that explores strategies for strengthening recovery. Men and women welcome. \nThis group is held at the CARE offices. \n 
URL:https://www.careofsem.com/event/living-in-recovery-29-2-3-2-2/2028-11-27/
LOCATION:CARE Office\, 18441 Utica Rd\, Roseville\, MI\, 48066\, United States
CATEGORIES:Classes & Groups,Peer Recovery,Peer Recovery,Recovery Coaching,Recovery Community Center,Substance Abuse,Substance Abuse Recovery
ATTACH;FMTTYPE=image/jpeg:https://www.careofsem.com/wp-content/uploads/2026/02/Living-in-Recovery.jpg
END:VEVENT
BEGIN:VEVENT
DTSTART;TZID=America/Detroit:20281128T100000
DTEND;TZID=America/Detroit:20281128T110000
DTSTAMP:20260425T065636
CREATED:20260210T180441Z
LAST-MODIFIED:20260210T180442Z
UID:10039376-1859018400-1859022000@www.careofsem.com
SUMMARY:Living in Recovery
DESCRIPTION:Join a peer-led group that explores strategies for strengthening recovery. Men and women welcome. \nThis group is held at the CARE offices. \n 
URL:https://www.careofsem.com/event/living-in-recovery-29-2-2-2-2/2028-11-28/
LOCATION:CARE Office\, 18441 Utica Rd\, Roseville\, MI\, 48066\, United States
CATEGORIES:Classes & Groups,Peer Recovery,Peer Recovery,Recovery Coaching,Recovery Community Center,Substance Abuse,Substance Abuse Recovery
END:VEVENT
BEGIN:VEVENT
DTSTART;TZID=America/Detroit:20281204T100000
DTEND;TZID=America/Detroit:20281204T110000
DTSTAMP:20260425T065636
CREATED:20260210T175836Z
LAST-MODIFIED:20260310T164240Z
UID:10039638-1859536800-1859540400@www.careofsem.com
SUMMARY:Living in Recovery
DESCRIPTION:Join a peer-led group that explores strategies for strengthening recovery. Men and women welcome. \nThis group is held at the CARE offices. \n 
URL:https://www.careofsem.com/event/living-in-recovery-29-2-3-2-2/2028-12-04/
LOCATION:CARE Office\, 18441 Utica Rd\, Roseville\, MI\, 48066\, United States
CATEGORIES:Classes & Groups,Peer Recovery,Peer Recovery,Recovery Coaching,Recovery Community Center,Substance Abuse,Substance Abuse Recovery
ATTACH;FMTTYPE=image/jpeg:https://www.careofsem.com/wp-content/uploads/2026/02/Living-in-Recovery.jpg
END:VEVENT
BEGIN:VEVENT
DTSTART;TZID=America/Detroit:20281205T100000
DTEND;TZID=America/Detroit:20281205T110000
DTSTAMP:20260425T065636
CREATED:20260210T180441Z
LAST-MODIFIED:20260210T180442Z
UID:10039377-1859623200-1859626800@www.careofsem.com
SUMMARY:Living in Recovery
DESCRIPTION:Join a peer-led group that explores strategies for strengthening recovery. Men and women welcome. \nThis group is held at the CARE offices. \n 
URL:https://www.careofsem.com/event/living-in-recovery-29-2-2-2-2/2028-12-05/
LOCATION:CARE Office\, 18441 Utica Rd\, Roseville\, MI\, 48066\, United States
CATEGORIES:Classes & Groups,Peer Recovery,Peer Recovery,Recovery Coaching,Recovery Community Center,Substance Abuse,Substance Abuse Recovery
END:VEVENT
BEGIN:VEVENT
DTSTART;TZID=America/Detroit:20281211T100000
DTEND;TZID=America/Detroit:20281211T110000
DTSTAMP:20260425T065636
CREATED:20260210T175836Z
LAST-MODIFIED:20260310T164240Z
UID:10039639-1860141600-1860145200@www.careofsem.com
SUMMARY:Living in Recovery
DESCRIPTION:Join a peer-led group that explores strategies for strengthening recovery. Men and women welcome. \nThis group is held at the CARE offices. \n 
URL:https://www.careofsem.com/event/living-in-recovery-29-2-3-2-2/2028-12-11/
LOCATION:CARE Office\, 18441 Utica Rd\, Roseville\, MI\, 48066\, United States
CATEGORIES:Classes & Groups,Peer Recovery,Peer Recovery,Recovery Coaching,Recovery Community Center,Substance Abuse,Substance Abuse Recovery
ATTACH;FMTTYPE=image/jpeg:https://www.careofsem.com/wp-content/uploads/2026/02/Living-in-Recovery.jpg
END:VEVENT
BEGIN:VEVENT
DTSTART;TZID=America/Detroit:20281212T100000
DTEND;TZID=America/Detroit:20281212T110000
DTSTAMP:20260425T065636
CREATED:20260210T180441Z
LAST-MODIFIED:20260210T180442Z
UID:10039378-1860228000-1860231600@www.careofsem.com
SUMMARY:Living in Recovery
DESCRIPTION:Join a peer-led group that explores strategies for strengthening recovery. Men and women welcome. \nThis group is held at the CARE offices. \n 
URL:https://www.careofsem.com/event/living-in-recovery-29-2-2-2-2/2028-12-12/
LOCATION:CARE Office\, 18441 Utica Rd\, Roseville\, MI\, 48066\, United States
CATEGORIES:Classes & Groups,Peer Recovery,Peer Recovery,Recovery Coaching,Recovery Community Center,Substance Abuse,Substance Abuse Recovery
END:VEVENT
BEGIN:VEVENT
DTSTART;TZID=America/Detroit:20281218T100000
DTEND;TZID=America/Detroit:20281218T110000
DTSTAMP:20260425T065636
CREATED:20260210T175836Z
LAST-MODIFIED:20260310T164240Z
UID:10039640-1860746400-1860750000@www.careofsem.com
SUMMARY:Living in Recovery
DESCRIPTION:Join a peer-led group that explores strategies for strengthening recovery. Men and women welcome. \nThis group is held at the CARE offices. \n 
URL:https://www.careofsem.com/event/living-in-recovery-29-2-3-2-2/2028-12-18/
LOCATION:CARE Office\, 18441 Utica Rd\, Roseville\, MI\, 48066\, United States
CATEGORIES:Classes & Groups,Peer Recovery,Peer Recovery,Recovery Coaching,Recovery Community Center,Substance Abuse,Substance Abuse Recovery
ATTACH;FMTTYPE=image/jpeg:https://www.careofsem.com/wp-content/uploads/2026/02/Living-in-Recovery.jpg
END:VEVENT
BEGIN:VEVENT
DTSTART;TZID=America/Detroit:20281219T100000
DTEND;TZID=America/Detroit:20281219T110000
DTSTAMP:20260425T065636
CREATED:20260210T180441Z
LAST-MODIFIED:20260210T180442Z
UID:10039379-1860832800-1860836400@www.careofsem.com
SUMMARY:Living in Recovery
DESCRIPTION:Join a peer-led group that explores strategies for strengthening recovery. Men and women welcome. \nThis group is held at the CARE offices. \n 
URL:https://www.careofsem.com/event/living-in-recovery-29-2-2-2-2/2028-12-19/
LOCATION:CARE Office\, 18441 Utica Rd\, Roseville\, MI\, 48066\, United States
CATEGORIES:Classes & Groups,Peer Recovery,Peer Recovery,Recovery Coaching,Recovery Community Center,Substance Abuse,Substance Abuse Recovery
END:VEVENT
BEGIN:VEVENT
DTSTART;TZID=America/Detroit:20281225T100000
DTEND;TZID=America/Detroit:20281225T110000
DTSTAMP:20260425T065636
CREATED:20260210T175836Z
LAST-MODIFIED:20260310T164240Z
UID:10039641-1861351200-1861354800@www.careofsem.com
SUMMARY:Living in Recovery
DESCRIPTION:Join a peer-led group that explores strategies for strengthening recovery. Men and women welcome. \nThis group is held at the CARE offices. \n 
URL:https://www.careofsem.com/event/living-in-recovery-29-2-3-2-2/2028-12-25/
LOCATION:CARE Office\, 18441 Utica Rd\, Roseville\, MI\, 48066\, United States
CATEGORIES:Classes & Groups,Peer Recovery,Peer Recovery,Recovery Coaching,Recovery Community Center,Substance Abuse,Substance Abuse Recovery
ATTACH;FMTTYPE=image/jpeg:https://www.careofsem.com/wp-content/uploads/2026/02/Living-in-Recovery.jpg
END:VEVENT
BEGIN:VEVENT
DTSTART;TZID=America/Detroit:20281226T100000
DTEND;TZID=America/Detroit:20281226T110000
DTSTAMP:20260425T065636
CREATED:20260210T180441Z
LAST-MODIFIED:20260210T180442Z
UID:10039380-1861437600-1861441200@www.careofsem.com
SUMMARY:Living in Recovery
DESCRIPTION:Join a peer-led group that explores strategies for strengthening recovery. Men and women welcome. \nThis group is held at the CARE offices. \n 
URL:https://www.careofsem.com/event/living-in-recovery-29-2-2-2-2/2028-12-26/
LOCATION:CARE Office\, 18441 Utica Rd\, Roseville\, MI\, 48066\, United States
CATEGORIES:Classes & Groups,Peer Recovery,Peer Recovery,Recovery Coaching,Recovery Community Center,Substance Abuse,Substance Abuse Recovery
END:VEVENT
END:VCALENDAR