BEGIN:VCALENDAR
VERSION:2.0
PRODID:-//CARE of Southeastern Michigan - ECPv6.15.20//NONSGML v1.0//EN
CALSCALE:GREGORIAN
METHOD:PUBLISH
X-ORIGINAL-URL:https://www.careofsem.com
X-WR-CALDESC:Events for CARE of Southeastern Michigan
REFRESH-INTERVAL;VALUE=DURATION:PT1H
X-Robots-Tag:noindex
X-PUBLISHED-TTL:PT1H
BEGIN:VTIMEZONE
TZID:America/Detroit
BEGIN:DAYLIGHT
TZOFFSETFROM:-0500
TZOFFSETTO:-0400
TZNAME:EDT
DTSTART:20270314T070000
END:DAYLIGHT
BEGIN:STANDARD
TZOFFSETFROM:-0400
TZOFFSETTO:-0500
TZNAME:EST
DTSTART:20271107T060000
END:STANDARD
BEGIN:DAYLIGHT
TZOFFSETFROM:-0500
TZOFFSETTO:-0400
TZNAME:EDT
DTSTART:20280312T070000
END:DAYLIGHT
BEGIN:STANDARD
TZOFFSETFROM:-0400
TZOFFSETTO:-0500
TZNAME:EST
DTSTART:20281105T060000
END:STANDARD
BEGIN:DAYLIGHT
TZOFFSETFROM:-0500
TZOFFSETTO:-0400
TZNAME:EDT
DTSTART:20290311T070000
END:DAYLIGHT
BEGIN:STANDARD
TZOFFSETFROM:-0400
TZOFFSETTO:-0500
TZNAME:EST
DTSTART:20291104T060000
END:STANDARD
END:VTIMEZONE
BEGIN:VEVENT
DTSTART;TZID=America/Detroit:20280501T100000
DTEND;TZID=America/Detroit:20280501T110000
DTSTAMP:20260424T235801
CREATED:20260210T175836Z
LAST-MODIFIED:20260310T164240Z
UID:10039607-1840788000-1840791600@www.careofsem.com
SUMMARY:Living in Recovery
DESCRIPTION:Join a peer-led group that explores strategies for strengthening recovery. Men and women welcome. \nThis group is held at the CARE offices. \n 
URL:https://www.careofsem.com/event/living-in-recovery-29-2-3-2-2/2028-05-01/
LOCATION:CARE Office\, 18441 Utica Rd\, Roseville\, MI\, 48066\, United States
CATEGORIES:Classes & Groups,Peer Recovery,Peer Recovery,Recovery Coaching,Recovery Community Center,Substance Abuse,Substance Abuse Recovery
ATTACH;FMTTYPE=image/jpeg:https://www.careofsem.com/wp-content/uploads/2026/02/Living-in-Recovery.jpg
END:VEVENT
BEGIN:VEVENT
DTSTART;TZID=America/Detroit:20280502T100000
DTEND;TZID=America/Detroit:20280502T110000
DTSTAMP:20260424T235801
CREATED:20260210T180441Z
LAST-MODIFIED:20260210T180442Z
UID:10039346-1840874400-1840878000@www.careofsem.com
SUMMARY:Living in Recovery
DESCRIPTION:Join a peer-led group that explores strategies for strengthening recovery. Men and women welcome. \nThis group is held at the CARE offices. \n 
URL:https://www.careofsem.com/event/living-in-recovery-29-2-2-2-2/2028-05-02/
LOCATION:CARE Office\, 18441 Utica Rd\, Roseville\, MI\, 48066\, United States
CATEGORIES:Classes & Groups,Peer Recovery,Peer Recovery,Recovery Coaching,Recovery Community Center,Substance Abuse,Substance Abuse Recovery
END:VEVENT
BEGIN:VEVENT
DTSTART;TZID=America/Detroit:20280508T100000
DTEND;TZID=America/Detroit:20280508T110000
DTSTAMP:20260424T235801
CREATED:20260210T175836Z
LAST-MODIFIED:20260310T164240Z
UID:10039608-1841392800-1841396400@www.careofsem.com
SUMMARY:Living in Recovery
DESCRIPTION:Join a peer-led group that explores strategies for strengthening recovery. Men and women welcome. \nThis group is held at the CARE offices. \n 
URL:https://www.careofsem.com/event/living-in-recovery-29-2-3-2-2/2028-05-08/
LOCATION:CARE Office\, 18441 Utica Rd\, Roseville\, MI\, 48066\, United States
CATEGORIES:Classes & Groups,Peer Recovery,Peer Recovery,Recovery Coaching,Recovery Community Center,Substance Abuse,Substance Abuse Recovery
ATTACH;FMTTYPE=image/jpeg:https://www.careofsem.com/wp-content/uploads/2026/02/Living-in-Recovery.jpg
END:VEVENT
BEGIN:VEVENT
DTSTART;TZID=America/Detroit:20280509T100000
DTEND;TZID=America/Detroit:20280509T110000
DTSTAMP:20260424T235801
CREATED:20260210T180441Z
LAST-MODIFIED:20260210T180442Z
UID:10039347-1841479200-1841482800@www.careofsem.com
SUMMARY:Living in Recovery
DESCRIPTION:Join a peer-led group that explores strategies for strengthening recovery. Men and women welcome. \nThis group is held at the CARE offices. \n 
URL:https://www.careofsem.com/event/living-in-recovery-29-2-2-2-2/2028-05-09/
LOCATION:CARE Office\, 18441 Utica Rd\, Roseville\, MI\, 48066\, United States
CATEGORIES:Classes & Groups,Peer Recovery,Peer Recovery,Recovery Coaching,Recovery Community Center,Substance Abuse,Substance Abuse Recovery
END:VEVENT
BEGIN:VEVENT
DTSTART;TZID=America/Detroit:20280515T100000
DTEND;TZID=America/Detroit:20280515T110000
DTSTAMP:20260424T235801
CREATED:20260210T175836Z
LAST-MODIFIED:20260310T164240Z
UID:10039609-1841997600-1842001200@www.careofsem.com
SUMMARY:Living in Recovery
DESCRIPTION:Join a peer-led group that explores strategies for strengthening recovery. Men and women welcome. \nThis group is held at the CARE offices. \n 
URL:https://www.careofsem.com/event/living-in-recovery-29-2-3-2-2/2028-05-15/
LOCATION:CARE Office\, 18441 Utica Rd\, Roseville\, MI\, 48066\, United States
CATEGORIES:Classes & Groups,Peer Recovery,Peer Recovery,Recovery Coaching,Recovery Community Center,Substance Abuse,Substance Abuse Recovery
ATTACH;FMTTYPE=image/jpeg:https://www.careofsem.com/wp-content/uploads/2026/02/Living-in-Recovery.jpg
END:VEVENT
BEGIN:VEVENT
DTSTART;TZID=America/Detroit:20280516T100000
DTEND;TZID=America/Detroit:20280516T110000
DTSTAMP:20260424T235801
CREATED:20260210T180441Z
LAST-MODIFIED:20260210T180442Z
UID:10039348-1842084000-1842087600@www.careofsem.com
SUMMARY:Living in Recovery
DESCRIPTION:Join a peer-led group that explores strategies for strengthening recovery. Men and women welcome. \nThis group is held at the CARE offices. \n 
URL:https://www.careofsem.com/event/living-in-recovery-29-2-2-2-2/2028-05-16/
LOCATION:CARE Office\, 18441 Utica Rd\, Roseville\, MI\, 48066\, United States
CATEGORIES:Classes & Groups,Peer Recovery,Peer Recovery,Recovery Coaching,Recovery Community Center,Substance Abuse,Substance Abuse Recovery
END:VEVENT
BEGIN:VEVENT
DTSTART;TZID=America/Detroit:20280522T100000
DTEND;TZID=America/Detroit:20280522T110000
DTSTAMP:20260424T235801
CREATED:20260210T175836Z
LAST-MODIFIED:20260310T164240Z
UID:10039610-1842602400-1842606000@www.careofsem.com
SUMMARY:Living in Recovery
DESCRIPTION:Join a peer-led group that explores strategies for strengthening recovery. Men and women welcome. \nThis group is held at the CARE offices. \n 
URL:https://www.careofsem.com/event/living-in-recovery-29-2-3-2-2/2028-05-22/
LOCATION:CARE Office\, 18441 Utica Rd\, Roseville\, MI\, 48066\, United States
CATEGORIES:Classes & Groups,Peer Recovery,Peer Recovery,Recovery Coaching,Recovery Community Center,Substance Abuse,Substance Abuse Recovery
ATTACH;FMTTYPE=image/jpeg:https://www.careofsem.com/wp-content/uploads/2026/02/Living-in-Recovery.jpg
END:VEVENT
BEGIN:VEVENT
DTSTART;TZID=America/Detroit:20280523T100000
DTEND;TZID=America/Detroit:20280523T110000
DTSTAMP:20260424T235801
CREATED:20260210T180441Z
LAST-MODIFIED:20260210T180442Z
UID:10039349-1842688800-1842692400@www.careofsem.com
SUMMARY:Living in Recovery
DESCRIPTION:Join a peer-led group that explores strategies for strengthening recovery. Men and women welcome. \nThis group is held at the CARE offices. \n 
URL:https://www.careofsem.com/event/living-in-recovery-29-2-2-2-2/2028-05-23/
LOCATION:CARE Office\, 18441 Utica Rd\, Roseville\, MI\, 48066\, United States
CATEGORIES:Classes & Groups,Peer Recovery,Peer Recovery,Recovery Coaching,Recovery Community Center,Substance Abuse,Substance Abuse Recovery
END:VEVENT
BEGIN:VEVENT
DTSTART;TZID=America/Detroit:20280529T100000
DTEND;TZID=America/Detroit:20280529T110000
DTSTAMP:20260424T235801
CREATED:20260210T175836Z
LAST-MODIFIED:20260310T164240Z
UID:10039611-1843207200-1843210800@www.careofsem.com
SUMMARY:Living in Recovery
DESCRIPTION:Join a peer-led group that explores strategies for strengthening recovery. Men and women welcome. \nThis group is held at the CARE offices. \n 
URL:https://www.careofsem.com/event/living-in-recovery-29-2-3-2-2/2028-05-29/
LOCATION:CARE Office\, 18441 Utica Rd\, Roseville\, MI\, 48066\, United States
CATEGORIES:Classes & Groups,Peer Recovery,Peer Recovery,Recovery Coaching,Recovery Community Center,Substance Abuse,Substance Abuse Recovery
ATTACH;FMTTYPE=image/jpeg:https://www.careofsem.com/wp-content/uploads/2026/02/Living-in-Recovery.jpg
END:VEVENT
BEGIN:VEVENT
DTSTART;TZID=America/Detroit:20280530T100000
DTEND;TZID=America/Detroit:20280530T110000
DTSTAMP:20260424T235801
CREATED:20260210T180441Z
LAST-MODIFIED:20260210T180442Z
UID:10039350-1843293600-1843297200@www.careofsem.com
SUMMARY:Living in Recovery
DESCRIPTION:Join a peer-led group that explores strategies for strengthening recovery. Men and women welcome. \nThis group is held at the CARE offices. \n 
URL:https://www.careofsem.com/event/living-in-recovery-29-2-2-2-2/2028-05-30/
LOCATION:CARE Office\, 18441 Utica Rd\, Roseville\, MI\, 48066\, United States
CATEGORIES:Classes & Groups,Peer Recovery,Peer Recovery,Recovery Coaching,Recovery Community Center,Substance Abuse,Substance Abuse Recovery
END:VEVENT
BEGIN:VEVENT
DTSTART;TZID=America/Detroit:20280605T100000
DTEND;TZID=America/Detroit:20280605T110000
DTSTAMP:20260424T235801
CREATED:20260210T175836Z
LAST-MODIFIED:20260310T164240Z
UID:10039612-1843812000-1843815600@www.careofsem.com
SUMMARY:Living in Recovery
DESCRIPTION:Join a peer-led group that explores strategies for strengthening recovery. Men and women welcome. \nThis group is held at the CARE offices. \n 
URL:https://www.careofsem.com/event/living-in-recovery-29-2-3-2-2/2028-06-05/
LOCATION:CARE Office\, 18441 Utica Rd\, Roseville\, MI\, 48066\, United States
CATEGORIES:Classes & Groups,Peer Recovery,Peer Recovery,Recovery Coaching,Recovery Community Center,Substance Abuse,Substance Abuse Recovery
ATTACH;FMTTYPE=image/jpeg:https://www.careofsem.com/wp-content/uploads/2026/02/Living-in-Recovery.jpg
END:VEVENT
BEGIN:VEVENT
DTSTART;TZID=America/Detroit:20280606T100000
DTEND;TZID=America/Detroit:20280606T110000
DTSTAMP:20260424T235801
CREATED:20260210T180441Z
LAST-MODIFIED:20260210T180442Z
UID:10039351-1843898400-1843902000@www.careofsem.com
SUMMARY:Living in Recovery
DESCRIPTION:Join a peer-led group that explores strategies for strengthening recovery. Men and women welcome. \nThis group is held at the CARE offices. \n 
URL:https://www.careofsem.com/event/living-in-recovery-29-2-2-2-2/2028-06-06/
LOCATION:CARE Office\, 18441 Utica Rd\, Roseville\, MI\, 48066\, United States
CATEGORIES:Classes & Groups,Peer Recovery,Peer Recovery,Recovery Coaching,Recovery Community Center,Substance Abuse,Substance Abuse Recovery
END:VEVENT
BEGIN:VEVENT
DTSTART;TZID=America/Detroit:20280612T100000
DTEND;TZID=America/Detroit:20280612T110000
DTSTAMP:20260424T235801
CREATED:20260210T175836Z
LAST-MODIFIED:20260310T164240Z
UID:10039613-1844416800-1844420400@www.careofsem.com
SUMMARY:Living in Recovery
DESCRIPTION:Join a peer-led group that explores strategies for strengthening recovery. Men and women welcome. \nThis group is held at the CARE offices. \n 
URL:https://www.careofsem.com/event/living-in-recovery-29-2-3-2-2/2028-06-12/
LOCATION:CARE Office\, 18441 Utica Rd\, Roseville\, MI\, 48066\, United States
CATEGORIES:Classes & Groups,Peer Recovery,Peer Recovery,Recovery Coaching,Recovery Community Center,Substance Abuse,Substance Abuse Recovery
ATTACH;FMTTYPE=image/jpeg:https://www.careofsem.com/wp-content/uploads/2026/02/Living-in-Recovery.jpg
END:VEVENT
BEGIN:VEVENT
DTSTART;TZID=America/Detroit:20280613T100000
DTEND;TZID=America/Detroit:20280613T110000
DTSTAMP:20260424T235801
CREATED:20260210T180441Z
LAST-MODIFIED:20260210T180442Z
UID:10039352-1844503200-1844506800@www.careofsem.com
SUMMARY:Living in Recovery
DESCRIPTION:Join a peer-led group that explores strategies for strengthening recovery. Men and women welcome. \nThis group is held at the CARE offices. \n 
URL:https://www.careofsem.com/event/living-in-recovery-29-2-2-2-2/2028-06-13/
LOCATION:CARE Office\, 18441 Utica Rd\, Roseville\, MI\, 48066\, United States
CATEGORIES:Classes & Groups,Peer Recovery,Peer Recovery,Recovery Coaching,Recovery Community Center,Substance Abuse,Substance Abuse Recovery
END:VEVENT
BEGIN:VEVENT
DTSTART;TZID=America/Detroit:20280619T100000
DTEND;TZID=America/Detroit:20280619T110000
DTSTAMP:20260424T235801
CREATED:20260210T175836Z
LAST-MODIFIED:20260310T164240Z
UID:10039614-1845021600-1845025200@www.careofsem.com
SUMMARY:Living in Recovery
DESCRIPTION:Join a peer-led group that explores strategies for strengthening recovery. Men and women welcome. \nThis group is held at the CARE offices. \n 
URL:https://www.careofsem.com/event/living-in-recovery-29-2-3-2-2/2028-06-19/
LOCATION:CARE Office\, 18441 Utica Rd\, Roseville\, MI\, 48066\, United States
CATEGORIES:Classes & Groups,Peer Recovery,Peer Recovery,Recovery Coaching,Recovery Community Center,Substance Abuse,Substance Abuse Recovery
ATTACH;FMTTYPE=image/jpeg:https://www.careofsem.com/wp-content/uploads/2026/02/Living-in-Recovery.jpg
END:VEVENT
BEGIN:VEVENT
DTSTART;TZID=America/Detroit:20280620T100000
DTEND;TZID=America/Detroit:20280620T110000
DTSTAMP:20260424T235801
CREATED:20260210T180441Z
LAST-MODIFIED:20260210T180442Z
UID:10039353-1845108000-1845111600@www.careofsem.com
SUMMARY:Living in Recovery
DESCRIPTION:Join a peer-led group that explores strategies for strengthening recovery. Men and women welcome. \nThis group is held at the CARE offices. \n 
URL:https://www.careofsem.com/event/living-in-recovery-29-2-2-2-2/2028-06-20/
LOCATION:CARE Office\, 18441 Utica Rd\, Roseville\, MI\, 48066\, United States
CATEGORIES:Classes & Groups,Peer Recovery,Peer Recovery,Recovery Coaching,Recovery Community Center,Substance Abuse,Substance Abuse Recovery
END:VEVENT
BEGIN:VEVENT
DTSTART;TZID=America/Detroit:20280626T100000
DTEND;TZID=America/Detroit:20280626T110000
DTSTAMP:20260424T235801
CREATED:20260210T175836Z
LAST-MODIFIED:20260310T164240Z
UID:10039615-1845626400-1845630000@www.careofsem.com
SUMMARY:Living in Recovery
DESCRIPTION:Join a peer-led group that explores strategies for strengthening recovery. Men and women welcome. \nThis group is held at the CARE offices. \n 
URL:https://www.careofsem.com/event/living-in-recovery-29-2-3-2-2/2028-06-26/
LOCATION:CARE Office\, 18441 Utica Rd\, Roseville\, MI\, 48066\, United States
CATEGORIES:Classes & Groups,Peer Recovery,Peer Recovery,Recovery Coaching,Recovery Community Center,Substance Abuse,Substance Abuse Recovery
ATTACH;FMTTYPE=image/jpeg:https://www.careofsem.com/wp-content/uploads/2026/02/Living-in-Recovery.jpg
END:VEVENT
BEGIN:VEVENT
DTSTART;TZID=America/Detroit:20280627T100000
DTEND;TZID=America/Detroit:20280627T110000
DTSTAMP:20260424T235801
CREATED:20260210T180441Z
LAST-MODIFIED:20260210T180442Z
UID:10039354-1845712800-1845716400@www.careofsem.com
SUMMARY:Living in Recovery
DESCRIPTION:Join a peer-led group that explores strategies for strengthening recovery. Men and women welcome. \nThis group is held at the CARE offices. \n 
URL:https://www.careofsem.com/event/living-in-recovery-29-2-2-2-2/2028-06-27/
LOCATION:CARE Office\, 18441 Utica Rd\, Roseville\, MI\, 48066\, United States
CATEGORIES:Classes & Groups,Peer Recovery,Peer Recovery,Recovery Coaching,Recovery Community Center,Substance Abuse,Substance Abuse Recovery
END:VEVENT
BEGIN:VEVENT
DTSTART;TZID=America/Detroit:20280703T100000
DTEND;TZID=America/Detroit:20280703T110000
DTSTAMP:20260424T235801
CREATED:20260210T175836Z
LAST-MODIFIED:20260310T164240Z
UID:10039616-1846231200-1846234800@www.careofsem.com
SUMMARY:Living in Recovery
DESCRIPTION:Join a peer-led group that explores strategies for strengthening recovery. Men and women welcome. \nThis group is held at the CARE offices. \n 
URL:https://www.careofsem.com/event/living-in-recovery-29-2-3-2-2/2028-07-03/
LOCATION:CARE Office\, 18441 Utica Rd\, Roseville\, MI\, 48066\, United States
CATEGORIES:Classes & Groups,Peer Recovery,Peer Recovery,Recovery Coaching,Recovery Community Center,Substance Abuse,Substance Abuse Recovery
ATTACH;FMTTYPE=image/jpeg:https://www.careofsem.com/wp-content/uploads/2026/02/Living-in-Recovery.jpg
END:VEVENT
BEGIN:VEVENT
DTSTART;TZID=America/Detroit:20280704T100000
DTEND;TZID=America/Detroit:20280704T110000
DTSTAMP:20260424T235801
CREATED:20260210T180441Z
LAST-MODIFIED:20260210T180442Z
UID:10039355-1846317600-1846321200@www.careofsem.com
SUMMARY:Living in Recovery
DESCRIPTION:Join a peer-led group that explores strategies for strengthening recovery. Men and women welcome. \nThis group is held at the CARE offices. \n 
URL:https://www.careofsem.com/event/living-in-recovery-29-2-2-2-2/2028-07-04/
LOCATION:CARE Office\, 18441 Utica Rd\, Roseville\, MI\, 48066\, United States
CATEGORIES:Classes & Groups,Peer Recovery,Peer Recovery,Recovery Coaching,Recovery Community Center,Substance Abuse,Substance Abuse Recovery
END:VEVENT
BEGIN:VEVENT
DTSTART;TZID=America/Detroit:20280710T100000
DTEND;TZID=America/Detroit:20280710T110000
DTSTAMP:20260424T235801
CREATED:20260210T175836Z
LAST-MODIFIED:20260310T164240Z
UID:10039617-1846836000-1846839600@www.careofsem.com
SUMMARY:Living in Recovery
DESCRIPTION:Join a peer-led group that explores strategies for strengthening recovery. Men and women welcome. \nThis group is held at the CARE offices. \n 
URL:https://www.careofsem.com/event/living-in-recovery-29-2-3-2-2/2028-07-10/
LOCATION:CARE Office\, 18441 Utica Rd\, Roseville\, MI\, 48066\, United States
CATEGORIES:Classes & Groups,Peer Recovery,Peer Recovery,Recovery Coaching,Recovery Community Center,Substance Abuse,Substance Abuse Recovery
ATTACH;FMTTYPE=image/jpeg:https://www.careofsem.com/wp-content/uploads/2026/02/Living-in-Recovery.jpg
END:VEVENT
BEGIN:VEVENT
DTSTART;TZID=America/Detroit:20280711T100000
DTEND;TZID=America/Detroit:20280711T110000
DTSTAMP:20260424T235801
CREATED:20260210T180441Z
LAST-MODIFIED:20260210T180442Z
UID:10039356-1846922400-1846926000@www.careofsem.com
SUMMARY:Living in Recovery
DESCRIPTION:Join a peer-led group that explores strategies for strengthening recovery. Men and women welcome. \nThis group is held at the CARE offices. \n 
URL:https://www.careofsem.com/event/living-in-recovery-29-2-2-2-2/2028-07-11/
LOCATION:CARE Office\, 18441 Utica Rd\, Roseville\, MI\, 48066\, United States
CATEGORIES:Classes & Groups,Peer Recovery,Peer Recovery,Recovery Coaching,Recovery Community Center,Substance Abuse,Substance Abuse Recovery
END:VEVENT
BEGIN:VEVENT
DTSTART;TZID=America/Detroit:20280717T100000
DTEND;TZID=America/Detroit:20280717T110000
DTSTAMP:20260424T235801
CREATED:20260210T175836Z
LAST-MODIFIED:20260310T164240Z
UID:10039618-1847440800-1847444400@www.careofsem.com
SUMMARY:Living in Recovery
DESCRIPTION:Join a peer-led group that explores strategies for strengthening recovery. Men and women welcome. \nThis group is held at the CARE offices. \n 
URL:https://www.careofsem.com/event/living-in-recovery-29-2-3-2-2/2028-07-17/
LOCATION:CARE Office\, 18441 Utica Rd\, Roseville\, MI\, 48066\, United States
CATEGORIES:Classes & Groups,Peer Recovery,Peer Recovery,Recovery Coaching,Recovery Community Center,Substance Abuse,Substance Abuse Recovery
ATTACH;FMTTYPE=image/jpeg:https://www.careofsem.com/wp-content/uploads/2026/02/Living-in-Recovery.jpg
END:VEVENT
BEGIN:VEVENT
DTSTART;TZID=America/Detroit:20280718T100000
DTEND;TZID=America/Detroit:20280718T110000
DTSTAMP:20260424T235801
CREATED:20260210T180441Z
LAST-MODIFIED:20260210T180442Z
UID:10039357-1847527200-1847530800@www.careofsem.com
SUMMARY:Living in Recovery
DESCRIPTION:Join a peer-led group that explores strategies for strengthening recovery. Men and women welcome. \nThis group is held at the CARE offices. \n 
URL:https://www.careofsem.com/event/living-in-recovery-29-2-2-2-2/2028-07-18/
LOCATION:CARE Office\, 18441 Utica Rd\, Roseville\, MI\, 48066\, United States
CATEGORIES:Classes & Groups,Peer Recovery,Peer Recovery,Recovery Coaching,Recovery Community Center,Substance Abuse,Substance Abuse Recovery
END:VEVENT
BEGIN:VEVENT
DTSTART;TZID=America/Detroit:20280724T100000
DTEND;TZID=America/Detroit:20280724T110000
DTSTAMP:20260424T235801
CREATED:20260210T175836Z
LAST-MODIFIED:20260310T164240Z
UID:10039619-1848045600-1848049200@www.careofsem.com
SUMMARY:Living in Recovery
DESCRIPTION:Join a peer-led group that explores strategies for strengthening recovery. Men and women welcome. \nThis group is held at the CARE offices. \n 
URL:https://www.careofsem.com/event/living-in-recovery-29-2-3-2-2/2028-07-24/
LOCATION:CARE Office\, 18441 Utica Rd\, Roseville\, MI\, 48066\, United States
CATEGORIES:Classes & Groups,Peer Recovery,Peer Recovery,Recovery Coaching,Recovery Community Center,Substance Abuse,Substance Abuse Recovery
ATTACH;FMTTYPE=image/jpeg:https://www.careofsem.com/wp-content/uploads/2026/02/Living-in-Recovery.jpg
END:VEVENT
BEGIN:VEVENT
DTSTART;TZID=America/Detroit:20280725T100000
DTEND;TZID=America/Detroit:20280725T110000
DTSTAMP:20260424T235801
CREATED:20260210T180441Z
LAST-MODIFIED:20260210T180442Z
UID:10039358-1848132000-1848135600@www.careofsem.com
SUMMARY:Living in Recovery
DESCRIPTION:Join a peer-led group that explores strategies for strengthening recovery. Men and women welcome. \nThis group is held at the CARE offices. \n 
URL:https://www.careofsem.com/event/living-in-recovery-29-2-2-2-2/2028-07-25/
LOCATION:CARE Office\, 18441 Utica Rd\, Roseville\, MI\, 48066\, United States
CATEGORIES:Classes & Groups,Peer Recovery,Peer Recovery,Recovery Coaching,Recovery Community Center,Substance Abuse,Substance Abuse Recovery
END:VEVENT
BEGIN:VEVENT
DTSTART;TZID=America/Detroit:20280731T100000
DTEND;TZID=America/Detroit:20280731T110000
DTSTAMP:20260424T235801
CREATED:20260210T175836Z
LAST-MODIFIED:20260310T164240Z
UID:10039620-1848650400-1848654000@www.careofsem.com
SUMMARY:Living in Recovery
DESCRIPTION:Join a peer-led group that explores strategies for strengthening recovery. Men and women welcome. \nThis group is held at the CARE offices. \n 
URL:https://www.careofsem.com/event/living-in-recovery-29-2-3-2-2/2028-07-31/
LOCATION:CARE Office\, 18441 Utica Rd\, Roseville\, MI\, 48066\, United States
CATEGORIES:Classes & Groups,Peer Recovery,Peer Recovery,Recovery Coaching,Recovery Community Center,Substance Abuse,Substance Abuse Recovery
ATTACH;FMTTYPE=image/jpeg:https://www.careofsem.com/wp-content/uploads/2026/02/Living-in-Recovery.jpg
END:VEVENT
BEGIN:VEVENT
DTSTART;TZID=America/Detroit:20280801T100000
DTEND;TZID=America/Detroit:20280801T110000
DTSTAMP:20260424T235801
CREATED:20260210T180441Z
LAST-MODIFIED:20260210T180442Z
UID:10039359-1848736800-1848740400@www.careofsem.com
SUMMARY:Living in Recovery
DESCRIPTION:Join a peer-led group that explores strategies for strengthening recovery. Men and women welcome. \nThis group is held at the CARE offices. \n 
URL:https://www.careofsem.com/event/living-in-recovery-29-2-2-2-2/2028-08-01/
LOCATION:CARE Office\, 18441 Utica Rd\, Roseville\, MI\, 48066\, United States
CATEGORIES:Classes & Groups,Peer Recovery,Peer Recovery,Recovery Coaching,Recovery Community Center,Substance Abuse,Substance Abuse Recovery
END:VEVENT
BEGIN:VEVENT
DTSTART;TZID=America/Detroit:20280807T100000
DTEND;TZID=America/Detroit:20280807T110000
DTSTAMP:20260424T235801
CREATED:20260210T175836Z
LAST-MODIFIED:20260310T164240Z
UID:10039621-1849255200-1849258800@www.careofsem.com
SUMMARY:Living in Recovery
DESCRIPTION:Join a peer-led group that explores strategies for strengthening recovery. Men and women welcome. \nThis group is held at the CARE offices. \n 
URL:https://www.careofsem.com/event/living-in-recovery-29-2-3-2-2/2028-08-07/
LOCATION:CARE Office\, 18441 Utica Rd\, Roseville\, MI\, 48066\, United States
CATEGORIES:Classes & Groups,Peer Recovery,Peer Recovery,Recovery Coaching,Recovery Community Center,Substance Abuse,Substance Abuse Recovery
ATTACH;FMTTYPE=image/jpeg:https://www.careofsem.com/wp-content/uploads/2026/02/Living-in-Recovery.jpg
END:VEVENT
BEGIN:VEVENT
DTSTART;TZID=America/Detroit:20280808T100000
DTEND;TZID=America/Detroit:20280808T110000
DTSTAMP:20260424T235801
CREATED:20260210T180441Z
LAST-MODIFIED:20260210T180442Z
UID:10039360-1849341600-1849345200@www.careofsem.com
SUMMARY:Living in Recovery
DESCRIPTION:Join a peer-led group that explores strategies for strengthening recovery. Men and women welcome. \nThis group is held at the CARE offices. \n 
URL:https://www.careofsem.com/event/living-in-recovery-29-2-2-2-2/2028-08-08/
LOCATION:CARE Office\, 18441 Utica Rd\, Roseville\, MI\, 48066\, United States
CATEGORIES:Classes & Groups,Peer Recovery,Peer Recovery,Recovery Coaching,Recovery Community Center,Substance Abuse,Substance Abuse Recovery
END:VEVENT
END:VCALENDAR