BEGIN:VCALENDAR
VERSION:2.0
PRODID:-//CARE of Southeastern Michigan - ECPv6.15.20//NONSGML v1.0//EN
CALSCALE:GREGORIAN
METHOD:PUBLISH
X-WR-CALNAME:CARE of Southeastern Michigan
X-ORIGINAL-URL:https://www.careofsem.com
X-WR-CALDESC:Events for CARE of Southeastern Michigan
REFRESH-INTERVAL;VALUE=DURATION:PT1H
X-Robots-Tag:noindex
X-PUBLISHED-TTL:PT1H
BEGIN:VTIMEZONE
TZID:America/Detroit
BEGIN:DAYLIGHT
TZOFFSETFROM:-0500
TZOFFSETTO:-0400
TZNAME:EDT
DTSTART:20270314T070000
END:DAYLIGHT
BEGIN:STANDARD
TZOFFSETFROM:-0400
TZOFFSETTO:-0500
TZNAME:EST
DTSTART:20271107T060000
END:STANDARD
BEGIN:DAYLIGHT
TZOFFSETFROM:-0500
TZOFFSETTO:-0400
TZNAME:EDT
DTSTART:20280312T070000
END:DAYLIGHT
BEGIN:STANDARD
TZOFFSETFROM:-0400
TZOFFSETTO:-0500
TZNAME:EST
DTSTART:20281105T060000
END:STANDARD
BEGIN:DAYLIGHT
TZOFFSETFROM:-0500
TZOFFSETTO:-0400
TZNAME:EDT
DTSTART:20290311T070000
END:DAYLIGHT
BEGIN:STANDARD
TZOFFSETFROM:-0400
TZOFFSETTO:-0500
TZNAME:EST
DTSTART:20291104T060000
END:STANDARD
END:VTIMEZONE
BEGIN:VEVENT
DTSTART;TZID=America/Detroit:20280221T100000
DTEND;TZID=America/Detroit:20280221T110000
DTSTAMP:20260424T202854
CREATED:20260210T175836Z
LAST-MODIFIED:20260310T164240Z
UID:10039597-1834740000-1834743600@www.careofsem.com
SUMMARY:Living in Recovery
DESCRIPTION:Join a peer-led group that explores strategies for strengthening recovery. Men and women welcome. \nThis group is held at the CARE offices. \n 
URL:https://www.careofsem.com/event/living-in-recovery-29-2-3-2-2/2028-02-21/
LOCATION:CARE Office\, 18441 Utica Rd\, Roseville\, MI\, 48066\, United States
CATEGORIES:Classes & Groups,Peer Recovery,Peer Recovery,Recovery Coaching,Recovery Community Center,Substance Abuse,Substance Abuse Recovery
ATTACH;FMTTYPE=image/jpeg:https://www.careofsem.com/wp-content/uploads/2026/02/Living-in-Recovery.jpg
END:VEVENT
BEGIN:VEVENT
DTSTART;TZID=America/Detroit:20280222T100000
DTEND;TZID=America/Detroit:20280222T110000
DTSTAMP:20260424T202854
CREATED:20260210T180441Z
LAST-MODIFIED:20260210T180442Z
UID:10039336-1834826400-1834830000@www.careofsem.com
SUMMARY:Living in Recovery
DESCRIPTION:Join a peer-led group that explores strategies for strengthening recovery. Men and women welcome. \nThis group is held at the CARE offices. \n 
URL:https://www.careofsem.com/event/living-in-recovery-29-2-2-2-2/2028-02-22/
LOCATION:CARE Office\, 18441 Utica Rd\, Roseville\, MI\, 48066\, United States
CATEGORIES:Classes & Groups,Peer Recovery,Peer Recovery,Recovery Coaching,Recovery Community Center,Substance Abuse,Substance Abuse Recovery
END:VEVENT
BEGIN:VEVENT
DTSTART;TZID=America/Detroit:20280228T100000
DTEND;TZID=America/Detroit:20280228T110000
DTSTAMP:20260424T202854
CREATED:20260210T175836Z
LAST-MODIFIED:20260310T164240Z
UID:10039598-1835344800-1835348400@www.careofsem.com
SUMMARY:Living in Recovery
DESCRIPTION:Join a peer-led group that explores strategies for strengthening recovery. Men and women welcome. \nThis group is held at the CARE offices. \n 
URL:https://www.careofsem.com/event/living-in-recovery-29-2-3-2-2/2028-02-28/
LOCATION:CARE Office\, 18441 Utica Rd\, Roseville\, MI\, 48066\, United States
CATEGORIES:Classes & Groups,Peer Recovery,Peer Recovery,Recovery Coaching,Recovery Community Center,Substance Abuse,Substance Abuse Recovery
ATTACH;FMTTYPE=image/jpeg:https://www.careofsem.com/wp-content/uploads/2026/02/Living-in-Recovery.jpg
END:VEVENT
BEGIN:VEVENT
DTSTART;TZID=America/Detroit:20280229T100000
DTEND;TZID=America/Detroit:20280229T110000
DTSTAMP:20260424T202854
CREATED:20260210T180441Z
LAST-MODIFIED:20260210T180442Z
UID:10039337-1835431200-1835434800@www.careofsem.com
SUMMARY:Living in Recovery
DESCRIPTION:Join a peer-led group that explores strategies for strengthening recovery. Men and women welcome. \nThis group is held at the CARE offices. \n 
URL:https://www.careofsem.com/event/living-in-recovery-29-2-2-2-2/2028-02-29/
LOCATION:CARE Office\, 18441 Utica Rd\, Roseville\, MI\, 48066\, United States
CATEGORIES:Classes & Groups,Peer Recovery,Peer Recovery,Recovery Coaching,Recovery Community Center,Substance Abuse,Substance Abuse Recovery
END:VEVENT
BEGIN:VEVENT
DTSTART;TZID=America/Detroit:20280306T100000
DTEND;TZID=America/Detroit:20280306T110000
DTSTAMP:20260424T202854
CREATED:20260210T175836Z
LAST-MODIFIED:20260310T164240Z
UID:10039599-1835949600-1835953200@www.careofsem.com
SUMMARY:Living in Recovery
DESCRIPTION:Join a peer-led group that explores strategies for strengthening recovery. Men and women welcome. \nThis group is held at the CARE offices. \n 
URL:https://www.careofsem.com/event/living-in-recovery-29-2-3-2-2/2028-03-06/
LOCATION:CARE Office\, 18441 Utica Rd\, Roseville\, MI\, 48066\, United States
CATEGORIES:Classes & Groups,Peer Recovery,Peer Recovery,Recovery Coaching,Recovery Community Center,Substance Abuse,Substance Abuse Recovery
ATTACH;FMTTYPE=image/jpeg:https://www.careofsem.com/wp-content/uploads/2026/02/Living-in-Recovery.jpg
END:VEVENT
BEGIN:VEVENT
DTSTART;TZID=America/Detroit:20280307T100000
DTEND;TZID=America/Detroit:20280307T110000
DTSTAMP:20260424T202854
CREATED:20260210T180441Z
LAST-MODIFIED:20260210T180442Z
UID:10039338-1836036000-1836039600@www.careofsem.com
SUMMARY:Living in Recovery
DESCRIPTION:Join a peer-led group that explores strategies for strengthening recovery. Men and women welcome. \nThis group is held at the CARE offices. \n 
URL:https://www.careofsem.com/event/living-in-recovery-29-2-2-2-2/2028-03-07/
LOCATION:CARE Office\, 18441 Utica Rd\, Roseville\, MI\, 48066\, United States
CATEGORIES:Classes & Groups,Peer Recovery,Peer Recovery,Recovery Coaching,Recovery Community Center,Substance Abuse,Substance Abuse Recovery
END:VEVENT
BEGIN:VEVENT
DTSTART;TZID=America/Detroit:20280313T100000
DTEND;TZID=America/Detroit:20280313T110000
DTSTAMP:20260424T202854
CREATED:20260210T175836Z
LAST-MODIFIED:20260310T164240Z
UID:10039600-1836554400-1836558000@www.careofsem.com
SUMMARY:Living in Recovery
DESCRIPTION:Join a peer-led group that explores strategies for strengthening recovery. Men and women welcome. \nThis group is held at the CARE offices. \n 
URL:https://www.careofsem.com/event/living-in-recovery-29-2-3-2-2/2028-03-13/
LOCATION:CARE Office\, 18441 Utica Rd\, Roseville\, MI\, 48066\, United States
CATEGORIES:Classes & Groups,Peer Recovery,Peer Recovery,Recovery Coaching,Recovery Community Center,Substance Abuse,Substance Abuse Recovery
ATTACH;FMTTYPE=image/jpeg:https://www.careofsem.com/wp-content/uploads/2026/02/Living-in-Recovery.jpg
END:VEVENT
BEGIN:VEVENT
DTSTART;TZID=America/Detroit:20280314T100000
DTEND;TZID=America/Detroit:20280314T110000
DTSTAMP:20260424T202854
CREATED:20260210T180441Z
LAST-MODIFIED:20260210T180442Z
UID:10039339-1836640800-1836644400@www.careofsem.com
SUMMARY:Living in Recovery
DESCRIPTION:Join a peer-led group that explores strategies for strengthening recovery. Men and women welcome. \nThis group is held at the CARE offices. \n 
URL:https://www.careofsem.com/event/living-in-recovery-29-2-2-2-2/2028-03-14/
LOCATION:CARE Office\, 18441 Utica Rd\, Roseville\, MI\, 48066\, United States
CATEGORIES:Classes & Groups,Peer Recovery,Peer Recovery,Recovery Coaching,Recovery Community Center,Substance Abuse,Substance Abuse Recovery
END:VEVENT
BEGIN:VEVENT
DTSTART;TZID=America/Detroit:20280320T100000
DTEND;TZID=America/Detroit:20280320T110000
DTSTAMP:20260424T202854
CREATED:20260210T175836Z
LAST-MODIFIED:20260310T164240Z
UID:10039601-1837159200-1837162800@www.careofsem.com
SUMMARY:Living in Recovery
DESCRIPTION:Join a peer-led group that explores strategies for strengthening recovery. Men and women welcome. \nThis group is held at the CARE offices. \n 
URL:https://www.careofsem.com/event/living-in-recovery-29-2-3-2-2/2028-03-20/
LOCATION:CARE Office\, 18441 Utica Rd\, Roseville\, MI\, 48066\, United States
CATEGORIES:Classes & Groups,Peer Recovery,Peer Recovery,Recovery Coaching,Recovery Community Center,Substance Abuse,Substance Abuse Recovery
ATTACH;FMTTYPE=image/jpeg:https://www.careofsem.com/wp-content/uploads/2026/02/Living-in-Recovery.jpg
END:VEVENT
BEGIN:VEVENT
DTSTART;TZID=America/Detroit:20280321T100000
DTEND;TZID=America/Detroit:20280321T110000
DTSTAMP:20260424T202854
CREATED:20260210T180441Z
LAST-MODIFIED:20260210T180442Z
UID:10039340-1837245600-1837249200@www.careofsem.com
SUMMARY:Living in Recovery
DESCRIPTION:Join a peer-led group that explores strategies for strengthening recovery. Men and women welcome. \nThis group is held at the CARE offices. \n 
URL:https://www.careofsem.com/event/living-in-recovery-29-2-2-2-2/2028-03-21/
LOCATION:CARE Office\, 18441 Utica Rd\, Roseville\, MI\, 48066\, United States
CATEGORIES:Classes & Groups,Peer Recovery,Peer Recovery,Recovery Coaching,Recovery Community Center,Substance Abuse,Substance Abuse Recovery
END:VEVENT
BEGIN:VEVENT
DTSTART;TZID=America/Detroit:20280327T100000
DTEND;TZID=America/Detroit:20280327T110000
DTSTAMP:20260424T202854
CREATED:20260210T175836Z
LAST-MODIFIED:20260310T164240Z
UID:10039602-1837764000-1837767600@www.careofsem.com
SUMMARY:Living in Recovery
DESCRIPTION:Join a peer-led group that explores strategies for strengthening recovery. Men and women welcome. \nThis group is held at the CARE offices. \n 
URL:https://www.careofsem.com/event/living-in-recovery-29-2-3-2-2/2028-03-27/
LOCATION:CARE Office\, 18441 Utica Rd\, Roseville\, MI\, 48066\, United States
CATEGORIES:Classes & Groups,Peer Recovery,Peer Recovery,Recovery Coaching,Recovery Community Center,Substance Abuse,Substance Abuse Recovery
ATTACH;FMTTYPE=image/jpeg:https://www.careofsem.com/wp-content/uploads/2026/02/Living-in-Recovery.jpg
END:VEVENT
BEGIN:VEVENT
DTSTART;TZID=America/Detroit:20280328T100000
DTEND;TZID=America/Detroit:20280328T110000
DTSTAMP:20260424T202854
CREATED:20260210T180441Z
LAST-MODIFIED:20260210T180442Z
UID:10039341-1837850400-1837854000@www.careofsem.com
SUMMARY:Living in Recovery
DESCRIPTION:Join a peer-led group that explores strategies for strengthening recovery. Men and women welcome. \nThis group is held at the CARE offices. \n 
URL:https://www.careofsem.com/event/living-in-recovery-29-2-2-2-2/2028-03-28/
LOCATION:CARE Office\, 18441 Utica Rd\, Roseville\, MI\, 48066\, United States
CATEGORIES:Classes & Groups,Peer Recovery,Peer Recovery,Recovery Coaching,Recovery Community Center,Substance Abuse,Substance Abuse Recovery
END:VEVENT
BEGIN:VEVENT
DTSTART;TZID=America/Detroit:20280403T100000
DTEND;TZID=America/Detroit:20280403T110000
DTSTAMP:20260424T202854
CREATED:20260210T175836Z
LAST-MODIFIED:20260310T164240Z
UID:10039603-1838368800-1838372400@www.careofsem.com
SUMMARY:Living in Recovery
DESCRIPTION:Join a peer-led group that explores strategies for strengthening recovery. Men and women welcome. \nThis group is held at the CARE offices. \n 
URL:https://www.careofsem.com/event/living-in-recovery-29-2-3-2-2/2028-04-03/
LOCATION:CARE Office\, 18441 Utica Rd\, Roseville\, MI\, 48066\, United States
CATEGORIES:Classes & Groups,Peer Recovery,Peer Recovery,Recovery Coaching,Recovery Community Center,Substance Abuse,Substance Abuse Recovery
ATTACH;FMTTYPE=image/jpeg:https://www.careofsem.com/wp-content/uploads/2026/02/Living-in-Recovery.jpg
END:VEVENT
BEGIN:VEVENT
DTSTART;TZID=America/Detroit:20280404T100000
DTEND;TZID=America/Detroit:20280404T110000
DTSTAMP:20260424T202854
CREATED:20260210T180441Z
LAST-MODIFIED:20260210T180442Z
UID:10039342-1838455200-1838458800@www.careofsem.com
SUMMARY:Living in Recovery
DESCRIPTION:Join a peer-led group that explores strategies for strengthening recovery. Men and women welcome. \nThis group is held at the CARE offices. \n 
URL:https://www.careofsem.com/event/living-in-recovery-29-2-2-2-2/2028-04-04/
LOCATION:CARE Office\, 18441 Utica Rd\, Roseville\, MI\, 48066\, United States
CATEGORIES:Classes & Groups,Peer Recovery,Peer Recovery,Recovery Coaching,Recovery Community Center,Substance Abuse,Substance Abuse Recovery
END:VEVENT
BEGIN:VEVENT
DTSTART;TZID=America/Detroit:20280410T100000
DTEND;TZID=America/Detroit:20280410T110000
DTSTAMP:20260424T202854
CREATED:20260210T175836Z
LAST-MODIFIED:20260310T164240Z
UID:10039604-1838973600-1838977200@www.careofsem.com
SUMMARY:Living in Recovery
DESCRIPTION:Join a peer-led group that explores strategies for strengthening recovery. Men and women welcome. \nThis group is held at the CARE offices. \n 
URL:https://www.careofsem.com/event/living-in-recovery-29-2-3-2-2/2028-04-10/
LOCATION:CARE Office\, 18441 Utica Rd\, Roseville\, MI\, 48066\, United States
CATEGORIES:Classes & Groups,Peer Recovery,Peer Recovery,Recovery Coaching,Recovery Community Center,Substance Abuse,Substance Abuse Recovery
ATTACH;FMTTYPE=image/jpeg:https://www.careofsem.com/wp-content/uploads/2026/02/Living-in-Recovery.jpg
END:VEVENT
BEGIN:VEVENT
DTSTART;TZID=America/Detroit:20280411T100000
DTEND;TZID=America/Detroit:20280411T110000
DTSTAMP:20260424T202854
CREATED:20260210T180441Z
LAST-MODIFIED:20260210T180442Z
UID:10039343-1839060000-1839063600@www.careofsem.com
SUMMARY:Living in Recovery
DESCRIPTION:Join a peer-led group that explores strategies for strengthening recovery. Men and women welcome. \nThis group is held at the CARE offices. \n 
URL:https://www.careofsem.com/event/living-in-recovery-29-2-2-2-2/2028-04-11/
LOCATION:CARE Office\, 18441 Utica Rd\, Roseville\, MI\, 48066\, United States
CATEGORIES:Classes & Groups,Peer Recovery,Peer Recovery,Recovery Coaching,Recovery Community Center,Substance Abuse,Substance Abuse Recovery
END:VEVENT
BEGIN:VEVENT
DTSTART;TZID=America/Detroit:20280417T100000
DTEND;TZID=America/Detroit:20280417T110000
DTSTAMP:20260424T202854
CREATED:20260210T175836Z
LAST-MODIFIED:20260310T164240Z
UID:10039605-1839578400-1839582000@www.careofsem.com
SUMMARY:Living in Recovery
DESCRIPTION:Join a peer-led group that explores strategies for strengthening recovery. Men and women welcome. \nThis group is held at the CARE offices. \n 
URL:https://www.careofsem.com/event/living-in-recovery-29-2-3-2-2/2028-04-17/
LOCATION:CARE Office\, 18441 Utica Rd\, Roseville\, MI\, 48066\, United States
CATEGORIES:Classes & Groups,Peer Recovery,Peer Recovery,Recovery Coaching,Recovery Community Center,Substance Abuse,Substance Abuse Recovery
ATTACH;FMTTYPE=image/jpeg:https://www.careofsem.com/wp-content/uploads/2026/02/Living-in-Recovery.jpg
END:VEVENT
BEGIN:VEVENT
DTSTART;TZID=America/Detroit:20280418T100000
DTEND;TZID=America/Detroit:20280418T110000
DTSTAMP:20260424T202854
CREATED:20260210T180441Z
LAST-MODIFIED:20260210T180442Z
UID:10039344-1839664800-1839668400@www.careofsem.com
SUMMARY:Living in Recovery
DESCRIPTION:Join a peer-led group that explores strategies for strengthening recovery. Men and women welcome. \nThis group is held at the CARE offices. \n 
URL:https://www.careofsem.com/event/living-in-recovery-29-2-2-2-2/2028-04-18/
LOCATION:CARE Office\, 18441 Utica Rd\, Roseville\, MI\, 48066\, United States
CATEGORIES:Classes & Groups,Peer Recovery,Peer Recovery,Recovery Coaching,Recovery Community Center,Substance Abuse,Substance Abuse Recovery
END:VEVENT
BEGIN:VEVENT
DTSTART;TZID=America/Detroit:20280424T100000
DTEND;TZID=America/Detroit:20280424T110000
DTSTAMP:20260424T202854
CREATED:20260210T175836Z
LAST-MODIFIED:20260310T164240Z
UID:10039606-1840183200-1840186800@www.careofsem.com
SUMMARY:Living in Recovery
DESCRIPTION:Join a peer-led group that explores strategies for strengthening recovery. Men and women welcome. \nThis group is held at the CARE offices. \n 
URL:https://www.careofsem.com/event/living-in-recovery-29-2-3-2-2/2028-04-24/
LOCATION:CARE Office\, 18441 Utica Rd\, Roseville\, MI\, 48066\, United States
CATEGORIES:Classes & Groups,Peer Recovery,Peer Recovery,Recovery Coaching,Recovery Community Center,Substance Abuse,Substance Abuse Recovery
ATTACH;FMTTYPE=image/jpeg:https://www.careofsem.com/wp-content/uploads/2026/02/Living-in-Recovery.jpg
END:VEVENT
BEGIN:VEVENT
DTSTART;TZID=America/Detroit:20280425T100000
DTEND;TZID=America/Detroit:20280425T110000
DTSTAMP:20260424T202854
CREATED:20260210T180441Z
LAST-MODIFIED:20260210T180442Z
UID:10039345-1840269600-1840273200@www.careofsem.com
SUMMARY:Living in Recovery
DESCRIPTION:Join a peer-led group that explores strategies for strengthening recovery. Men and women welcome. \nThis group is held at the CARE offices. \n 
URL:https://www.careofsem.com/event/living-in-recovery-29-2-2-2-2/2028-04-25/
LOCATION:CARE Office\, 18441 Utica Rd\, Roseville\, MI\, 48066\, United States
CATEGORIES:Classes & Groups,Peer Recovery,Peer Recovery,Recovery Coaching,Recovery Community Center,Substance Abuse,Substance Abuse Recovery
END:VEVENT
BEGIN:VEVENT
DTSTART;TZID=America/Detroit:20280501T100000
DTEND;TZID=America/Detroit:20280501T110000
DTSTAMP:20260424T202854
CREATED:20260210T175836Z
LAST-MODIFIED:20260310T164240Z
UID:10039607-1840788000-1840791600@www.careofsem.com
SUMMARY:Living in Recovery
DESCRIPTION:Join a peer-led group that explores strategies for strengthening recovery. Men and women welcome. \nThis group is held at the CARE offices. \n 
URL:https://www.careofsem.com/event/living-in-recovery-29-2-3-2-2/2028-05-01/
LOCATION:CARE Office\, 18441 Utica Rd\, Roseville\, MI\, 48066\, United States
CATEGORIES:Classes & Groups,Peer Recovery,Peer Recovery,Recovery Coaching,Recovery Community Center,Substance Abuse,Substance Abuse Recovery
ATTACH;FMTTYPE=image/jpeg:https://www.careofsem.com/wp-content/uploads/2026/02/Living-in-Recovery.jpg
END:VEVENT
BEGIN:VEVENT
DTSTART;TZID=America/Detroit:20280502T100000
DTEND;TZID=America/Detroit:20280502T110000
DTSTAMP:20260424T202854
CREATED:20260210T180441Z
LAST-MODIFIED:20260210T180442Z
UID:10039346-1840874400-1840878000@www.careofsem.com
SUMMARY:Living in Recovery
DESCRIPTION:Join a peer-led group that explores strategies for strengthening recovery. Men and women welcome. \nThis group is held at the CARE offices. \n 
URL:https://www.careofsem.com/event/living-in-recovery-29-2-2-2-2/2028-05-02/
LOCATION:CARE Office\, 18441 Utica Rd\, Roseville\, MI\, 48066\, United States
CATEGORIES:Classes & Groups,Peer Recovery,Peer Recovery,Recovery Coaching,Recovery Community Center,Substance Abuse,Substance Abuse Recovery
END:VEVENT
BEGIN:VEVENT
DTSTART;TZID=America/Detroit:20280508T100000
DTEND;TZID=America/Detroit:20280508T110000
DTSTAMP:20260424T202854
CREATED:20260210T175836Z
LAST-MODIFIED:20260310T164240Z
UID:10039608-1841392800-1841396400@www.careofsem.com
SUMMARY:Living in Recovery
DESCRIPTION:Join a peer-led group that explores strategies for strengthening recovery. Men and women welcome. \nThis group is held at the CARE offices. \n 
URL:https://www.careofsem.com/event/living-in-recovery-29-2-3-2-2/2028-05-08/
LOCATION:CARE Office\, 18441 Utica Rd\, Roseville\, MI\, 48066\, United States
CATEGORIES:Classes & Groups,Peer Recovery,Peer Recovery,Recovery Coaching,Recovery Community Center,Substance Abuse,Substance Abuse Recovery
ATTACH;FMTTYPE=image/jpeg:https://www.careofsem.com/wp-content/uploads/2026/02/Living-in-Recovery.jpg
END:VEVENT
BEGIN:VEVENT
DTSTART;TZID=America/Detroit:20280509T100000
DTEND;TZID=America/Detroit:20280509T110000
DTSTAMP:20260424T202854
CREATED:20260210T180441Z
LAST-MODIFIED:20260210T180442Z
UID:10039347-1841479200-1841482800@www.careofsem.com
SUMMARY:Living in Recovery
DESCRIPTION:Join a peer-led group that explores strategies for strengthening recovery. Men and women welcome. \nThis group is held at the CARE offices. \n 
URL:https://www.careofsem.com/event/living-in-recovery-29-2-2-2-2/2028-05-09/
LOCATION:CARE Office\, 18441 Utica Rd\, Roseville\, MI\, 48066\, United States
CATEGORIES:Classes & Groups,Peer Recovery,Peer Recovery,Recovery Coaching,Recovery Community Center,Substance Abuse,Substance Abuse Recovery
END:VEVENT
BEGIN:VEVENT
DTSTART;TZID=America/Detroit:20280515T100000
DTEND;TZID=America/Detroit:20280515T110000
DTSTAMP:20260424T202854
CREATED:20260210T175836Z
LAST-MODIFIED:20260310T164240Z
UID:10039609-1841997600-1842001200@www.careofsem.com
SUMMARY:Living in Recovery
DESCRIPTION:Join a peer-led group that explores strategies for strengthening recovery. Men and women welcome. \nThis group is held at the CARE offices. \n 
URL:https://www.careofsem.com/event/living-in-recovery-29-2-3-2-2/2028-05-15/
LOCATION:CARE Office\, 18441 Utica Rd\, Roseville\, MI\, 48066\, United States
CATEGORIES:Classes & Groups,Peer Recovery,Peer Recovery,Recovery Coaching,Recovery Community Center,Substance Abuse,Substance Abuse Recovery
ATTACH;FMTTYPE=image/jpeg:https://www.careofsem.com/wp-content/uploads/2026/02/Living-in-Recovery.jpg
END:VEVENT
BEGIN:VEVENT
DTSTART;TZID=America/Detroit:20280516T100000
DTEND;TZID=America/Detroit:20280516T110000
DTSTAMP:20260424T202854
CREATED:20260210T180441Z
LAST-MODIFIED:20260210T180442Z
UID:10039348-1842084000-1842087600@www.careofsem.com
SUMMARY:Living in Recovery
DESCRIPTION:Join a peer-led group that explores strategies for strengthening recovery. Men and women welcome. \nThis group is held at the CARE offices. \n 
URL:https://www.careofsem.com/event/living-in-recovery-29-2-2-2-2/2028-05-16/
LOCATION:CARE Office\, 18441 Utica Rd\, Roseville\, MI\, 48066\, United States
CATEGORIES:Classes & Groups,Peer Recovery,Peer Recovery,Recovery Coaching,Recovery Community Center,Substance Abuse,Substance Abuse Recovery
END:VEVENT
BEGIN:VEVENT
DTSTART;TZID=America/Detroit:20280522T100000
DTEND;TZID=America/Detroit:20280522T110000
DTSTAMP:20260424T202854
CREATED:20260210T175836Z
LAST-MODIFIED:20260310T164240Z
UID:10039610-1842602400-1842606000@www.careofsem.com
SUMMARY:Living in Recovery
DESCRIPTION:Join a peer-led group that explores strategies for strengthening recovery. Men and women welcome. \nThis group is held at the CARE offices. \n 
URL:https://www.careofsem.com/event/living-in-recovery-29-2-3-2-2/2028-05-22/
LOCATION:CARE Office\, 18441 Utica Rd\, Roseville\, MI\, 48066\, United States
CATEGORIES:Classes & Groups,Peer Recovery,Peer Recovery,Recovery Coaching,Recovery Community Center,Substance Abuse,Substance Abuse Recovery
ATTACH;FMTTYPE=image/jpeg:https://www.careofsem.com/wp-content/uploads/2026/02/Living-in-Recovery.jpg
END:VEVENT
BEGIN:VEVENT
DTSTART;TZID=America/Detroit:20280523T100000
DTEND;TZID=America/Detroit:20280523T110000
DTSTAMP:20260424T202854
CREATED:20260210T180441Z
LAST-MODIFIED:20260210T180442Z
UID:10039349-1842688800-1842692400@www.careofsem.com
SUMMARY:Living in Recovery
DESCRIPTION:Join a peer-led group that explores strategies for strengthening recovery. Men and women welcome. \nThis group is held at the CARE offices. \n 
URL:https://www.careofsem.com/event/living-in-recovery-29-2-2-2-2/2028-05-23/
LOCATION:CARE Office\, 18441 Utica Rd\, Roseville\, MI\, 48066\, United States
CATEGORIES:Classes & Groups,Peer Recovery,Peer Recovery,Recovery Coaching,Recovery Community Center,Substance Abuse,Substance Abuse Recovery
END:VEVENT
BEGIN:VEVENT
DTSTART;TZID=America/Detroit:20280529T100000
DTEND;TZID=America/Detroit:20280529T110000
DTSTAMP:20260424T202854
CREATED:20260210T175836Z
LAST-MODIFIED:20260310T164240Z
UID:10039611-1843207200-1843210800@www.careofsem.com
SUMMARY:Living in Recovery
DESCRIPTION:Join a peer-led group that explores strategies for strengthening recovery. Men and women welcome. \nThis group is held at the CARE offices. \n 
URL:https://www.careofsem.com/event/living-in-recovery-29-2-3-2-2/2028-05-29/
LOCATION:CARE Office\, 18441 Utica Rd\, Roseville\, MI\, 48066\, United States
CATEGORIES:Classes & Groups,Peer Recovery,Peer Recovery,Recovery Coaching,Recovery Community Center,Substance Abuse,Substance Abuse Recovery
ATTACH;FMTTYPE=image/jpeg:https://www.careofsem.com/wp-content/uploads/2026/02/Living-in-Recovery.jpg
END:VEVENT
BEGIN:VEVENT
DTSTART;TZID=America/Detroit:20280530T100000
DTEND;TZID=America/Detroit:20280530T110000
DTSTAMP:20260424T202854
CREATED:20260210T180441Z
LAST-MODIFIED:20260210T180442Z
UID:10039350-1843293600-1843297200@www.careofsem.com
SUMMARY:Living in Recovery
DESCRIPTION:Join a peer-led group that explores strategies for strengthening recovery. Men and women welcome. \nThis group is held at the CARE offices. \n 
URL:https://www.careofsem.com/event/living-in-recovery-29-2-2-2-2/2028-05-30/
LOCATION:CARE Office\, 18441 Utica Rd\, Roseville\, MI\, 48066\, United States
CATEGORIES:Classes & Groups,Peer Recovery,Peer Recovery,Recovery Coaching,Recovery Community Center,Substance Abuse,Substance Abuse Recovery
END:VEVENT
END:VCALENDAR